BEGIN:VCALENDAR
VERSION:2.0
PRODID:-//Fonteinwerk - ECPv6.6.4.2//NONSGML v1.0//EN
CALSCALE:GREGORIAN
METHOD:PUBLISH
X-ORIGINAL-URL:https://fonteinwerk.nl
X-WR-CALDESC:Evenementen voor Fonteinwerk
REFRESH-INTERVAL;VALUE=DURATION:PT1H
X-Robots-Tag:noindex
X-PUBLISHED-TTL:PT1H
BEGIN:VTIMEZONE
TZID:Europe/Amsterdam
BEGIN:DAYLIGHT
TZOFFSETFROM:+0100
TZOFFSETTO:+0200
TZNAME:CEST
DTSTART:20240331T010000
END:DAYLIGHT
BEGIN:STANDARD
TZOFFSETFROM:+0200
TZOFFSETTO:+0100
TZNAME:CET
DTSTART:20241027T010000
END:STANDARD
END:VTIMEZONE
BEGIN:VEVENT
DTSTART;TZID=Europe/Amsterdam:20240901T113000
DTEND;TZID=Europe/Amsterdam:20240901T130000
DTSTAMP:20260419T201753
CREATED:20240717T172726Z
LAST-MODIFIED:20240725T074215Z
UID:12250-1725190200-1725195600@fonteinwerk.nl
SUMMARY:Fonteindienst - Goede start
DESCRIPTION:In deze dienst wordt de nieuwe Fonteinpredikant Sjaak Biewenga ingezegend. Het thema is “Goede start”. En dat belooft deze feestelijke dienst ook te worden met de muziek van I4U.\nWat heb jij nodig voor een nieuwe start? Zowel privé\, werk of in de kerk? Wanneer je iets nieuws wilt beginnen\, moet je het oude goed afsluiten. Zo kan het niet als ballast met je meegaan. Maar hoe doe je dat? En wie kan je daarbij helpen? Sjaak gaat hier wat dieper op in tijdens de overdenking. \nMogen we uit de rust van de vakantie weer met goede zin beginnen en genieten van deze dienst en het weer samenkomen.Er is kinderdienst en oppas. \nEn na afloop is er koffie\, thee en limonade. Je bent van harte welkom! \nDe Fonteindienst begint om 11.30 uur in de Plantagekerk en is ook te bekijken via CAI TV kanaal 707 of via de website www.pgharderwijk.nl/live-stream (klik op de foto van de Plantagekerk).
URL:https://fonteinwerk.nl/agenda/fonteindienst-goede-start/
LOCATION:Plantagekerk Harderwijk\, Stationslaan 136\, Harderwijk\, Gelderland\, 3841 DC\, Nederland
END:VEVENT
BEGIN:VEVENT
DTSTART;TZID=Europe/Amsterdam:20240908T103000
DTEND;TZID=Europe/Amsterdam:20240908T150000
DTSTAMP:20260419T201753
CREATED:20240820T152906Z
LAST-MODIFIED:20240820T153108Z
UID:12281-1725791400-1725807600@fonteinwerk.nl
SUMMARY:Startzondag - Vragen staat vrij
DESCRIPTION:
URL:https://fonteinwerk.nl/agenda/startzondag-vragen-staat-vrij/
LOCATION:Plantagepark\, Plantagepark\, Harderwijk\, 3841EL\, Nederland
END:VEVENT
BEGIN:VEVENT
DTSTART;TZID=Europe/Amsterdam:20240915T113000
DTEND;TZID=Europe/Amsterdam:20240915T123000
DTSTAMP:20260419T201753
CREATED:20240910T151754Z
LAST-MODIFIED:20240912T184838Z
UID:12330-1726399800-1726403400@fonteinwerk.nl
SUMMARY:Fonteindienst - Geloof buiten de kerk zichtbaar... Hoe dan?
DESCRIPTION:Het nieuwe school- en werkjaar is weer begonnen én het nieuwe kerkelijk jaar is ook weer begonnen. Deze zondag gaan we nadenken hoe we geloof en school/werk beter bij elkaar kunnen houden.\nWilrik Selles neemt ons mee in dit onderwerp aan de hand van een gedeelte uit Johannes 4. We gaan lofprijzen en zingen over de Bron waaruit wij mogen leven met Loïs\, Floor en band. \nNa afloop is er koffie\, thee en limonade. Je bent van harte welkom! \nDe Fonteindienst begint om 11.30 uur in de Plantagekerk en is ook te bekijken via CAI TV kanaal 707 of via de website www.pgharderwijk.nl/live-stream (klik op de foto van de Plantagekerk).
URL:https://fonteinwerk.nl/agenda/fonteindienst-geloof-buiten-de-kerk-zichtbaar-hoe-dan/
LOCATION:Plantagekerk Harderwijk\, Stationslaan 136\, Harderwijk\, Gelderland\, 3841 DC\, Nederland
END:VEVENT
END:VCALENDAR