BEGIN:VCALENDAR
VERSION:2.0
PRODID:-//Fonteinwerk - ECPv6.6.4.2//NONSGML v1.0//EN
CALSCALE:GREGORIAN
METHOD:PUBLISH
X-ORIGINAL-URL:https://fonteinwerk.nl
X-WR-CALDESC:Evenementen voor Fonteinwerk
REFRESH-INTERVAL;VALUE=DURATION:PT1H
X-Robots-Tag:noindex
X-PUBLISHED-TTL:PT1H
BEGIN:VTIMEZONE
TZID:Europe/Amsterdam
BEGIN:DAYLIGHT
TZOFFSETFROM:+0100
TZOFFSETTO:+0200
TZNAME:CEST
DTSTART:20240331T010000
END:DAYLIGHT
BEGIN:STANDARD
TZOFFSETFROM:+0200
TZOFFSETTO:+0100
TZNAME:CET
DTSTART:20241027T010000
END:STANDARD
END:VTIMEZONE
BEGIN:VEVENT
DTSTART;TZID=Europe/Amsterdam:20240707T113000
DTEND;TZID=Europe/Amsterdam:20240707T123000
DTSTAMP:20260420T001357
CREATED:20240620T150725Z
LAST-MODIFIED:20240620T150725Z
UID:12189-1720351800-1720355400@fonteinwerk.nl
SUMMARY:Fonteindienst - Toen ik deze woorden hoorde...
DESCRIPTION:Deze dienst gaat Timo Hogendijk voor. Het thema is: “Toen ik deze woorden hoorde…”. We staan stil bij wat woorden los kunnen maken bij ons en dit doen we naar het voorbeeld van Nehemia. Soms kunnen we zomaar geraakt worden door een woord of een verhaal. We kunnen hier op meerdere manieren mee om gaan; door gelijk God erin te betrekken en doelgericht op pad te gaan\, vertrouwend op God\, of heel rationeel het naast je neer leggen en het niet al te serieus nemen.\nHoe bepaalt jouw relatie met God en je kennis van Zijn Woord\, je omgang met anderen en je keuzes? \nTimo neemt ons mee naar het leven van Nehemia en spiegelt het naar het leven van vandaag. \nHet belooft weer een mooie dienst te worden met de muzikale ondersteuning van I4U. Ook is er kinderdienst en oppas.\nNa afloop is er koffie\, thee en limonade. Je bent van harte welkom! \nDe Fonteindienst begint om 11.30 uur in de Plantagekerk en is ook te bekijken via CAI TV kanaal 707 of via de website www.pgharderwijk.nl/live-stream (klik op de foto van de Plantagekerk).
URL:https://fonteinwerk.nl/agenda/fonteindienst-toen-ik-deze-woorden-hoorde/
LOCATION:Plantagekerk Harderwijk\, Stationslaan 136\, Harderwijk\, Gelderland\, 3841 DC\, Nederland
END:VEVENT
BEGIN:VEVENT
DTSTART;TZID=Europe/Amsterdam:20240714T113000
DTEND;TZID=Europe/Amsterdam:20240714T123000
DTSTAMP:20260420T001357
CREATED:20240625T112856Z
LAST-MODIFIED:20240703T150241Z
UID:12196-1720956600-1720960200@fonteinwerk.nl
SUMMARY:Fonteindienst - Een plek waar de hemel dun is
DESCRIPTION:In de laatste Fonteindienst voor de vakantieperiode zal Martijn Stuiver voorgaan. Het thema is: “Een plek waar de hemel dun is”. \nVakantie is een tijd van ontspanning en recreatie. Re – creatie is te lezen als herschepping. Ook in de vakantie willen we God zoeken en vinden. Maar waar te zoeken: in de drukte of in de rust? Misschien op de plek waar de hemel dun is. Kom en laat je de weg wijzen. \nMuzikale ondersteuning is er van Joyce van Boven & Band. Ook is er kinderdienst en oppas. \nNa afloop is er koffie\, thee en limonade. Je bent van harte welkom! \nDe Fonteindienst begint om 11.30 uur in de Plantagekerk en is ook te bekijken via CAI TV kanaal 707 of via de website www.pgharderwijk.nl/live-stream (klik op de foto van de Plantagekerk). \n\n\nDeel de plek waar de hemel dun is!\n\n\nNa de Fonteindienst van 14 juli willen we ook plekken gaan delen met elkaar waar de hemel dun is. Zo blijven we verbonden en kunnen we elkaar aanmoedigen om mooie plekken te zoeken en te vinden waar we van rust en de aanwezigheid van God kunnen genieten. Het gaat om een bijzondere plek (woest\, mooi\, speciaal) waar je in je vakantie je heel dicht bij God hebt gevoeld. Waar je iets hebt ervaren van Hem. Een plek waar Hij even heel dichtbij was. Of waar je even op adem kon komen. \nHeb je al een vakantie gehad? Dan kun je deze foto van die plek en evt. wat tekst al delen in de WhatsApp groep die we daarvoor aangemaakt hebben. Ga je nog op vakantie dan zien we die graag verschijnen. Ga je niet op vakantie dan zijn er ook plekken in huis of in de wijk waar je Zijn aanwezigheid even hebt gevoeld\, gezien of gehoord. Je berichtje is van harte welkom in deze speciale WhatsApp groep! Doe je mee?
URL:https://fonteinwerk.nl/agenda/fonteindienst-een-plek-waar-de-hemel-dun-is/
LOCATION:Plantagekerk Harderwijk\, Stationslaan 136\, Harderwijk\, Gelderland\, 3841 DC\, Nederland
END:VEVENT
END:VCALENDAR