BEGIN:VCALENDAR
VERSION:2.0
PRODID:-//Fonteinwerk - ECPv6.6.4.2//NONSGML v1.0//EN
CALSCALE:GREGORIAN
METHOD:PUBLISH
X-ORIGINAL-URL:https://fonteinwerk.nl
X-WR-CALDESC:Evenementen voor Fonteinwerk
REFRESH-INTERVAL;VALUE=DURATION:PT1H
X-Robots-Tag:noindex
X-PUBLISHED-TTL:PT1H
BEGIN:VTIMEZONE
TZID:Europe/Amsterdam
BEGIN:DAYLIGHT
TZOFFSETFROM:+0100
TZOFFSETTO:+0200
TZNAME:CEST
DTSTART:20240331T010000
END:DAYLIGHT
BEGIN:STANDARD
TZOFFSETFROM:+0200
TZOFFSETTO:+0100
TZNAME:CET
DTSTART:20241027T010000
END:STANDARD
END:VTIMEZONE
BEGIN:VEVENT
DTSTART;TZID=Europe/Amsterdam:20240407T113000
DTEND;TZID=Europe/Amsterdam:20240407T123000
DTSTAMP:20260420T060653
CREATED:20240320T130639Z
LAST-MODIFIED:20240320T130639Z
UID:11891-1712489400-1712493000@fonteinwerk.nl
SUMMARY:Fonteindienst - Stilzwijgend...
DESCRIPTION:In hoeverre verdraag je het wanneer je God even op afstand voelt? Hoe ga je daar mee om? Hoe ga je daar onderling mee om?\nHet thema van vandaag is “Stilzwijgend…”. Je mag vertrouwen dat je Geloof er altijd is\, zeker wanneer de basis goed is. Gerrit de Haan gaat hier wat dieper op in deze zondag.\nDe muzikale omlijsting wordt verzorgd door I4U. Er is kinderdienst en oppas. En na afloop is er koffie\, thee en limonade. Je bent van harte welkom! \nDe Fonteindienst begint om 11.30 uur in de Plantagekerk en is ook te bekijken via CAI TV kanaal 707 of via de website www.pgharderwijk.nl/live-stream (klik op de foto van de Plantagekerk).
URL:https://fonteinwerk.nl/agenda/fonteindienst-stilzwijgend/
LOCATION:Plantagekerk Harderwijk\, Stationslaan 136\, Harderwijk\, Gelderland\, 3841 DC\, Nederland
END:VEVENT
BEGIN:VEVENT
DTSTART;TZID=Europe/Amsterdam:20240414T113000
DTEND;TZID=Europe/Amsterdam:20240414T123000
DTSTAMP:20260420T060653
CREATED:20240320T130959Z
LAST-MODIFIED:20240320T130959Z
UID:11894-1713094200-1713097800@fonteinwerk.nl
SUMMARY:Fonteindienst - Mis(T)erie
DESCRIPTION:Deze zondag gaat onze Fontein-Predikant Sjaak Biewenga voor in de dienst met het thema “Mis(T)erie”. Psalm 130 staat hierin centraal\, een diepzinnig Psalm waar veel in staat en waar je veel uit kunt halen en betrekken op je eigen leven.\nTevens vieren we het Heilig Avondmaal. \nEmbrace verzorgt de muziek in deze dienst\, en er is kinderdienst en oppas. Na afloop is er koffie\, thee en limonade. Je bent van harte welkom! \nDe Fonteindienst begint om 11.30 uur in de Plantagekerk en is ook te bekijken via CAI TV kanaal 707 of via de website www.pgharderwijk.nl/live-stream (klik op de foto van de Plantagekerk).
URL:https://fonteinwerk.nl/agenda/fonteindienst-misterie/
LOCATION:Plantagekerk Harderwijk\, Stationslaan 136\, Harderwijk\, Gelderland\, 3841 DC\, Nederland
END:VEVENT
BEGIN:VEVENT
DTSTART;TZID=Europe/Amsterdam:20240421T113000
DTEND;TZID=Europe/Amsterdam:20240421T123000
DTSTAMP:20260420T060653
CREATED:20240417T101431Z
LAST-MODIFIED:20240418T194914Z
UID:11977-1713699000-1713702600@fonteinwerk.nl
SUMMARY:Fonteindienst - Loof!
DESCRIPTION:“Loof!” is het thema van de Fonteindienst aanstaande zondag. In deze dienst gaat het over de kracht van het (lof)lied. We lezen Psalm 150 en hierin staat 10x in gebiedende wijs dat we God moeten loven. Dit is geen vrijblijvende oproep; door te loven geef je God eer\, maak je Hem groot en zingen doet iets met je geloofsbeleving.\nDs. Rita Buijs vertelt ons hier meer over. Zij woont in Amersfoort en werkt momenteel als predikant/geestelijk verzorger in een zorgcentrum Laren.\nTwee Fonteiners hebben hun favoriete loflied opgegeven\, zij zullen hier iets over delen en natuurlijk gaan we zingen en loven onder begeleiding van Jocelynn & Dennis! \nNa afloop is er koffie\, thee en limonade. Je bent van harte welkom! \nDe Fonteindienst begint om 11.30 uur in de Plantagekerk en is ook te bekijken via CAI TV kanaal 707 of via de website www.pgharderwijk.nl/live-stream (klik op de foto van de Plantagekerk).
URL:https://fonteinwerk.nl/agenda/fonteindienst-loof/
LOCATION:Plantagekerk Harderwijk\, Stationslaan 136\, Harderwijk\, Gelderland\, 3841 DC\, Nederland
END:VEVENT
END:VCALENDAR