BEGIN:VCALENDAR
VERSION:2.0
PRODID:-//Fonteinwerk - ECPv6.6.4.2//NONSGML v1.0//EN
CALSCALE:GREGORIAN
METHOD:PUBLISH
X-WR-CALNAME:Fonteinwerk
X-ORIGINAL-URL:https://fonteinwerk.nl
X-WR-CALDESC:Evenementen voor Fonteinwerk
REFRESH-INTERVAL;VALUE=DURATION:PT1H
X-Robots-Tag:noindex
X-PUBLISHED-TTL:PT1H
BEGIN:VTIMEZONE
TZID:Europe/Amsterdam
BEGIN:DAYLIGHT
TZOFFSETFROM:+0100
TZOFFSETTO:+0200
TZNAME:CEST
DTSTART:20240331T010000
END:DAYLIGHT
BEGIN:STANDARD
TZOFFSETFROM:+0200
TZOFFSETTO:+0100
TZNAME:CET
DTSTART:20241027T010000
END:STANDARD
END:VTIMEZONE
BEGIN:VEVENT
DTSTART;TZID=Europe/Amsterdam:20240107T113000
DTEND;TZID=Europe/Amsterdam:20240107T123000
DTSTAMP:20260420T112627
CREATED:20231221T111120Z
LAST-MODIFIED:20231228T155905Z
UID:11616-1704627000-1704630600@fonteinwerk.nl
SUMMARY:Fonteindienst - Veel Heil en Zegen
DESCRIPTION:Veel Heil en Zegen! Dat wensen wij jullie en is gelijk ook het thema van deze eerste dienst van het nieuwe jaar. Ds. Gerhard Heeringa gaat voor deze zondag waarin wij samen het Heilig Avondmaal zullen vieren.\nDeze dienst zullen we stilstaan bij de diepere betekenis van het Avondmaal. Wat doen we nou eigenlijk en waarom? Nieuwsgierig? Kom en laat je inspireren! \nDe muziek is van Embrace. Voor de kinderen is er kinderdienst en oppas. En na afloop is er koffie\, thee en limonade. \nDe Fonteindienst begint om 11.30 uur en is te bekijken via CAI TV kanaal 707 of via de website www.pgharderwijk.nl/live-stream (klik op de foto van de Plantagekerk).
URL:https://fonteinwerk.nl/agenda/fonteindienst-veel-heil-en-zegen/
LOCATION:Plantagekerk Harderwijk\, Stationslaan 136\, Harderwijk\, Gelderland\, 3841 DC\, Nederland
END:VEVENT
BEGIN:VEVENT
DTSTART;TZID=Europe/Amsterdam:20240114T113000
DTEND;TZID=Europe/Amsterdam:20240114T123000
DTSTAMP:20260420T112627
CREATED:20231229T085157Z
LAST-MODIFIED:20231229T085157Z
UID:11639-1705231800-1705235400@fonteinwerk.nl
SUMMARY:Fonteindienst - Jezus\, kennis of vriend?
DESCRIPTION:Deze dienst gaat Martijn Stuiver voor. Het thema is: Jezus\, kennis of vriend? We staan deze zondag stil bij onze omgang met Jezus en met elkaar. In de Bijbel staan vele verhalen over de valkuilen die we als kerk tegen kunnen komen en hoe we als gelovigen bekend moeten staan. Niet zomaar natuurlijk\, want niks menselijks is ons vreemd. Als jij anderen over je geloof vertelt\, wat zeg je dan? En hoe zien ze jou? Zou het gaan over religie of relatie?\nDeze en andere vragen komen aan bod deze zondag. We zien je graag! \nDe muziek is van Kate & Christiaan. Voor de kinderen is er kinderdienst en oppas. En na afloop is er koffie\, thee en limonade. \nDe Fonteindienst begint om 11.30 uur en is te bekijken via CAI TV kanaal 707 of via de website www.pgharderwijk.nl/live-stream (klik op de foto van de Plantagekerk).
URL:https://fonteinwerk.nl/agenda/fonteindienst-jezus-kennis-of-vriend/
LOCATION:Plantagekerk Harderwijk\, Stationslaan 136\, Harderwijk\, Gelderland\, 3841 DC\, Nederland
END:VEVENT
BEGIN:VEVENT
DTSTART;TZID=Europe/Amsterdam:20240121T113000
DTEND;TZID=Europe/Amsterdam:20240121T123000
DTSTAMP:20260420T112627
CREATED:20240110T080505Z
LAST-MODIFIED:20240110T080505Z
UID:11669-1705836600-1705840200@fonteinwerk.nl
SUMMARY:Fonteindienst – Let’s get it on
DESCRIPTION:Het januari-drieluik met prikkelende thema’s wordt afgesloten met “seksualiteit”. Een onderwerp dat soms haaks lijkt te staan op leven volgens de Bijbel. Tenminste\, dat is maar net hoe je ernaar kijkt. Er zijn wel degelijk bijbelteksten die over seks en omgaan met dit onderwerp gaan. Robin “Roberto Rosso” Simon zal ons meenemen in het thema “Let’s get it on”. \nIn deze viering zullen Matthias Blokzijl en Band zorgen voor de muzikale begeleiding van de liederen. Tijdens deze Fonteindienst is er geen kinderdienst\, maar wel oppas. Zowel voor als na de dienst is er gelegenheid om elkaar weer te ontmoeten onder het genot van koffie\, thee of limonade. \nWe zien er naar uit jullie weer te zien! \nDe Fonteindienst begint om 11.30 uur en is te bekijken via CAI TV kanaal 707 of via de website www.pgharderwijk.nl/live-stream (klik op de foto van de Plantagekerk).
URL:https://fonteinwerk.nl/agenda/fonteindienst-lets-get-it-on/
LOCATION:Plantagekerk Harderwijk\, Stationslaan 136\, Harderwijk\, Gelderland\, 3841 DC\, Nederland
END:VEVENT
END:VCALENDAR