BEGIN:VCALENDAR
VERSION:2.0
PRODID:-//Fonteinwerk - ECPv6.6.4.2//NONSGML v1.0//EN
CALSCALE:GREGORIAN
METHOD:PUBLISH
X-WR-CALNAME:Fonteinwerk
X-ORIGINAL-URL:https://fonteinwerk.nl
X-WR-CALDESC:Evenementen voor Fonteinwerk
REFRESH-INTERVAL;VALUE=DURATION:PT1H
X-Robots-Tag:noindex
X-PUBLISHED-TTL:PT1H
BEGIN:VTIMEZONE
TZID:Europe/Amsterdam
BEGIN:DAYLIGHT
TZOFFSETFROM:+0100
TZOFFSETTO:+0200
TZNAME:CEST
DTSTART:20230326T010000
END:DAYLIGHT
BEGIN:STANDARD
TZOFFSETFROM:+0200
TZOFFSETTO:+0100
TZNAME:CET
DTSTART:20231029T010000
END:STANDARD
END:VTIMEZONE
BEGIN:VEVENT
DTSTART;TZID=Europe/Amsterdam:20231203T113000
DTEND;TZID=Europe/Amsterdam:20231203T123000
DTSTAMP:20260420T130052
CREATED:20231122T173903Z
LAST-MODIFIED:20231122T173903Z
UID:11521-1701603000-1701606600@fonteinwerk.nl
SUMMARY:Fonteindienst - Verder kijken dan je neus lang is!
DESCRIPTION:Verder kijken dan je neus lang is\, dit is het thema van deze dienst. Durk Muurling laat ons door de kribbe heen kijken\, naar de verte\, naar het licht. Wat zien we dan?\nWees nieuwsgierig en kom naar deze dienst die ook in het teken staat van eerste Advent. \nDe muziek wordt verzorgd door Loïs\, Floor & Band. \nVoor de kinderen is er kinderdienst en oppas. En na afloop is er koffie\, thee en limonade. \nDe Fonteindienst begint om 11.30 uur en is te bekijken via CAI TV kanaal 707 of via de website www.pgharderwijk.nl/live-stream (klik op de foto van de Plantagekerk).
URL:https://fonteinwerk.nl/agenda/fonteindienst-verder-kijken-dan-je-neus-lang-is/
LOCATION:Plantagekerk Harderwijk\, Stationslaan 136\, Harderwijk\, Gelderland\, 3841 DC\, Nederland
END:VEVENT
BEGIN:VEVENT
DTSTART;TZID=Europe/Amsterdam:20231210T113000
DTEND;TZID=Europe/Amsterdam:20231210T123000
DTSTAMP:20260420T130052
CREATED:20231130T160851Z
LAST-MODIFIED:20231130T160851Z
UID:11551-1702207800-1702211400@fonteinwerk.nl
SUMMARY:Fonteindienst - Pinky Promise
DESCRIPTION:Iedereen die om zich heen kijkt ziet hoe rechtvaardigheid een dingetje is. De wereld roept om een rechtvaardige leider. Vaak volgt teleurstelling als een nieuwe leider aantreedt met de belofte dat het nu eerlijker gaat. De bijbel heeft het over iemand die eerlijk zal zijn en God zal weerspiegelen. In deze adventsdienst op 10 december denken we samen met ds. Pieter Both na over deze belofte van God. We lezen uit Jeremia 23. \nDe muziek wordt verzorgd door Embrace. \nVoor de kinderen is er kinderdienst en oppas. En na afloop is er koffie\, thee en limonade. \nDe Fonteindienst begint om 11.30 uur en is te bekijken via CAI TV kanaal 707 of via de website www.pgharderwijk.nl/live-stream (klik op de foto van de Plantagekerk).
URL:https://fonteinwerk.nl/agenda/fonteindienst-pinky-promise/
LOCATION:Plantagekerk Harderwijk\, Stationslaan 136\, Harderwijk\, Gelderland\, 3841 DC\, Nederland
END:VEVENT
BEGIN:VEVENT
DTSTART;TZID=Europe/Amsterdam:20231217T113000
DTEND;TZID=Europe/Amsterdam:20231217T123000
DTSTAMP:20260420T130052
CREATED:20231206T143839Z
LAST-MODIFIED:20231212T100027Z
UID:11563-1702812600-1702816200@fonteinwerk.nl
SUMMARY:Fonteindienst - De dag zal komen
DESCRIPTION:Onderweg naar Kerst staan we op deze derde zondag van de Advent niet alleen stil bij de komst van Jezus op aarde\, maar ook op Zijn terugkomst.\nHoe bereiden wij ons voor op die dag die komen zal?\nWorden we dan eindelijk bevrijd en gaan de poorten van het nieuwe Jeruzalem voor ons open?\nOnze spreekster Gerlies Bokma gaat ons hier in meenemen en inspireren. \nIn deze viering zullen Joselynn en Dennis zorgen voor de muzikale begeleiding van de liederen. \nTijdens de dienst is er geen kinderdienst\, maar wel oppas. Zowel voor als na de dienst is er gelegenheid om elkaar weer te ontmoeten onder het genot van koffie\, thee of limonade. \nWe kijken er naar uit om jullie weer te zien! \nDe Fonteindienst begint om 11.30 uur en is te bekijken via CAI TV kanaal 707 of via de website www.pgharderwijk.nl/live-stream (klik op de foto van de Plantagekerk).
URL:https://fonteinwerk.nl/agenda/fonteindienst-de-dag-zal-komen/
LOCATION:Plantagekerk Harderwijk\, Stationslaan 136\, Harderwijk\, Gelderland\, 3841 DC\, Nederland
END:VEVENT
BEGIN:VEVENT
DTSTART;TZID=Europe/Amsterdam:20231219T190000
DTEND;TZID=Europe/Amsterdam:20231219T220000
DTSTAMP:20260420T130052
CREATED:20231130T105041Z
LAST-MODIFIED:20231130T105121Z
UID:11530-1703012400-1703023200@fonteinwerk.nl
SUMMARY:Charis Music Kersttour
DESCRIPTION:
URL:https://fonteinwerk.nl/agenda/charis-music-kersttour-2/
LOCATION:De Regenboog Harderwijk\, Biezenplein 1\, Harderwijk\, 3845KA\, Nederland
END:VEVENT
BEGIN:VEVENT
DTSTART;TZID=Europe/Amsterdam:20231225T113000
DTEND;TZID=Europe/Amsterdam:20231225T123000
DTSTAMP:20260420T130052
CREATED:20231206T143943Z
LAST-MODIFIED:20231206T155126Z
UID:11566-1703503800-1703507400@fonteinwerk.nl
SUMMARY:Fonteinwerk Kerstviering
DESCRIPTION:
URL:https://fonteinwerk.nl/agenda/fonteinwerk-kerstviering/
LOCATION:Plantagekerk Harderwijk\, Stationslaan 136\, Harderwijk\, Gelderland\, 3841 DC\, Nederland
END:VEVENT
END:VCALENDAR