BEGIN:VCALENDAR
VERSION:2.0
PRODID:-//Fonteinwerk - ECPv6.6.4.2//NONSGML v1.0//EN
CALSCALE:GREGORIAN
METHOD:PUBLISH
X-WR-CALNAME:Fonteinwerk
X-ORIGINAL-URL:https://fonteinwerk.nl
X-WR-CALDESC:Evenementen voor Fonteinwerk
REFRESH-INTERVAL;VALUE=DURATION:PT1H
X-Robots-Tag:noindex
X-PUBLISHED-TTL:PT1H
BEGIN:VTIMEZONE
TZID:Europe/Amsterdam
BEGIN:DAYLIGHT
TZOFFSETFROM:+0100
TZOFFSETTO:+0200
TZNAME:CEST
DTSTART:20230326T010000
END:DAYLIGHT
BEGIN:STANDARD
TZOFFSETFROM:+0200
TZOFFSETTO:+0100
TZNAME:CET
DTSTART:20231029T010000
END:STANDARD
END:VTIMEZONE
BEGIN:VEVENT
DTSTART;TZID=Europe/Amsterdam:20231001T113000
DTEND;TZID=Europe/Amsterdam:20231001T123000
DTSTAMP:20260420T162654
CREATED:20230914T171547Z
LAST-MODIFIED:20230917T162007Z
UID:11303-1696159800-1696163400@fonteinwerk.nl
SUMMARY:Fonteindienst - Come Closer
DESCRIPTION:In deze dienst hebben we\, voor de Fonteindienst\, een nieuwe spreker; Sjaak Biewenga uit Emmeloord. \nHij gaat het in deze dienst hebben over de basis van mens-zijn; “Aanraking. De nabijheid van de mens.” Dat schrijft de Vlaamse psychiater Dirk de Wachter als hij het heeft over ‘troost’. Maar het zouden ook zomaar woorden van Jezus kunnen zijn. Keer op keer staat over Jezus beschreven dat Hij mensen aanraakt. Jezus komt letterlijk dichtbij. Hij ziet je\, Hij kent je\, Hij troost je en Hij raakt je aan. \nLaat jij je ook raken door Jezus? Daarvoor moet je het wel aandurven om dicht bij Hem te komen. Wil jij dat en durf jij dat?\nWees welkom in de dienst om hier meer over te horen. De band Evermind! uit Zeewolde\, ook voor het eerst in de Fonteindienst\, zorgt voor de muzikale omlijsting. \nVoor de kinderen is er kinderdienst en oppas. En na afloop is er koffie\, thee en limonade. \nDe Fonteindienst begint om 11.30 uur en is te bekijken via CAI TV kanaal 707 of via de website www.pgharderwijk.nl/live-stream (klik op de foto van de Plantagekerk). \n 
URL:https://fonteinwerk.nl/agenda/fonteindienst-come-closer/
LOCATION:Plantagekerk Harderwijk\, Stationslaan 136\, Harderwijk\, Gelderland\, 3841 DC\, Nederland
END:VEVENT
BEGIN:VEVENT
DTSTART;TZID=Europe/Amsterdam:20231007T140000
DTEND;TZID=Europe/Amsterdam:20231007T200000
DTSTAMP:20260420T162654
CREATED:20230815T093753Z
LAST-MODIFIED:20230815T100012Z
UID:11125-1696687200-1696708800@fonteinwerk.nl
SUMMARY:MannenEvent - Bottervaren
DESCRIPTION:
URL:https://fonteinwerk.nl/agenda/11125/
LOCATION:Gelderland
END:VEVENT
BEGIN:VEVENT
DTSTART;TZID=Europe/Amsterdam:20231008T113000
DTEND;TZID=Europe/Amsterdam:20231008T123000
DTSTAMP:20260420T162654
CREATED:20230914T171910Z
LAST-MODIFIED:20230917T161603Z
UID:11305-1696764600-1696768200@fonteinwerk.nl
SUMMARY:Fonteindienst - Schitter\, Wees welkom\, Ik hoor erbij!
DESCRIPTION:Dit wordt een dienst anders dan anders. We mogen getuigen zijn van de doop van 5 kinderen. De dienst is in samenwerking met de doopouders voorbereid. Ds. David Kroeze gaat voor in deze dienst en de muziek wordt verzorgd door Embrace. \nWe maken gebruik van de drie thema’s die aangedragen zijn door de doopouders: Schitter\, Wees welkom\, Ik hoor erbij! Het belooft een mooie dienst te worden\, die misschien iets anders is dan anders en ook wat langer kan duren. Wees welkom in deze bijzondere dienst \nVoor de kinderen is er kinderdienst en oppas. En na afloop is er koffie\, thee en limonade. \nDe Fonteindienst begint om 11.30 uur en is te bekijken via CAI TV kanaal 707 of via de website www.pgharderwijk.nl/live-stream (klik op de foto van de Plantagekerk). \n 
URL:https://fonteinwerk.nl/agenda/fonteindienst-schitter-wees-welkom-ik-hoor-erbij/
LOCATION:Plantagekerk Harderwijk\, Stationslaan 136\, Harderwijk\, Gelderland\, 3841 DC\, Nederland
END:VEVENT
BEGIN:VEVENT
DTSTART;TZID=Europe/Amsterdam:20231015T113000
DTEND;TZID=Europe/Amsterdam:20231015T123000
DTSTAMP:20260420T162654
CREATED:20231008T090213Z
LAST-MODIFIED:20231008T090213Z
UID:11374-1697369400-1697373000@fonteinwerk.nl
SUMMARY:Fonteindienst - Genieten van genoeg
DESCRIPTION:Op deze Michazondag staat onze aarde centraal\, want hoewel het klimaatprobleem voor ons soms ver weg lijkt\, is het een realiteit voor hele gemeenschappen in veel arme delen van de wereld. Kirsten Alblas: klimaatactiviste én Christen zal ons laten zien dat je juist met een christelijke achtergrond je verantwoordelijkheid kunt en moet nemen om een bijdrage te leveren voor een gezondere aarde en haar bewoners. \nIn deze viering zal I4U-Music zorgen voor de muzikale begeleiding van de liederen. Na de dienst is er gelegenheid om elkaar weer te ontmoeten onder het genot van koffie\, thee of limonade. \nWe zien er enorm naar uit en hopen dat jullie in grote getale komen. Het belooft een mooie dienst te worden. \nDe Fonteindienst begint om 11.30 uur en is ook te bekijken via CAI TV kanaal 707 of via de website www.pgharderwijk.nl/live-stream (klik op de foto van de Plantagekerk).
URL:https://fonteinwerk.nl/agenda/fonteindienst-genieten-van-genoeg-2/
LOCATION:Plantagekerk Harderwijk\, Stationslaan 136\, Harderwijk\, Gelderland\, 3841 DC\, Nederland
END:VEVENT
END:VCALENDAR