BEGIN:VCALENDAR
VERSION:2.0
PRODID:-//Fonteinwerk - ECPv6.6.4.2//NONSGML v1.0//EN
CALSCALE:GREGORIAN
METHOD:PUBLISH
X-ORIGINAL-URL:https://fonteinwerk.nl
X-WR-CALDESC:Evenementen voor Fonteinwerk
REFRESH-INTERVAL;VALUE=DURATION:PT1H
X-Robots-Tag:noindex
X-PUBLISHED-TTL:PT1H
BEGIN:VTIMEZONE
TZID:Europe/Amsterdam
BEGIN:DAYLIGHT
TZOFFSETFROM:+0100
TZOFFSETTO:+0200
TZNAME:CEST
DTSTART:20230326T010000
END:DAYLIGHT
BEGIN:STANDARD
TZOFFSETFROM:+0200
TZOFFSETTO:+0100
TZNAME:CET
DTSTART:20231029T010000
END:STANDARD
END:VTIMEZONE
BEGIN:VEVENT
DTSTART;TZID=Europe/Amsterdam:20230702T113000
DTEND;TZID=Europe/Amsterdam:20230702T123000
DTSTAMP:20260420T215523
CREATED:20230621T071813Z
LAST-MODIFIED:20230622T105044Z
UID:11001-1688297400-1688301000@fonteinwerk.nl
SUMMARY:Fonteindienst - Beginneling & Expert
DESCRIPTION:Deze zondag gaat ds. Sander Ris voor en het thema is: Beginneling en Expert. In deze dienst vertelt Sander aan de hand van Handelingen 10 hoe we als jong gelovigen en doorgewinterde gelovigen elkaar nodig hebben. Samen zijn we een onverslaanbaar team! \n\n\nDe muziek wordt verzorgd door Joyce van Boven & Band. \nJe bent van harte welkom! Er is kinderdienst en oppas. En na afloop van de dienst is er koffie\, thee en limonade. \nDe Fonteindienst begint om 11.30 uur en is te bekijken via CAI TV kanaal 707 of via de website www.pgharderwijk.nl/live-stream (klik op de foto van de Plantagekerk).
URL:https://fonteinwerk.nl/agenda/fonteindienst-beginneling-expert/
LOCATION:Plantagekerk Harderwijk\, Stationslaan 136\, Harderwijk\, Gelderland\, 3841 DC\, Nederland
END:VEVENT
BEGIN:VEVENT
DTSTART;TZID=Europe/Amsterdam:20230709T113000
DTEND;TZID=Europe/Amsterdam:20230709T123000
DTSTAMP:20260420T215523
CREATED:20230629T105719Z
LAST-MODIFIED:20230709T083300Z
UID:11022-1688902200-1688905800@fonteinwerk.nl
SUMMARY:Fonteindienst - Op reis met God
DESCRIPTION:Vandaag 9 juli is de laatste Fonteindienst voor de Zomerstop. De vakanties staan voor de deur\, en de vraag is hoe jij jouw geloof meeneemt op reis. Voorganger is Stephan Hobrink en hij vertelt ons meer over het thema “Op reis met God”. \nDe muziek is van I4U Music. Voor de kinderen is er kinderdienst en oppas. En na afloop is er koffie\, thee en limonade. Je bent van harte welkom! \nDe Fonteindienst begint om 11.30 uur en is te bekijken via CAI TV kanaal 707 of via de website www.pgharderwijk.nl/live-stream (klik op de foto van de Plantagekerk).
URL:https://fonteinwerk.nl/agenda/fonteindienst-op-reis-met-god/
LOCATION:Plantagekerk Harderwijk\, Stationslaan 136\, Harderwijk\, Gelderland\, 3841 DC\, Nederland
END:VEVENT
END:VCALENDAR