BEGIN:VCALENDAR
VERSION:2.0
PRODID:-//Fonteinwerk - ECPv6.6.4.2//NONSGML v1.0//EN
CALSCALE:GREGORIAN
METHOD:PUBLISH
X-WR-CALNAME:Fonteinwerk
X-ORIGINAL-URL:https://fonteinwerk.nl
X-WR-CALDESC:Evenementen voor Fonteinwerk
REFRESH-INTERVAL;VALUE=DURATION:PT1H
X-Robots-Tag:noindex
X-PUBLISHED-TTL:PT1H
BEGIN:VTIMEZONE
TZID:Europe/Amsterdam
BEGIN:DAYLIGHT
TZOFFSETFROM:+0100
TZOFFSETTO:+0200
TZNAME:CEST
DTSTART:20230326T010000
END:DAYLIGHT
BEGIN:STANDARD
TZOFFSETFROM:+0200
TZOFFSETTO:+0100
TZNAME:CET
DTSTART:20231029T010000
END:STANDARD
END:VTIMEZONE
BEGIN:VEVENT
DTSTART;TZID=Europe/Amsterdam:20230205T113000
DTEND;TZID=Europe/Amsterdam:20230205T123000
DTSTAMP:20260421T071215
CREATED:20230120T164448Z
LAST-MODIFIED:20230120T164448Z
UID:10449-1675596600-1675600200@fonteinwerk.nl
SUMMARY:Fonteindienst - Iedereen een 10!?
DESCRIPTION:Deze zondag gaat Gerrit de Haan voor met als thema: Iedereen een 10!? Voor een tien moet je wel leerbaar zijn toch? Want hoe kun je anders een tien halen? Bij God is echter alles omgekeerd want het leren waar Jezus het over heeft gaat over het hart en begint met lege handen. \nGerrit zal ons aan de hand van Mattheus meer vertellen over deze tien voor iedereen.\nDe muziek wordt verzorgd door Floor & Loïs en band. \nJe bent van harte welkom! Er is kinderdienst en oppas. En na afloop van de dienst is er koffie\, thee en limonade. \nDe Fonteindienst begint om 11.30 uur en is te bekijken via CAI TV kanaal 707 of via de website www.pgharderwijk.nl/live-stream (klik op de foto van de Plantagekerk).
URL:https://fonteinwerk.nl/agenda/fonteindienst-iedereen-een-10/
LOCATION:Plantagekerk Harderwijk\, Stationslaan 136\, Harderwijk\, Gelderland\, 3841 DC\, Nederland
END:VEVENT
BEGIN:VEVENT
DTSTART;TZID=Europe/Amsterdam:20230212T113000
DTEND;TZID=Europe/Amsterdam:20230212T123000
DTSTAMP:20260421T071215
CREATED:20230120T165850Z
LAST-MODIFIED:20230120T165903Z
UID:10453-1676201400-1676205000@fonteinwerk.nl
SUMMARY:Fonteindienst - Mystic move
DESCRIPTION:Ds. Jan Visser spreekt deze dienst met als thema: Mystic move. Voor veel mensen is God iets ongrijpbaars. Niet voor niets geeft Jezus aan dat we Zijn geest nodig hebben om Hem te leren kennen.\nVandaag staan we stil bij hoe we ingewijd kunnen worden in Zijn geheimenis\, waarin Jan ons meer zal vertellen over dit grote mysterie. \nGa je mee op avontuur? De muziek wordt verzorgd door Embrace.  Je bent van harte welkom!\nEr is kinderdienst en oppas. \nNa afloop van de dienst is er koffie\, thee en limonade. \nDe Fonteindienst begint om 11.30 uur en is te bekijken via CAI TV kanaal 707 of via de website www.pgharderwijk.nl/live-stream (klik op de foto van de Plantagekerk).
URL:https://fonteinwerk.nl/agenda/fonteindienst-mystic-move/
LOCATION:Plantagekerk Harderwijk\, Stationslaan 136\, Harderwijk\, Gelderland\, 3841 DC\, Nederland
END:VEVENT
BEGIN:VEVENT
DTSTART;TZID=Europe/Amsterdam:20230219T113000
DTEND;TZID=Europe/Amsterdam:20230219T123000
DTSTAMP:20260421T071215
CREATED:20230211T100815Z
LAST-MODIFIED:20230211T100815Z
UID:10518-1676806200-1676809800@fonteinwerk.nl
SUMMARY:Fonteindienst – Growing Young
DESCRIPTION:Het thema van vandaag is Growing Young(er). Onze jeugdwerker Lisette Brandsma zal ons meenemen in de boeiende vraag hoe we kerk kunnen zijn voor iedereen. Dat gaat ook om keuzes maken. Durf je je als jongere echt je stem te laten horen\, en als oudere hen te laten weten dat dat welkom is en dat ze gezien worden? \nUiteraard staat deze dienst weer bol van aanbidding onder muzikale begeleiding van Mathilde en Jo-Anne. De dienst gaat over jonger en ouder\, maar is ook echt bedoeld voor iedereen. We hopen op jullie komst\, het belooft een mooie viering te worden. \nNa afloop is er koffie\, thee en limonade. \nDe Fonteindienst begint om 11.30 uur en is te bekijken via CAI TV kanaal 707 of via de website www.pgharderwijk.nl/live-stream (klik op de foto van de Plantagekerk).
URL:https://fonteinwerk.nl/agenda/fonteindienst-growing-young/
LOCATION:Plantagekerk Harderwijk\, Stationslaan 136\, Harderwijk\, Gelderland\, 3841 DC\, Nederland
END:VEVENT
END:VCALENDAR