BEGIN:VCALENDAR
VERSION:2.0
PRODID:-//Fonteinwerk - ECPv6.6.4.2//NONSGML v1.0//EN
CALSCALE:GREGORIAN
METHOD:PUBLISH
X-WR-CALNAME:Fonteinwerk
X-ORIGINAL-URL:https://fonteinwerk.nl
X-WR-CALDESC:Evenementen voor Fonteinwerk
REFRESH-INTERVAL;VALUE=DURATION:PT1H
X-Robots-Tag:noindex
X-PUBLISHED-TTL:PT1H
BEGIN:VTIMEZONE
TZID:Europe/Amsterdam
BEGIN:DAYLIGHT
TZOFFSETFROM:+0100
TZOFFSETTO:+0200
TZNAME:CEST
DTSTART:20230326T010000
END:DAYLIGHT
BEGIN:STANDARD
TZOFFSETFROM:+0200
TZOFFSETTO:+0100
TZNAME:CET
DTSTART:20231029T010000
END:STANDARD
END:VTIMEZONE
BEGIN:VEVENT
DTSTART;TZID=Europe/Amsterdam:20230101T103000
DTEND;TZID=Europe/Amsterdam:20230101T113000
DTSTAMP:20260421T085250
CREATED:20221216T071735Z
LAST-MODIFIED:20221216T071735Z
UID:10331-1672569000-1672572600@fonteinwerk.nl
SUMMARY:Nieuwjaarsdienst - Nieuw jaar\, nieuwe kansen
DESCRIPTION:Nieuw jaar\, nieuwe kansen is het thema. Dit belooft een bijzondere dienst te worden op de eerste dag van het nieuwe jaar. Twee stromingen uit één kerk hebben deze dienst samen voorbereid\, te weten Team 1 van Fonteinwerk en leden van de wijk Plantagekerk. We gaan vooruitkijken. Loslaten wat geweest is\, hoe moeilijk dat ook is. Loslaten lukt niet altijd\, maar je kan het wel bij God in bewaring geven\, Hij laat niet los. \n\nZoals het thema al zegt; is deze samenwerking een nieuwe kans? Dit speciale team vond het in elk geval een mooie kans. Er is geen voorganger dit keer. Wel een vlogger\, of meer vloggers. De muziek wordt verzorgd door Ricardo en Benthe. De dienst begint om 10.30 uur. Er is koffie vooraf en na de dienst bubbels en hapjes. Wees welkom!
URL:https://fonteinwerk.nl/agenda/nieuwjaarsdienst-nieuw-jaar-nieuwe-kansen/
LOCATION:Plantagekerk Harderwijk\, Stationslaan 136\, Harderwijk\, Gelderland\, 3841 DC\, Nederland
END:VEVENT
BEGIN:VEVENT
DTSTART;TZID=Europe/Amsterdam:20230108T113000
DTEND;TZID=Europe/Amsterdam:20230108T123000
DTSTAMP:20260421T085250
CREATED:20230104T084150Z
LAST-MODIFIED:20230104T084150Z
UID:10409-1673177400-1673181000@fonteinwerk.nl
SUMMARY:Fonteindienst - Ik ben Gods geliefde kind
DESCRIPTION:Welkom in deze dienst waar Rene Visser uit Amsterdam onze spreker is. Rene is voorganger in Amsterdam en het is de eerste keer dat hij spreekt in een Fonteindienst. \n\nHet thema voor deze dienst is: “Ik ben Gods geliefde kind”. We hebben allemaal onze eigen identiteit\, zijn wie we zijn. Maar allemaal zijn we Gods geliefde kind. Hij is onze Vader. God is liefde\, daar mogen we op vertrouwen! Elke dag en bij alles wat we doen!\nDe muziek wordt deze dienst verzorgd door I4U.Voor de kinderen is er kinderdienst en oppas. En na afloop is er koffie\, thee en limonade. Je bent van harte welkom!Deze dienst is ook online te volgen en is te bekijken via CAI TV kanaal 707 of via de website www.pgharderwijk.nl/live-stream(klik op de foto van de Plantagekerk).
URL:https://fonteinwerk.nl/agenda/fonteindienst-ik-ben-gods-geliefde-kind/
LOCATION:Plantagekerk Harderwijk\, Stationslaan 136\, Harderwijk\, Gelderland\, 3841 DC\, Nederland
END:VEVENT
BEGIN:VEVENT
DTSTART;TZID=Europe/Amsterdam:20230115T113000
DTEND;TZID=Europe/Amsterdam:20230115T123000
DTSTAMP:20260421T085250
CREATED:20230104T083927Z
LAST-MODIFIED:20230104T083927Z
UID:10406-1673782200-1673785800@fonteinwerk.nl
SUMMARY:Fonteindienst – Voel je geroepen!
DESCRIPTION:We zijn allemaal uitgekozen om Jezus te volgen en Zijn leerling te mogen zijn\, maar wat voor leerling ben je dan? En wat is het om geroepen te zijn? We blikken terug op de 3e diensten van november en december waarin we gezalfd mochten worden met het teken van Christus en de weg van de Waymaker mochten bewandelen. Dus wat belet ons nog om geroepen te zijn? \nRicardo Balsma zal deze keer niet de muziek verzorgen\, maar ons meenemen in dit thema. Daarbij zal hij ook over zijn persoonlijke roeping vertellen. De muzikale begeleiding komt van Matthias Blokzijl met band. Voor kinderen in de basisschool leeftijd is er kinderdienst. \nWe zien je graag op 15 januari. Voel je geroepen om te komen. Na afloop is er koffie\, thee en limonade. \nDeze dienst is ook online te volgen en is te bekijken via CAI TV kanaal 707 of via de website www.pgharderwijk.nl/live-stream (klik op de foto van de Plantagekerk).
URL:https://fonteinwerk.nl/agenda/fonteindienst-voel-je-geroepen/
LOCATION:Plantagekerk Harderwijk\, Stationslaan 136\, Harderwijk\, Gelderland\, 3841 DC\, Nederland
END:VEVENT
END:VCALENDAR