BEGIN:VCALENDAR
VERSION:2.0
PRODID:-//Fonteinwerk - ECPv6.6.4.2//NONSGML v1.0//EN
CALSCALE:GREGORIAN
METHOD:PUBLISH
X-WR-CALNAME:Fonteinwerk
X-ORIGINAL-URL:https://fonteinwerk.nl
X-WR-CALDESC:Evenementen voor Fonteinwerk
REFRESH-INTERVAL;VALUE=DURATION:PT1H
X-Robots-Tag:noindex
X-PUBLISHED-TTL:PT1H
BEGIN:VTIMEZONE
TZID:Europe/Amsterdam
BEGIN:DAYLIGHT
TZOFFSETFROM:+0100
TZOFFSETTO:+0200
TZNAME:CEST
DTSTART:20220327T010000
END:DAYLIGHT
BEGIN:STANDARD
TZOFFSETFROM:+0200
TZOFFSETTO:+0100
TZNAME:CET
DTSTART:20221030T010000
END:STANDARD
END:VTIMEZONE
BEGIN:VEVENT
DTSTART;TZID=Europe/Amsterdam:20220501T113000
DTEND;TZID=Europe/Amsterdam:20220501T130000
DTSTAMP:20260421T224257
CREATED:20220421T080534Z
LAST-MODIFIED:20220421T080549Z
UID:9736-1651404600-1651410000@fonteinwerk.nl
SUMMARY:Fonteindienst - Verbinding
DESCRIPTION:Deze dienst gaat ds. Gerhard Heeringa voor en het thema is Verbinding! Door ons geloof in Jezus Christus\, zijn we als Christenen met elkaar verbonden. Toch staat de huidige tijd bekend als de individuele samenleving\, mensen leven samen maar in hun eigen bubbel en dat stopt niet bij de kerkmuren.\nHoe ervaren we als kerk\, als Fonteiners die verbinding? Is die er ook online of voel je dat alleen in de kerk? \nIn de brief aan de Efeziërs staat een mooi stuk over de verbondenheid die we met elkaar als gelovigen hebben dankzij het vergoten bloed van Jezus. Gerhard zal ons hier meer over vertellen. In lijn der verbinding is er na afloop lunch. Neem iets mee om uit te delen en voor jezelf\, dan is er voor iedereen genoeg.\nDe muziek wordt verzorgd door de Andreas Youth band uit Putten. Voor de kinderen is er kinderdienst en oppas. \nEr gelden geen beperkende maatregelen meer vanwege corona. Maar om onnodige risico’s te voorkomen geldt nog steeds de regel ‘heb je klachten\, blijf dan thuis’.\n\nVind je het prettiger om thuis de dienst online te volgen\, doe dat dan. En weet dat we met elkaar verbonden zijn ook al ben je niet fysiek aanwezig.\nDe Fonteindienst is ook te volgen via de live-stream en de CAI televisie.\n \nSchakel om 11.30 uur weer in via CAI TV kanaal 707 of via de website www.pgharderwijk.nl/live-stream (klik op de foto van de Plantagekerk).\n\nGraag tot ziens!
URL:https://fonteinwerk.nl/agenda/fonteindienst-verbinding/
LOCATION:Plantagekerk Harderwijk\, Stationslaan 136\, Harderwijk\, Gelderland\, 3841 DC\, Nederland
END:VEVENT
BEGIN:VEVENT
DTSTART;TZID=Europe/Amsterdam:20220508T113000
DTEND;TZID=Europe/Amsterdam:20220508T123000
DTSTAMP:20260421T224257
CREATED:20220421T081705Z
LAST-MODIFIED:20220428T081921Z
UID:9744-1652009400-1652013000@fonteinwerk.nl
SUMMARY:Fonteindienst - Ik ben een kind van God
DESCRIPTION:Deze bijzondere Moederdag met doop en belijdenis gaat ds. Henk Jansen voor. Het thema is: Ik ben een kind van God.\nRobbin Johanna\, dochter van Hendrikjen & Jorien van Boven- van Dijk\, wordt gedoopt.\nGea Sparnaaij-Tanghe doet belijdenis en zal erna ook gedoopt worden.\nDoor de Geest van God\, zijn we Zijn kinderen en roepen we Abba Vader. Dat lezen we in de brief aan de Romeinen. Dat kan nogal wat vragen oproepen\, want hoe weten we dat dan? En kan God vader en moeder tegelijk zijn? En zijn we dan nooit meer bang? Henk zal de vragen met ons verder verkennen. \nDe muziek wordt verzorgd door Lois\, Floor & Gerard. Voor de kinderen is er kinderdienst en oppas. \nEr gelden geen beperkende maatregelen meer vanwege corona. Maar om onnodige risico’s te voorkomen geldt nog steeds de regel ‘heb je klachten\, blijf dan thuis’.\n\nVind je het prettiger om thuis de dienst online te volgen\, doe dat dan. En weet dat we met elkaar verbonden zijn ook al ben je niet fysiek aanwezig.\nDe Fonteindienst is ook te volgen via de live-stream en de CAI televisie.\n \nSchakel om 11.30 uur weer in via CAI TV kanaal 707 of via de website www.pgharderwijk.nl/live-stream (klik op de foto van de Plantagekerk).\n\nGraag tot ziens!\n 
URL:https://fonteinwerk.nl/agenda/fonteindienst-73/
LOCATION:Plantagekerk Harderwijk\, Stationslaan 136\, Harderwijk\, Gelderland\, 3841 DC\, Nederland
END:VEVENT
BEGIN:VEVENT
DTSTART;TZID=Europe/Amsterdam:20220515T113000
DTEND;TZID=Europe/Amsterdam:20220515T123000
DTSTAMP:20260421T224257
CREATED:20220512T063854Z
LAST-MODIFIED:20220512T064114Z
UID:9791-1652614200-1652617800@fonteinwerk.nl
SUMMARY:Fonteindienst - Ik zie jou
DESCRIPTION:In deze viering gaan we een spannend maar mooi onderwerp aan; het omgaan met verschillen in geloof in onze samenleving. Denk daarbij aan verschillende geloven\, geloofsbeleving\, muzieksmaak\, vormen\, opvattingen\, levensstijl. Dat kan best lastig zijn\, voor je het weet neem je elkaar de maat. \nToch willen we ook graag het gesprek aangaan met elkaar over belangrijke zaken. Zeker als missionaire wijkgemeente zijnde. Hoe doen we dat op een liefhebbende\, vrije manier met volop oog voor de ander? Zijn we werkelijk nieuwsgierig naar ‘het andere van de ander’? Hierover en meer zal Abbie Chalgoum met ons komen spreken. \nEr gelden geen beperkende maatregelen meer vanwege corona. Maar om onnodige risico’s te voorkomen geldt nog steeds de regel ‘heb je klachten\, blijf dan thuis’.\n\nVind je het prettiger om thuis de dienst online te volgen\, doe dat dan. En weet dat we met elkaar verbonden zijn ook al ben je niet fysiek aanwezig.\nDe Fonteindienst is ook te volgen via de live-stream en de CAI televisie.\n \nSchakel om 11.30 uur weer in via CAI TV kanaal 707 of via de website www.pgharderwijk.nl/live-stream (klik op de foto van de Plantagekerk).\n\nGraag tot ziens!
URL:https://fonteinwerk.nl/agenda/fonteindienst-ik-zie-jou/
LOCATION:Plantagekerk Harderwijk\, Stationslaan 136\, Harderwijk\, Gelderland\, 3841 DC\, Nederland
END:VEVENT
END:VCALENDAR