BEGIN:VCALENDAR
VERSION:2.0
PRODID:-//Fonteinwerk - ECPv6.6.4.2//NONSGML v1.0//EN
CALSCALE:GREGORIAN
METHOD:PUBLISH
X-WR-CALNAME:Fonteinwerk
X-ORIGINAL-URL:https://fonteinwerk.nl
X-WR-CALDESC:Evenementen voor Fonteinwerk
REFRESH-INTERVAL;VALUE=DURATION:PT1H
X-Robots-Tag:noindex
X-PUBLISHED-TTL:PT1H
BEGIN:VTIMEZONE
TZID:Europe/Amsterdam
BEGIN:DAYLIGHT
TZOFFSETFROM:+0100
TZOFFSETTO:+0200
TZNAME:CEST
DTSTART:20220327T010000
END:DAYLIGHT
BEGIN:STANDARD
TZOFFSETFROM:+0200
TZOFFSETTO:+0100
TZNAME:CET
DTSTART:20221030T010000
END:STANDARD
END:VTIMEZONE
BEGIN:VEVENT
DTSTART;TZID=Europe/Amsterdam:20220403T113000
DTEND;TZID=Europe/Amsterdam:20220403T123000
DTSTAMP:20260422T002932
CREATED:20220325T094712Z
LAST-MODIFIED:20220325T094712Z
UID:9627-1648985400-1648989000@fonteinwerk.nl
SUMMARY:Fonteindienst - Grenzen verleggen
DESCRIPTION:Komende zomer heeft een groep jongeren het plan naar Moldavië te gaan met Stichting ‘Geef een lach’. De collecte deze zondag is daar ook voor bestemd. Of het doorgaat is nu heel onzeker\, maar onze steun aan de kinderen van Moldavië is nu meer dan ooit van belang!\nDeze dienst doen we samen met de jongeren van de reisgroep\, die volop in de spanning zitten. Jezus zei: ‘De Mensenzoon is niet gekomen om gediend te worden\, maar om te dienen en zijn leven te geven als losgeld voor velen.’\nDurven wij in deze spannende tijd ook over onze eigen schaduw heen te springen en zo dienstbaar te zijn? Hoe dan? Ds. Henk Jansen vertelt ons hier meer over. \nDe muziek wordt verzorgd door Jo-Anne & band en er is kinderdienst. \nJe bent van harte welkom om de dienst live te bezoeken (inloop vanaf 11.15 uur in de Plantagekerk).\nNa de dienst kunnen we elkaar weer ontmoeten en samen koffie/thee drinken.\n \nEr gelden geen beperkende maatregelen meer vanwege corona. Maar om onnodige risico’s te voorkomen geldt nog steeds de regel ‘heb je klachten\, blijf dan thuis’.\n\nVind je het prettiger om thuis de dienst online te volgen\, doe dat dan. En weet dat we met elkaar verbonden zijn ook al ben je niet fysiek aanwezig.\nDe Fonteindienst is ook te volgen via de live-stream en de CAI televisie.\n \nSchakel om 11.30 uur weer in via CAI TV kanaal 707 of via de website www.pgharderwijk.nl/live-stream (klik op de foto van de Plantagekerk).\n\nGraag tot ziens!\n 
URL:https://fonteinwerk.nl/agenda/fonteindienst-grenzen-verleggen/
LOCATION:Plantagekerk Harderwijk\, Stationslaan 136\, Harderwijk\, Gelderland\, 3841 DC\, Nederland
END:VEVENT
BEGIN:VEVENT
DTSTART;TZID=Europe/Amsterdam:20220410T113000
DTEND;TZID=Europe/Amsterdam:20220410T123000
DTSTAMP:20260422T002932
CREATED:20220404T153202Z
LAST-MODIFIED:20220404T153202Z
UID:9670-1649590200-1649593800@fonteinwerk.nl
SUMMARY:Fonteindienst - Palmpasen
DESCRIPTION:Pasen is aanstaande\, Jezus heeft voor ons een stap gezet en is een lijdensweg ingegaan.\nIs het voor ons nu ook niet de tijd om een stap in je geloof te zetten?\nWaar sta jij in je geloof? Waar wil je naartoe? \nDs. Diemer de Jong gaat ons voor in deze dienst. \nDe muziek wordt verzorgd door Mathilde van den Beukel en er is kinderdienst. \nJe bent van harte welkom om de dienst live te bezoeken (inloop vanaf 11.15 uur in de Plantagekerk).\nNa de dienst kunnen we elkaar weer ontmoeten en samen koffie/thee drinken.\n \nEr gelden geen beperkende maatregelen meer vanwege corona. Maar om onnodige risico’s te voorkomen geldt nog steeds de regel ‘heb je klachten\, blijf dan thuis’.\n\nVind je het prettiger om thuis de dienst online te volgen\, doe dat dan. En weet dat we met elkaar verbonden zijn ook al ben je niet fysiek aanwezig.\nDe Fonteindienst is ook te volgen via de live-stream en de CAI televisie.\n \nSchakel om 11.30 uur weer in via CAI TV kanaal 707 of via de website www.pgharderwijk.nl/live-stream (klik op de foto van de Plantagekerk).\n\nGraag tot ziens!
URL:https://fonteinwerk.nl/agenda/fonteindienst-palmpasen/
LOCATION:Plantagekerk Harderwijk\, Stationslaan 136\, Harderwijk\, Gelderland\, 3841 DC\, Nederland
END:VEVENT
BEGIN:VEVENT
DTSTART;TZID=Europe/Amsterdam:20220417T113000
DTEND;TZID=Europe/Amsterdam:20220417T123000
DTSTAMP:20260422T002932
CREATED:20220405T172554Z
LAST-MODIFIED:20220406T074233Z
UID:9672-1650195000-1650198600@fonteinwerk.nl
SUMMARY:Fonteindienst - Pasen
DESCRIPTION:Op 17 april is het Pasen. Het moment van de opstanding van Jezus. Geloven in opstanding betekent geloven dat de geest van de Opgestane Heer over ons komt. Mooie kerktaal\, maar misschien moeilijk te bevatten en al helemaal om te begrijpen hoe je vol van die Geest mag leven. \nWe gaan onder leiding van dominee Thea de Ruijter op zoek naar de betekenis van het lied ‘de Heer is waarlijk opgestaan’.\nDe muziek wordt verzorgd door Loïs\, Floor\, Teun & Eva. \nNooit geweten waar Pasen voor staat of wat bij gevoeld en wel nieuwsgierig? Voel je extra welkom!\nDoe je mee? Kom 17 april 11.30 uur naar de Fonteindienst in de Plantagekerk (inloop vanaf 11.15 uur). \nNa de dienst kunnen we elkaar weer ontmoeten en samen koffie/thee drinken.\n \nEr gelden geen beperkende maatregelen meer vanwege corona. Maar om onnodige risico’s te voorkomen geldt nog steeds de regel ‘heb je klachten\, blijf dan thuis’.\n\nVind je het prettiger om thuis de dienst online te volgen\, doe dat dan. En weet dat we met elkaar verbonden zijn ook al ben je niet fysiek aanwezig.\nDe Fonteindienst is ook te volgen via de live-stream en de CAI televisie.\n \nSchakel om 11.30 uur weer in via CAI TV kanaal 707 of via de website www.pgharderwijk.nl/live-stream (klik op de foto van de Plantagekerk).\n\nGraag tot ziens!
URL:https://fonteinwerk.nl/agenda/fonteindienst-72/
LOCATION:Plantagekerk Harderwijk\, Stationslaan 136\, Harderwijk\, Gelderland\, 3841 DC\, Nederland
END:VEVENT
END:VCALENDAR