BEGIN:VCALENDAR
VERSION:2.0
PRODID:-//Fonteinwerk - ECPv6.6.4.2//NONSGML v1.0//EN
CALSCALE:GREGORIAN
METHOD:PUBLISH
X-ORIGINAL-URL:https://fonteinwerk.nl
X-WR-CALDESC:Evenementen voor Fonteinwerk
REFRESH-INTERVAL;VALUE=DURATION:PT1H
X-Robots-Tag:noindex
X-PUBLISHED-TTL:PT1H
BEGIN:VTIMEZONE
TZID:Europe/Amsterdam
BEGIN:DAYLIGHT
TZOFFSETFROM:+0100
TZOFFSETTO:+0200
TZNAME:CEST
DTSTART:20220327T010000
END:DAYLIGHT
BEGIN:STANDARD
TZOFFSETFROM:+0200
TZOFFSETTO:+0100
TZNAME:CET
DTSTART:20221030T010000
END:STANDARD
END:VTIMEZONE
BEGIN:VEVENT
DTSTART;TZID=Europe/Amsterdam:20220102T113000
DTEND;TZID=Europe/Amsterdam:20220102T130000
DTSTAMP:20260422T055147
CREATED:20211214T144809Z
LAST-MODIFIED:20211223T175650Z
UID:9292-1641123000-1641128400@fonteinwerk.nl
SUMMARY:Fonteindienst - Burn baby burn
DESCRIPTION:Deze eerste Fonteindienst in het nieuwe jaar gaat ds. Gerhard Heringa voor. Het thema is “Burn baby burn\, hoe aanstekelijk ben jij?”. \nGemeente zijn is een werkwoord. We delen onze liefde voor Jezus Christus\, maar zonder een aanstekelijk vonkje valt een gemeente uit elkaar. Het is van belang dat we die liefde bij elkaar blijven aanwakkeren zodat het vuur brandende blijft. Gerhard zal ons meer vertellen over het belang van dat brandende vuur binnen de gemeente. \nLet op: Vanwege de lockdown kunnen de Fonteindiensten voor onbepaalde tijd niet meer live bezocht worden. Voorlopig zitten we dus weer vast aan online vieringen. \nDe Fonteindienst is te volgen via livestream en via de CAI televisie\, maar dus niet live te bezoeken in de Plantagekerk. \n\nSchakel om 11.30 uur weer in via CAI TV kanaal 707 of via de website www.pgharderwijk.nl/live-stream (klik op de foto van de Plantagekerk). \nWij wensen iedereen een gezegend nieuwjaar en een mooie dienst.
URL:https://fonteinwerk.nl/agenda/fonteindienst-burn-baby-burn/
LOCATION:Plantagekerk Harderwijk\, Stationslaan 136\, Harderwijk\, Gelderland\, 3841 DC\, Nederland
END:VEVENT
BEGIN:VEVENT
DTSTART;TZID=Europe/Amsterdam:20220109T113000
DTEND;TZID=Europe/Amsterdam:20220109T130000
DTSTAMP:20260422T055147
CREATED:20211214T145227Z
LAST-MODIFIED:20220105T122018Z
UID:9295-1641727800-1641733200@fonteinwerk.nl
SUMMARY:Fonteindienst - Water en vuur
DESCRIPTION:Deze Fonteindienst gaat ds. Henk Jansen voor. Het thema is “Water en vuur”. \nBij de gedachte aan water en vuur denk je al gauw aan een weinig vredige omgang met elkaar. Maar in Gods Koninkrijk gaan deze twee prima samen. Vandaag gaat de dienst over de vervulling met de Heilige Geest en hoe dat nu uitwerkt in je leven. Het is een bijzondere dienst waarin water en vuur een grote rol zullen spelen. \nHet was de bedoeling dat tijdens deze dienst Hendrikjen en Jorien laten hun dochter Robbin zouden laten dopen\, en dat Rita Smink belijdenis van haar geloof zou doen\, waarna zij ook gedoopt zou worden.\nMaar vanwege de lockdown en het feit dat er geen bezoekers in de kerk aanwezig zullen zijn\, is besloten om het dopen en de belijdenis uit te stellen. \nDe muziek is deze keer van Efron en Iris. \nLet op: Vanwege de lockdown kunnen de Fonteindiensten voor onbepaalde tijd niet meer live bezocht worden. Voorlopig zitten we dus weer vast aan online vieringen. \nDe Fonteindienst is te volgen via livestream en via de CAI televisie\, maar dus niet live te bezoeken in de Plantagekerk. \n\nSchakel om 11.30 uur weer in via CAI TV kanaal 707 of via de website www.pgharderwijk.nl/live-stream (klik op de foto van de Plantagekerk).
URL:https://fonteinwerk.nl/agenda/fonteindienst-water-en-vuur/
LOCATION:Plantagekerk Harderwijk\, Stationslaan 136\, Harderwijk\, Gelderland\, 3841 DC\, Nederland
END:VEVENT
BEGIN:VEVENT
DTSTART;TZID=Europe/Amsterdam:20220116T113000
DTEND;TZID=Europe/Amsterdam:20220116T123000
DTSTAMP:20260422T055147
CREATED:20220110T180556Z
LAST-MODIFIED:20220110T180556Z
UID:9382-1642332600-1642336200@fonteinwerk.nl
SUMMARY:Fonteindienst - Kijk mij eens!?
DESCRIPTION:Aan de vruchten kent men de boom. Welke vruchten zijn er aan jou te zien? Etaleer je je geloof: visje op de auto\, kruisje om je hals\, mezoeza aan de voordeur\, Bijbeltekst op je social media profiel?\nZet jij je in voor een stichting of een goed doel en maak je dit kenbaar? Of ben je daar terughoudend in? \nAan de ene kant wil je ruchtbaarheid voor wat jij heel belangrijk vindt\, aan de andere kant wil je niet overkomen als ‘kijk mij eens goed zijn’. Het dilemma van ‘jezelf etaleren’ en ‘laten zien wat echt belangrijk is’.\nDs. Eva Bruggeman zal ons meenemen in dit onderwerp. \nMisha de Haan en band zullen de muziek verzorgen. \nLet op: Vanwege de lockdown kunnen de Fonteindiensten voor onbepaalde tijd niet meer live bezocht worden. Voorlopig zitten we dus weer vast aan online vieringen. \nDe Fonteindienst is te volgen via livestream en via de CAI televisie\, maar dus niet live te bezoeken in de Plantagekerk. \n\nSchakel om 11.30 uur weer in via CAI TV kanaal 707 of via de website www.pgharderwijk.nl/live-stream (klik op de foto van de Plantagekerk).
URL:https://fonteinwerk.nl/agenda/fonteindienst-kijk-mij-eens/
LOCATION:Plantagekerk Harderwijk\, Stationslaan 136\, Harderwijk\, Gelderland\, 3841 DC\, Nederland
END:VEVENT
END:VCALENDAR