BEGIN:VCALENDAR
VERSION:2.0
PRODID:-//Fonteinwerk - ECPv6.6.4.2//NONSGML v1.0//EN
CALSCALE:GREGORIAN
METHOD:PUBLISH
X-ORIGINAL-URL:https://fonteinwerk.nl
X-WR-CALDESC:Evenementen voor Fonteinwerk
REFRESH-INTERVAL;VALUE=DURATION:PT1H
X-Robots-Tag:noindex
X-PUBLISHED-TTL:PT1H
BEGIN:VTIMEZONE
TZID:Europe/Amsterdam
BEGIN:DAYLIGHT
TZOFFSETFROM:+0100
TZOFFSETTO:+0200
TZNAME:CEST
DTSTART:20210328T010000
END:DAYLIGHT
BEGIN:STANDARD
TZOFFSETFROM:+0200
TZOFFSETTO:+0100
TZNAME:CET
DTSTART:20211031T010000
END:STANDARD
END:VTIMEZONE
BEGIN:VEVENT
DTSTART;TZID=Europe/Amsterdam:20211205T113000
DTEND;TZID=Europe/Amsterdam:20211205T123000
DTSTAMP:20260422T074155
CREATED:20211130T083839Z
LAST-MODIFIED:20211130T083839Z
UID:9238-1638703800-1638707400@fonteinwerk.nl
SUMMARY:Fonteindienst - Vol verwachting
DESCRIPTION:Deze zondag is het 2e advent. En voor veel kinderen is het ook Sinterklaas. Het thema van deze Fonteindienst is heel toepasselijk “Vol verwachting”. \nVerwacht het onverwachte is de rode draad. Je mag gewoon zijn en blijven wie je bent. Het is niet uitzichtloos\, God gebruikt de gewone mensen om iets duidelijk te maken.\nGerrit de Haan zal ons hierover meer vertellen aan de hand van Lukas 1\, vers 22-55. \nDe muziek is van Micha\, Kees Willem & Gerrit. \nJe bent van harte welkom om de dienst live te bezoeken (inloop vanaf 11.15 uur in de Plantagekerk). \n\nNu de maatregelen voor Corona door de overheid weer aangescherpt zijn\, betekent het dat wij ook weer wat extra maatregelen nemen. Hieronder de maatregelen die tijdens de Fonteindienst gelden:  \n\nWe nemen alleen bij binnenkomst de hoofdingang aan de Stationslaan. Als je slecht ter been bent mag je de ingang aan het Hogepad nemen. De ingang aan de zijkant is voortaan dicht. Neem je jas gewoon mee naar binnen\, zodat we niet door elkaar heen gaan lopen naar de verschillende kapstokken.\nIn de kerk draag je een mondkapje\, als je zit mag het mondkapje af.\nIn de kerkzaal zitten we op 1\,5 meter afstand van elkaar. Er zijn geen rijen meer afgesloten maar zorg dat je met degene voor je ‘om-en-om’ zit zodat je niet pal achter elkaar zit. Er lopen mensen in de kerkzaal die ons daarbij willen helpen\, dus luister naar hun advies.\n\nLaten we dit met elkaar goed doen en goed voor elkaar en onszelf zorgen\, zodat iedereen met welke mening dan ook zich veilig voelt in de kerk. \nDe Fonteindienst is ook te volgen via de live-stream en de CAI televisie.\nSchakel om 11.30 uur weer in via CAI TV kanaal 707 of via de website www.pgharderwijk.nl/live-stream (klik op de foto van de Plantagekerk).\n\nGraag tot ziens!
URL:https://fonteinwerk.nl/agenda/fonteindienst-vol-verwachting/
LOCATION:Plantagekerk Harderwijk\, Stationslaan 136\, Harderwijk\, Gelderland\, 3841 DC\, Nederland
END:VEVENT
BEGIN:VEVENT
DTSTART;TZID=Europe/Amsterdam:20211212T113000
DTEND;TZID=Europe/Amsterdam:20211212T130000
DTSTAMP:20260422T074155
CREATED:20211207T102121Z
LAST-MODIFIED:20211207T102121Z
UID:9257-1639308600-1639314000@fonteinwerk.nl
SUMMARY:Fonteindienst - Adem om van U te zingen
DESCRIPTION:We gaan het hebben over lofprijzing. Er kunnen vele redenen zijn om God niet te loven. Maar ook veel redenen om het  juist wel te doen.\nHet meest loven we God in onze liederen\, bij vreugde\, maar zeker ook bij verdriet. Ieder heeft zo zijn eigen lied. \nJan Visser is de spreker in deze Fonteindienst en de muzikale begeleiding is in handen van Loïs & Band. \nWe hopen op een mooie dienst vol lofprijzing. Een dienst waarin door Loïs stilgestaan wordt bij het overlijden van Jogchum. Zij zal ook een lied voor hem zingen. \nJe bent van harte welkom om de dienst live te bezoeken (inloop vanaf 11.15 uur in de Plantagekerk). \n\nNu de maatregelen voor Corona door de overheid weer aangescherpt zijn\, betekent het dat wij ook weer wat extra maatregelen nemen. Hieronder de maatregelen die tijdens de Fonteindienst gelden:  \n\nBij klachten blijf je thuis.\nWe nemen bij binnenkomst de hoofdingang aan de Stationslaan. Als je slecht ter been bent of kinderen naar de crèche wil brengen\, mag je de ingang aan het Hogepad nemen. De ingang aan de zijkant is voortaan dicht. Neem je jas gewoon mee naar binnen\, zodat we niet door elkaar heen gaan lopen naar de verschillende kapstokken.\nIn de kerk draag je een mondkapje\, als je zit mag het mondkapje weer af.\nIn de kerkzaal zitten we op 1\,5 meter afstand van elkaar. Al er geen rijen zijn afgesloten zorg je ervoor dat je met degene voor je ‘om-en-om’ zit zodat je niet pal achter elkaar zit. Er lopen mensen in de kerkzaal die ons daarbij willen helpen\, dus luister naar hun advies.\nEr is geen koffiedrinken na afloop.\nVoor alle zekerheid kun je\, ook al heb je geen klachten\, eerst thuis een zelftest doen voordat je naar de kerk gaat.\n\nLaten we dit met elkaar goed doen en goed voor elkaar en onszelf zorgen\, zodat iedereen met welke mening dan ook zich veilig voelt in de kerk. \nDe Fonteindienst is ook te volgen via de live-stream en de CAI televisie.\nSchakel om 11.30 uur weer in via CAI TV kanaal 707 of via de website www.pgharderwijk.nl/live-stream (klik op de foto van de Plantagekerk).\n\nGraag tot ziens!
URL:https://fonteinwerk.nl/agenda/fonteindienst-adem-om-van-u-te-zingen/
LOCATION:Plantagekerk Harderwijk\, Stationslaan 136\, Harderwijk\, Gelderland\, 3841 DC\, Nederland
END:VEVENT
BEGIN:VEVENT
DTSTART;TZID=Europe/Amsterdam:20211219T113000
DTEND;TZID=Europe/Amsterdam:20211219T123000
DTSTAMP:20260422T074155
CREATED:20211214T101011Z
LAST-MODIFIED:20211218T182725Z
UID:9280-1639913400-1639917000@fonteinwerk.nl
SUMMARY:Online Fonteindienst - Gevlucht\, gezien\, geliefd
DESCRIPTION:Advent en Kerst mogen niet alleen binnenkerkelijke en huiselijke feestjes zijn. Wat merkt de wereld ervan dat Jezus in de wereld is gekomen? En hoe kunnen wij zelf helpen het licht en vrede te brengen?\n\nNeem nou de vluchtelingen. Hebben wij oog voor hen? Of kan dit nog wel wat beter? Hierover gaat Rien Bregman van stichting Gave ons voor. Maar dat is niet alles: we hebben ook een vlog van Abel Al Temini\, winnaar van het Harderwijkse jeugdlintje.\nI4U verzorgt de muziek. Kortom een dienst die je niet mag missen!\n\n\nLet op: tijdens de persconferentie op zaterdagavond 18 december is aangekondigd dat er vanaf zondagmorgen 05.00 uur een harde lockdown geldt.\nDe stuurgroep Fonteinwerk heeft daarom besloten dat de Fonteindiensten vanaf zondag 19 december voor onbepaalde tijd niet meer live bezocht kunnen worden.\n\nWij beseffen ons dat de lockdown voor veel mensen heftig en ingrijpend is. Het kabinet heeft aangegeven dat ze niet anders kon doen nu Omikron razendsnel rondgaat. Omdat de buffers in de ziekenhuizen op zijn\, wil de regering geen enkel risico nemen. En ook wij als Fonteinwerk moeten onze verantwoordelijkheid nemen en daarom overgaan op online vieringen.\n\nDe Fonteindienst van 19 december is te volgen via livestream en via de CAI televisie\, maar dus niet live te bezoeken in de Plantagekerk. Gelukkig hebben we tijdens deze dienst wel live muziek van I4U.\n\nSchakel om 11.30 uur weer in via CAI TV kanaal 707 of via de website www.pgharderwijk.nl/live-stream (klik op de foto van de Plantagekerk).\n\nWij wensen iedereen ondanks de nieuwe beperkingen een fijne zondag en een mooie dienst.
URL:https://fonteinwerk.nl/agenda/fonteindienst-gevlucht-gezien-geliefd/
LOCATION:Plantagekerk Harderwijk\, Stationslaan 136\, Harderwijk\, Gelderland\, 3841 DC\, Nederland
END:VEVENT
BEGIN:VEVENT
DTSTART;TZID=Europe/Amsterdam:20211225T113000
DTEND;TZID=Europe/Amsterdam:20211225T130000
DTSTAMP:20260422T074155
CREATED:20211214T110904Z
LAST-MODIFIED:20211219T132431Z
UID:9290-1640431800-1640437200@fonteinwerk.nl
SUMMARY:Fonteindienst - Thank God It's Christmas
DESCRIPTION:Op eerste kerstdag is er een Fonteindienst en daar zijn we heel blij mee want Kerst is toch wel echt een feest om te vieren. Wat is dat toch met Kerstmis? Dat moet je blijkbaar groots een meeslepend vieren\, toch? De kerstliedjes vliegen je deze tijd om de oren op de radio en in de winkel. Er zijn heel veel kerstliedjes over sneeuw en vrede een liefde en ….. iedereen is dus blij dat het Kerst is. \nQueen zingt “Thank God it’s Christmas”\, en dat zijn we ook.  We zijn God dankbaar dat het Kerst is!\nWe gaan dit vieren in een fantastische dienst met Henk Jansen als spreker en live muziek van de geweldige band van Matthias Blokzijl. \nLet op: Vanwege de lockdown kunnen de Fonteindiensten voor onbepaalde tijd niet meer live bezocht worden. Voorlopig zitten we dus weer vast aan online vieringen. \nHaak online aan en ontdek waarom we kunnen zeggen: Thank God it’s Christmas. \nDe Fonteindienst van 25 december is te volgen via livestream en via de CAI televisie\, maar dus niet live te bezoeken in de Plantagekerk. \n\nSchakel om 11.30 uur weer in via CAI TV kanaal 707 of via de website www.pgharderwijk.nl/live-stream (klik op de foto van de Plantagekerk). \nWij wensen iedereen ondanks de nieuwe beperkingen fijne kerstdagen en een mooie dienst.
URL:https://fonteinwerk.nl/agenda/fonteindienst-thank-god-its-christmas/
LOCATION:Plantagekerk Harderwijk\, Stationslaan 136\, Harderwijk\, Gelderland\, 3841 DC\, Nederland
END:VEVENT
END:VCALENDAR