BEGIN:VCALENDAR
VERSION:2.0
PRODID:-//Fonteinwerk - ECPv6.6.4.2//NONSGML v1.0//EN
CALSCALE:GREGORIAN
METHOD:PUBLISH
X-WR-CALNAME:Fonteinwerk
X-ORIGINAL-URL:https://fonteinwerk.nl
X-WR-CALDESC:Evenementen voor Fonteinwerk
REFRESH-INTERVAL;VALUE=DURATION:PT1H
X-Robots-Tag:noindex
X-PUBLISHED-TTL:PT1H
BEGIN:VTIMEZONE
TZID:Europe/Amsterdam
BEGIN:DAYLIGHT
TZOFFSETFROM:+0100
TZOFFSETTO:+0200
TZNAME:CEST
DTSTART:20210328T010000
END:DAYLIGHT
BEGIN:STANDARD
TZOFFSETFROM:+0200
TZOFFSETTO:+0100
TZNAME:CET
DTSTART:20211031T010000
END:STANDARD
END:VTIMEZONE
BEGIN:VEVENT
DTSTART;TZID=Europe/Amsterdam:20211107T113000
DTEND;TZID=Europe/Amsterdam:20211107T130000
DTSTAMP:20260422T093554
CREATED:20211021T084010Z
LAST-MODIFIED:20211021T084010Z
UID:9149-1636284600-1636290000@fonteinwerk.nl
SUMMARY:Fonteindienst - Jubeltenen en zangknobbels
DESCRIPTION:Deze Fonteindienst gaat Rob Favier voor en wordt de muziek verzorgd door I4U. Deze muzikale combinatie verklapt al dat deze dienst  gaat over muziek. Het thema is Jubeltenen en zangknobbels. \nRob Favier is van jongs af aan opgegroeid met muziek. Hij trok op zijn achttiende al door Europa met een fulltime band. Hierna begon hij aan de studie theologie die hij met succes afrondde.\nZoals velen misschien weten\, heeft hij een geheel eigen manier van voorgaan/optreden: een mengeling van prediking en liedjes die zeer herkenbaar zijn en waarbij het humoristische aspect niet zelden een rol speelt. Aan de hand van een mooie Psalm zal Rob ons meer vertellen over wat muziek met ons kan doen. \nJe bent van harte welkom om de dienst live te bezoeken (inloop vanaf 11.15 uur in de Plantagekerk). Aanmelden is niet meer nodig! Zingen is weer mogelijk en de mondkapjesplicht is vervallen. We houden ons nog wel aan de anderhalve meter afstand. \n\nEr is kinderdienst en oppas. En na afloop is er in de kerk weer koffie en thee en limonade. \nDe Fonteindienst is ook te volgen via de live-stream en de CAI televisie.\nSchakel om 11.30 uur weer in via CAI TV kanaal 707 of via de website www.pgharderwijk.nl/live-stream (klik op de foto van de Plantagekerk).\n\nGraag tot ziens!
URL:https://fonteinwerk.nl/agenda/fonteindienst-jubeltenen-en-zangknobbels/
LOCATION:Plantagekerk Harderwijk\, Stationslaan 136\, Harderwijk\, Gelderland\, 3841 DC\, Nederland
END:VEVENT
BEGIN:VEVENT
DTSTART;TZID=Europe/Amsterdam:20211114T113000
DTEND;TZID=Europe/Amsterdam:20211114T130000
DTSTAMP:20260422T093554
CREATED:20211021T084511Z
LAST-MODIFIED:20211110T143002Z
UID:9154-1636889400-1636894800@fonteinwerk.nl
SUMMARY:Fonteindienst - Beeldenstorm!
DESCRIPTION:In deze dienst gaat ds. Irma Jansen-Kleinjan voor. Het thema is ‘Beeldenstorm!’. We leven in een beeldcultuur\, waarbij we elke dag ontelbaar veel beelden moeten verwerken. Vroeger waren er vooral in de kerken veel beelden te zien\, als illustratie en uitleg bij de bijbelse verhalen. Na de beeldenstorm tijdens de reformatie kennen wij in onze protestantse kerken maar weinig beelden meer. Maar we ontdekken steeds meer hoe God niet alleen tot ons spreekt met woorden maar ook in beelden.\nIn hoeverre staan we nu in de veelheid van alles wat we zien nog open voor Gods beelden? Irma zal ons meer vertellen hoe we dit in ons eigen leven en ook in onze kerk(diensten) kunnen ervaren. \nDe muziek is van Annelien en band \n\nJe bent van harte welkom om de dienst live te bezoeken (inloop vanaf 11.15 uur in de Plantagekerk). Er is kinderdienst en oppas. En na afloop is er in de kerk weer koffie en thee en limonade. \nNu de maatregelen voor Corona door de overheid weer aangescherpt zijn\, betekent het dat wij ook weer wat extra maatregelen nemen. Hieronder de maatregelen die tijdens de Fonteindienst gelden:  \n\nWe nemen alleen bij binnenkomst de hoofdingang aan de Stationslaan. Als je slecht ter been bent of kinderen naar de crèche wil brengen\, mag je de ingang aan het Hogepad nemen. Er zijn maatregelen genomen om te voorkomen dat de koffiedrinkers van de eerste dienst op zondagmorgen niet in de looproute staan. De ingang aan de zijkant is voortaan dicht. Neem je jas gewoon mee naar binnen\, zodat we niet door elkaar heen gaan lopen naar de verschillende kapstokken.\nIn de kerk draag je een mondkapje\, als je zit mag het mondkapje af.\nIn de kerkzaal zitten we op 1\,5 meter afstand van elkaar. Er zijn geen rijen meer afgesloten maar zorg dat je met degene voor je ‘om-en-om’ zit zodat je niet pal achter elkaar zit. Er lopen mensen in de kerkzaal die ons daarbij willen helpen\, dus luister naar hun advies.\nProbeer met het koffiedrinken ook de ruimte te benutten en afstand te houden.\n\nLaten we dit met elkaar goed doen en goed voor elkaar en onszelf zorgen\, zodat iedereen met welke mening dan ook zich veilig voelt in de kerk. \nDe Fonteindienst is ook te volgen via de live-stream en de CAI televisie.\nSchakel om 11.30 uur weer in via CAI TV kanaal 707 of via de website www.pgharderwijk.nl/live-stream (klik op de foto van de Plantagekerk).\n\nGraag tot ziens!
URL:https://fonteinwerk.nl/agenda/fonteindienst-beeldenstorm/
LOCATION:Plantagekerk Harderwijk\, Stationslaan 136\, Harderwijk\, Gelderland\, 3841 DC\, Nederland
END:VEVENT
BEGIN:VEVENT
DTSTART;TZID=Europe/Amsterdam:20211121T113000
DTEND;TZID=Europe/Amsterdam:20211121T123000
DTSTAMP:20260422T093554
CREATED:20211118T082217Z
LAST-MODIFIED:20211118T083010Z
UID:9216-1637494200-1637497800@fonteinwerk.nl
SUMMARY:Fonteindienst - Talent in uitvoering
DESCRIPTION:In deze Fonteindienst gaan we het niet alleen hebben over de talenten die jij hebt gekregen\, maar kijken we ook naar de talenten die jij misschien graag zou willen hebben. Want wij mogen de Geest daarom vragen! En wat kun je eigenlijk met de talenten die jou worden gegeven? \nHierover en meer gaan we aan de gang met Goos van Steinvoorn als spreker. \nDe muziek is van Iris en Efron. \n\nJe bent van harte welkom om de dienst live te bezoeken (inloop vanaf 11.15 uur in de Plantagekerk). \nNu de maatregelen voor Corona door de overheid weer aangescherpt zijn\, betekent het dat wij ook weer wat extra maatregelen nemen. Hieronder de maatregelen die tijdens de Fonteindienst gelden:  \n\nWe nemen alleen bij binnenkomst de hoofdingang aan de Stationslaan. Als je slecht ter been bent mag je de ingang aan het Hogepad nemen. De ingang aan de zijkant is voortaan dicht. Neem je jas gewoon mee naar binnen\, zodat we niet door elkaar heen gaan lopen naar de verschillende kapstokken.\nIn de kerk draag je een mondkapje\, als je zit mag het mondkapje af.\nIn de kerkzaal zitten we op 1\,5 meter afstand van elkaar. Er zijn geen rijen meer afgesloten maar zorg dat je met degene voor je ‘om-en-om’ zit zodat je niet pal achter elkaar zit. Er lopen mensen in de kerkzaal die ons daarbij willen helpen\, dus luister naar hun advies.\n\nLaten we dit met elkaar goed doen en goed voor elkaar en onszelf zorgen\, zodat iedereen met welke mening dan ook zich veilig voelt in de kerk. \nDe Fonteindienst is ook te volgen via de live-stream en de CAI televisie.\nSchakel om 11.30 uur weer in via CAI TV kanaal 707 of via de website www.pgharderwijk.nl/live-stream (klik op de foto van de Plantagekerk).\n\nGraag tot ziens!
URL:https://fonteinwerk.nl/agenda/fonteindienst-talent-in-uitvoering/
LOCATION:Plantagekerk Harderwijk\, Stationslaan 136\, Harderwijk\, Gelderland\, 3841 DC\, Nederland
END:VEVENT
END:VCALENDAR