BEGIN:VCALENDAR
VERSION:2.0
PRODID:-//Fonteinwerk - ECPv6.6.4.2//NONSGML v1.0//EN
CALSCALE:GREGORIAN
METHOD:PUBLISH
X-WR-CALNAME:Fonteinwerk
X-ORIGINAL-URL:https://fonteinwerk.nl
X-WR-CALDESC:Evenementen voor Fonteinwerk
REFRESH-INTERVAL;VALUE=DURATION:PT1H
X-Robots-Tag:noindex
X-PUBLISHED-TTL:PT1H
BEGIN:VTIMEZONE
TZID:Europe/Amsterdam
BEGIN:DAYLIGHT
TZOFFSETFROM:+0100
TZOFFSETTO:+0200
TZNAME:CEST
DTSTART:20210328T010000
END:DAYLIGHT
BEGIN:STANDARD
TZOFFSETFROM:+0200
TZOFFSETTO:+0100
TZNAME:CET
DTSTART:20211031T010000
END:STANDARD
END:VTIMEZONE
BEGIN:VEVENT
DTSTART;TZID=Europe/Amsterdam:20211003T113000
DTEND;TZID=Europe/Amsterdam:20211003T130000
DTSTAMP:20260422T113315
CREATED:20210924T120844Z
LAST-MODIFIED:20210924T120858Z
UID:9073-1633260600-1633266000@fonteinwerk.nl
SUMMARY:Fonteindienst - Jezus\, heer van ALLES
DESCRIPTION:In deze dienst gaat het over duurzaamheid. We Hebben deze aarde te leen\, hoe gaan we hier mee om? Aan de hand van de vijf stappen gaat ds. Henk Jansen in zijn preek verder op dit onderwerp in. \nOok wordt deze zondag Jade Lisa gedoopt\, dochter van Nicole Hutten en Ruben Dirksen. \nEn daarnaast zijn Frits en Gea Sparnaaij op 13 september jl. opnieuw getrouwd\, en zij willen graag de Zegen ontvangen. \nDe muziek is van Annelien & Band. \nJe bent van harte welkom om de dienst live te bezoeken (inloop vanaf 11.15 uur in de Plantagekerk). Aanmelden is niet meer nodig! Zingen is weer mogelijk en de mondkapjesplicht is vervallen. We houden ons nog wel aan de anderhalve meter afstand. \nEn na afloop is er in de kerk weer koffie en thee en limonade. \nDe Fonteindienst is ook te volgen via de live-stream en de CAI televisie.\nSchakel om 11.30 uur weer in via CAI TV kanaal 707 of via de website www.pgharderwijk.nl/live-stream (klik op de foto van de Plantagekerk).\n\nGraag tot ziens!
URL:https://fonteinwerk.nl/agenda/fonteindienst-jezus-heer-van-alles/
LOCATION:Plantagekerk Harderwijk\, Stationslaan 136\, Harderwijk\, Gelderland\, 3841 DC\, Nederland
END:VEVENT
BEGIN:VEVENT
DTSTART;TZID=Europe/Amsterdam:20211010T113000
DTEND;TZID=Europe/Amsterdam:20211010T130000
DTSTAMP:20260422T113315
CREATED:20210924T121241Z
LAST-MODIFIED:20211007T101714Z
UID:9077-1633865400-1633870800@fonteinwerk.nl
SUMMARY:Fonteindienst - Zelfzorg
DESCRIPTION:Zorg jij goed voor jezelf? Je kan alleen goed voor een ander zorgen\, wanneer je ook goed voor jezelf zorgt.\nHet is niet egoïstisch om je eigen kopje te vullen zodat je dat van anderen kan vullen. \nZo zijn er meer quotes die je kan gebruiken. \nIn deze Fonteindienst gaat het over zelfzorg. Gerrit de Haan gaat het hier met ons uitgebreid over hebben. \nDe muziek wordt verzorgd door Jaïr en Micha. \nJe bent van harte welkom om de dienst live te bezoeken (inloop vanaf 11.15 uur in de Plantagekerk). Aanmelden is niet meer nodig! Zingen is weer mogelijk en de mondkapjesplicht is vervallen. We houden ons nog wel aan de anderhalve meter afstand. \nEn na afloop is er in de kerk weer koffie en thee en limonade. \nDe Fonteindienst is ook te volgen via de live-stream en de CAI televisie.\nSchakel om 11.30 uur weer in via CAI TV kanaal 707 of via de website www.pgharderwijk.nl/live-stream (klik op de foto van de Plantagekerk).\n\nGraag tot ziens!
URL:https://fonteinwerk.nl/agenda/fonteindienst-zelfzorg/
LOCATION:Plantagekerk Harderwijk\, Stationslaan 136\, Harderwijk\, Gelderland\, 3841 DC\, Nederland
END:VEVENT
BEGIN:VEVENT
DTSTART;TZID=Europe/Amsterdam:20211011T193000
DTEND;TZID=Europe/Amsterdam:20211011T213000
DTSTAMP:20260422T113315
CREATED:20210924T134122Z
LAST-MODIFIED:20210924T134122Z
UID:9079-1633980600-1633987800@fonteinwerk.nl
SUMMARY:PGH Gemeenteavond - Verbouwing Plantagekerk
DESCRIPTION:De eerste besluiten zijn gevallen en de ontwerpers zijn verder aan de slag gegaan. Dit zal gepresenteerd worden tijdens deze gemeenteavond over de verbouwing van de Plantagekerk. Maar er is nog veel te bedenken en te doen. Aankleding van ruimtes\, indeling van ruimtes in kerk en pastorie\, flexibiliteit van de ruimtes\, beheer ervan en hoe we met elkaar hiervoor fondsen willen gaan werven. Deze avond is de start van deze voorbereidingen. \nJouw hulp en inbreng zijn nodig! Kom je ook? \nNamens de Stuurgroep\nMartijn Stuiver
URL:https://fonteinwerk.nl/agenda/pgh-gemeenteavond-verbouwing-plantagekerk/
LOCATION:Gelderland
END:VEVENT
BEGIN:VEVENT
DTSTART;TZID=Europe/Amsterdam:20211017T113000
DTEND;TZID=Europe/Amsterdam:20211017T130000
DTSTAMP:20260422T113315
CREATED:20210924T121015Z
LAST-MODIFIED:20211014T083342Z
UID:9075-1634470200-1634475600@fonteinwerk.nl
SUMMARY:Fonteindienst - Genieten van genoeg
DESCRIPTION:Waaraan heb jij genoeg en wat laat je voor een ander over? Doe je dit bewust of consumeer je gedachteloos?\nEn moet onze focus niet meer op God liggen in plaats van op het bezit van goederen en geld? Over deze pittige vragen en meer zal ds. Wim Terlouw ons voorgaan.\n\nPraiseband Ivy zal voor de muzikale begeleiding zorgen.Je bent van harte welkom om de dienst live te bezoeken (inloop vanaf 11.15 uur in de Plantagekerk). Aanmelden is niet meer nodig! Zingen is weer mogelijk en de mondkapjesplicht is vervallen. We houden ons nog wel aan de anderhalve meter afstand. \nEn na afloop is er in de kerk weer koffie en thee en limonade. \nDe Fonteindienst is ook te volgen via de live-stream en de CAI televisie.\nSchakel om 11.30 uur weer in via CAI TV kanaal 707 of via de website www.pgharderwijk.nl/live-stream (klik op de foto van de Plantagekerk).\n\nGraag tot ziens!
URL:https://fonteinwerk.nl/agenda/fonteindienst-genieten-van-genoeg/
LOCATION:Plantagekerk Harderwijk\, Stationslaan 136\, Harderwijk\, Gelderland\, 3841 DC\, Nederland
END:VEVENT
BEGIN:VEVENT
DTSTART;TZID=Europe/Amsterdam:20211027T193000
DTEND;TZID=Europe/Amsterdam:20211027T213000
DTSTAMP:20260422T113315
CREATED:20211021T084253Z
LAST-MODIFIED:20211021T084253Z
UID:9152-1635363000-1635370200@fonteinwerk.nl
SUMMARY:FonteinAcademy - Heerlijk minimaliseren
DESCRIPTION:In deze ‘maand van Gods Goede Schepping’ gaat ook de FonteinAcademy weer van start. Gera van den Berg uit Hierden gaat met ons in gesprek over ‘Heerlijk minimaliseren’. We hopen na de vieringen van oktober met haar een avond een praktische verdiepingsslag te kunnen maken in het vrolijk en dankbaar omgaan met Gods goede schepping. \nDe avond is op woensdag 27 oktober in de Oude Synagoge. Vanaf half 8 welkom\, 19.45 uur starten we. Je bent van harte welkom! \nRonald de Koster en Henk Jansen
URL:https://fonteinwerk.nl/agenda/fonteinacademy-heerlijk-minimaliseren/
LOCATION:De Oude Synagoge\, Jodenkerksteeg 1\, Harderwijk\, 3841BP\, Nederland
END:VEVENT
BEGIN:VEVENT
DTSTART;TZID=Europe/Amsterdam:20211030T193000
DTEND;TZID=Europe/Amsterdam:20211030T220000
DTSTAMP:20260422T113315
CREATED:20211021T104135Z
LAST-MODIFIED:20211021T104135Z
UID:9167-1635622200-1635631200@fonteinwerk.nl
SUMMARY:Spelletjesavond voor tieners
DESCRIPTION:Hey! Ben jij als tiener (12-18 jaar) verbonden bij het Fonteinwerk? En wil je graag andere tieners uit de kerk leren kennen? Of iets gezelligs doen met de tieners die je al kent vanuit de kerk? Dat kan op de spelletjesavond op 30 oktober!\nVanaf half 8 ben je welkom op Krommekamp 99 om elkaar te ontmoeten. Tussen half 10 en 10 uur is de avond afgelopen. Wij zorgen voor een hapje en een drankje. Zien we jou dan? \nKom je liever niet alleen? Neem gerust een vriend of vriendin mee.\nLaat je even weten als je komt? Dat kan met een appje naar Reinou Groeneveld\, 0615188104.
URL:https://fonteinwerk.nl/agenda/spelletjesavond-voor-tieners/
LOCATION:Gelderland
END:VEVENT
END:VCALENDAR