BEGIN:VCALENDAR
VERSION:2.0
PRODID:-//Fonteinwerk - ECPv6.6.4.2//NONSGML v1.0//EN
CALSCALE:GREGORIAN
METHOD:PUBLISH
X-WR-CALNAME:Fonteinwerk
X-ORIGINAL-URL:https://fonteinwerk.nl
X-WR-CALDESC:Evenementen voor Fonteinwerk
REFRESH-INTERVAL;VALUE=DURATION:PT1H
X-Robots-Tag:noindex
X-PUBLISHED-TTL:PT1H
BEGIN:VTIMEZONE
TZID:Europe/Amsterdam
BEGIN:DAYLIGHT
TZOFFSETFROM:+0100
TZOFFSETTO:+0200
TZNAME:CEST
DTSTART:20210328T010000
END:DAYLIGHT
BEGIN:STANDARD
TZOFFSETFROM:+0200
TZOFFSETTO:+0100
TZNAME:CET
DTSTART:20211031T010000
END:STANDARD
END:VTIMEZONE
BEGIN:VEVENT
DTSTART;TZID=Europe/Amsterdam:20210905T110000
DTEND;TZID=Europe/Amsterdam:20210905T130000
DTSTAMP:20260422T132048
CREATED:20210714T073849Z
LAST-MODIFIED:20210805T082738Z
UID:8916-1630839600-1630846800@fonteinwerk.nl
SUMMARY:Startzondag
DESCRIPTION:Op zondag 5 september hopen we met elkaar weer een Startzondag te mogen vieren! Een dag om samen te komen\, bij te praten en te luisteren naar het woord van God. We zijn nog niet helemaal van corona af en er zijn dus ook dit jaar weer een aantal ‘beperkingen’. Maar we laten ons daar niet door weerhouden \nDe dienst\nDe kerkdienst vindt dit jaar plaats op de Wijde Wellen (de schaatsbaan aan het Wolderwijd) in Harderwijk. Daar hebben we de ruimte om 1\,5 meter afstand te houden. \nKoffie & Lunch\nVoor kerktijd zorgen wij voor een heerlijke kop koffie. Na de dienst staan de eettentjes klaar met heerlijk eten\, de lunch nuttigen we in het Plantagepark. \nMiddagprogramma\nNa de dienst verhuizen we met zijn allen naar het Plantagepark. Daar kunnen we lunchen\, spelletjes doen en is er weer een grote afsluiting van hopenlijk een mooie startzondag! \nVoor meer informatie over de Startzondag klik hier
URL:https://fonteinwerk.nl/agenda/startzondag/
LOCATION:Gelderland
END:VEVENT
BEGIN:VEVENT
DTSTART;TZID=Europe/Amsterdam:20210912T113000
DTEND;TZID=Europe/Amsterdam:20210912T123000
DTSTAMP:20260422T132048
CREATED:20210817T090937Z
LAST-MODIFIED:20210902T121631Z
UID:8966-1631446200-1631449800@fonteinwerk.nl
SUMMARY:Fonteindienst - Vol van de Geest
DESCRIPTION:Na de gezamenlijke startdienst van vorige week\, is deze dienst de eerste van het seizoen en Henk Jansen trapt af. \nHet jaarthema zal deze dienst worden geïntroduceerd en dat is: “Vol van de Geest”. God gaf ons Zijn Heilige Geest zodat we nooit zonder Hem hoeven te zijn. Als je terugblikt op je leven\, kun je wellicht wel een moment noemen waarin je Gods aanwezigheid hebt ervaren. Het zijn bloeiende bloempjes en bomen langs de rivier van Zijn Heilige Geest. Het nodigt uit om verder te gaan op die stroom en uit te kijken naar welke bomen en bloemen je nog meer tegen gaat komen. \nHenk neemt ons mee naar een verhaal uit Ezechiël 47 en zal ons meer vertellen over de stromen van Gods Geest. \nDe muziek wordt verzorgd door Mathilde & Band. \nWil je de dienst live bezoeken\, dan moet je je vooraf even aanmelden. Zingen is weer mogelijk en de mondkapjesplicht is vervallen. We houden ons nog wel aan de anderhalve meter afstand. \nVul het online aanmeldformulier in voor elke persoon (ook binnen je gezin) die mee gaat naar de kerk. Dit scheelt veel handmatige administratie voor het team. Klik op de volgende link om je aan te melden: https://forms.gle/Nqgrv2fM1ERRMU99A\nOm 11.15 uur start de inloop in de Plantagekerk. \nNa afloop kunnen we koffie\, thee en limonade drinken in de tuin van de pastorie. \nDe Fonteindienst is ook te volgen via de live-stream en de CAI televisie.\nSchakel om 11.30 uur weer in via CAI TV kanaal 707 of via de website www.pgharderwijk.nl/live-stream (klik op de foto van de Plantagekerk).\n\nJe bent van harte welkom!
URL:https://fonteinwerk.nl/agenda/fonteindienst-vol-van-de-geest/
LOCATION:Plantagekerk Harderwijk\, Stationslaan 136\, Harderwijk\, Gelderland\, 3841 DC\, Nederland
END:VEVENT
BEGIN:VEVENT
DTSTART;TZID=Europe/Amsterdam:20210918T080000
DTEND;TZID=Europe/Amsterdam:20210918T170000
DTSTAMP:20260422T132048
CREATED:20210714T073721Z
LAST-MODIFIED:20210714T073721Z
UID:8913-1631952000-1631984400@fonteinwerk.nl
SUMMARY:Sponsorfietstocht Alzheimer
DESCRIPTION:Protestantse Gemeente Harderwijk doet mee aan 2bike4alzheimer\, een sponsorfietstocht om geld in te zamelen voor onderzoek naar dementie. \nOok mensen in onze gemeente hebben dementie. We merken hoe groot de impact van deze ziekte is op hun leven en dat van hun naasten. Zij maken deel uit van onze gemeente en daarom raakt deze ziekte ook ons. \nDe sponsorfietstocht vindt plaats op zaterdag 18 september in en rond Amersfoort. \nWe kunnen jouw hulp goed gebruiken! Doe mee met onze acties en/of steun ons met een bijdrage. Onze actiepagina is: \n2bike4alzheimer.inactievooralzheimer.nl/team/protestantsegemeenteharderwijk. \nNaast geld inzamelen voor meer onderzoek naar dementie willen we ook iets betekenen voor mensen die er nu mee te maken hebben. Daarom organiseren we verschillende activiteiten: \n\nDonderdag 19 augustus: ‘Muziek bij de koffie’ met liederen van vroeger. Vanaf 10.15 uur vanuit Kerkelijk Centrum de Regenboog.\nDonderdag 2 september een spelletjesmiddag met ouderwetse spelletjes in de Plantagekerk.\nZaterdag 11 september: een lunch in de Plantagekerk\, verzorgd door jongeren uit onze gemeente.\n\nHet team:\nFrieda Meijers\, Gertie en Gerke van Dijk\, Jan Dekker\, Joke Bode\, Saskia\, Martin en Tom en Saskia de Jonge \nKijk vooral ook nog even naar dit filmpje over de sponsorfietstocht: https://youtu.be/9teaj6EWdPE
URL:https://fonteinwerk.nl/agenda/sponsorfietstocht-alzheimer/
LOCATION:Gelderland
END:VEVENT
BEGIN:VEVENT
DTSTART;TZID=Europe/Amsterdam:20210919T113000
DTEND;TZID=Europe/Amsterdam:20210919T123000
DTSTAMP:20260422T132048
CREATED:20210915T090907Z
LAST-MODIFIED:20210915T090907Z
UID:9040-1632051000-1632054600@fonteinwerk.nl
SUMMARY:Fonteindienst - Kom in beweging!
DESCRIPTION:Het thema van deze Fonteindienst is “Kom in beweging!”. Een kenmerk van de Heilige Geest is dat Hijzelf altijd in beweging is én dat Hij ons aanzet om in beweging te komen. Maar hebben wij wel zin om te bewegen? En hoe doe je dat dan? Ds. Gerhard Heeringa zal ons aan de hand van Handelingen 1:8 meenemen in een dynamische dienst waarin je niet wil stil blijven zitten!’\n\nDe muziek wordt verzorgd door Matthijs Blokzijl & Band. \nWil je de dienst live bezoeken\, dan moet je je vooraf even aanmelden. Zingen is weer mogelijk en de mondkapjesplicht is vervallen. We houden ons nog wel aan de anderhalve meter afstand. \nVul het online aanmeldformulier in voor elke persoon (ook binnen je gezin) die mee gaat naar de kerk. Dit scheelt veel handmatige administratie voor het team. Klik op de volgende link om je aan te melden: https://forms.gle/heTdF9cwpEASZ5Gw8\nOm 11.15 uur start de inloop in de Plantagekerk. \nDe Fonteindienst is ook te volgen via de live-stream en de CAI televisie.\nSchakel om 11.30 uur weer in via CAI TV kanaal 707 of via de website www.pgharderwijk.nl/live-stream (klik op de foto van de Plantagekerk).\n\nJe bent van harte welkom!
URL:https://fonteinwerk.nl/agenda/fonteindienst-kom-in-beweging/
LOCATION:Plantagekerk Harderwijk\, Stationslaan 136\, Harderwijk\, Gelderland\, 3841 DC\, Nederland
END:VEVENT
END:VCALENDAR