BEGIN:VCALENDAR
VERSION:2.0
PRODID:-//Fonteinwerk - ECPv6.6.4.2//NONSGML v1.0//EN
CALSCALE:GREGORIAN
METHOD:PUBLISH
X-ORIGINAL-URL:https://fonteinwerk.nl
X-WR-CALDESC:Evenementen voor Fonteinwerk
REFRESH-INTERVAL;VALUE=DURATION:PT1H
X-Robots-Tag:noindex
X-PUBLISHED-TTL:PT1H
BEGIN:VTIMEZONE
TZID:Europe/Amsterdam
BEGIN:DAYLIGHT
TZOFFSETFROM:+0100
TZOFFSETTO:+0200
TZNAME:CEST
DTSTART:20210328T010000
END:DAYLIGHT
BEGIN:STANDARD
TZOFFSETFROM:+0200
TZOFFSETTO:+0100
TZNAME:CET
DTSTART:20211031T010000
END:STANDARD
END:VTIMEZONE
BEGIN:VEVENT
DTSTART;TZID=Europe/Amsterdam:20210502T113000
DTEND;TZID=Europe/Amsterdam:20210502T123000
DTSTAMP:20260422T204031
CREATED:20210427T084127Z
LAST-MODIFIED:20210428T101746Z
UID:8640-1619955000-1619958600@fonteinwerk.nl
SUMMARY:Fonteindienst - Op missie!
DESCRIPTION:Wil jij betrokken worden bij de missie van Jezus? Ben jij echt geraakt door wat je ziet in je omgeving? Ga je op missie en wil je delen van je geloof met anderen\, een buurvrouw\, een collega?\nHoe doe je dat en wat kan je verwachten?\nGerrit Lolkema gaat hier dieper op in tijdens deze Fonteindienst. En I4U verzorgt de muzikale begeleiding. \nAlvast iets om over na te denken voor de Mentimeter: Wat vraag jij voor je buurt? \nDeze online dienst begint om 11.30 uur en is te bekijken via CAI TV kanaal 707 of via de website www.pgharderwijk.nl/live-stream (klik op de foto van de Plantagekerk).\nVoel je welkom!
URL:https://fonteinwerk.nl/agenda/fonteindienst-op-missie/
LOCATION:Gelderland
END:VEVENT
BEGIN:VEVENT
DTSTART;TZID=Europe/Amsterdam:20210509T113000
DTEND;TZID=Europe/Amsterdam:20210509T123000
DTSTAMP:20260422T204031
CREATED:20210427T084301Z
LAST-MODIFIED:20210427T111526Z
UID:8643-1620559800-1620563400@fonteinwerk.nl
SUMMARY:Fonteindienst - Kerk in de buurt
DESCRIPTION:In deze dienst gaan we het hebben over hoe wij er in deze tijd voor elkaar kunnen zijn. In de buurt\, op je werk\, maar ook in de kerk.\nHoe laat jij zien dat iedereen welkom is in de kerk\, wie je ook bent of hoe je er ook uit ziet?\n\nDs. Diemer de Jong is onze spreker deze Fonteindienst.\nVoel je welkom om deze dienst vanaf 11.30 uur online bij te wonen via: www.pgharderwijk.nl/live-stream (klik op de foto van de Plantagekerk) of het CAI kanaal 707.
URL:https://fonteinwerk.nl/agenda/fonteindienst-64/
LOCATION:Gelderland
END:VEVENT
BEGIN:VEVENT
DTSTART;TZID=Europe/Amsterdam:20210510T193000
DTEND;TZID=Europe/Amsterdam:20210510T203000
DTSTAMP:20260422T204031
CREATED:20210506T071932Z
LAST-MODIFIED:20210506T071932Z
UID:8684-1620675000-1620678600@fonteinwerk.nl
SUMMARY:Stadsgebed Harderwijk
DESCRIPTION:Beste Fonteiners\, \nOp maandag 10 mei om 19.30 uur hopen we – op gepaste afstand en volgens de geldende RIVM regels –  bij elkaar te komen in de Plantagekerk voor het maandelijkse Stadsgebed (aanmelding noodzakelijk\, meer informatie zie hieronder). \nGebed legt de geestelijke basis voor Gods Koninkrijk en is daarom essentieel. Jezus belooft dat God zal werken en geven op basis van het eenparige gebed van zelfs 2 of 3 van zijn kinderen (Matt. 18: 19). We zijn daarom dankbaar voor de vele gebedsgroepen die er in Harderwijk en Hierden zijn. \nHet Stadsgebed wil een stimulans zijn om onze gezamenlijke verantwoording onder ogen te zien. Wij willen de bestaande kerkelijke gebedsgroepen bezoeken\, bemoedigen en samen met hen bidden voor hun kerk en voor Harderwijk. \nDe Bijbel roept ons ook specifiek op om voor de overheid en verantwoordelijke personen te bidden (zie  1 Timoteus 2 : 2). Natuurlijk ligt onze eerste verantwoording om te bidden voor onze leefsituatie: kerk\, gezin\, werk of school\, maar er zijn ook gebieden die wat verder weg liggen maar ons allemaal aangaan\, bijv. de gemeenteraad\, het ziekenhuis\, etc.. Kerntekst voor het Stadsgebed is Jeremia  29 : 7 “Bid  tot de Heer voor de stad ….. en zet je in voor haar bloei\, want in de bloei van de stad is ook jullie bloei”. \nGod zegt: “Ik heb gezocht naar iemand die voor mijn aangezicht op de bres zou kunnen staan.” .. ben jij beschikbaar? \nLET OP: Om aanwezig te zijn is het absoluut noodzakelijk dat je je van te voren – uiterlijk zondag 9 mei – aanmeldt middels een mail naar ewester@caiway.nl. \nAls je bij de eerste 30 aanmeldingen zit\, ontvang je maandag een mail met een uitnodiging (of een bericht als je aanmelding niet is gehonoreerd i.v.m. meer dan 30 aanmeldingen). \nHartelijke groet\,\nHenriëtte Bos\, Henk Jansen en Annemarie Stuiver
URL:https://fonteinwerk.nl/agenda/stadsgebed-harderwijk/
LOCATION:Plantagekerk Harderwijk\, Stationslaan 136\, Harderwijk\, Gelderland\, 3841 DC\, Nederland
END:VEVENT
BEGIN:VEVENT
DTSTART;TZID=Europe/Amsterdam:20210516T113000
DTEND;TZID=Europe/Amsterdam:20210516T123000
DTSTAMP:20260422T204031
CREATED:20210427T084339Z
LAST-MODIFIED:20210511T065151Z
UID:8646-1621164600-1621168200@fonteinwerk.nl
SUMMARY:Fonteindienst - Ave Maria
DESCRIPTION:Wees gegroet Maria\, moeder van Jezus. Zij zal deze Fonteindienst centraal staan. We gaan ook kijken naar de verschillende rollen die Maria speelt binnen de katholieke en protestantse kerk. \nPastor Joost Verhoef van het Onze Lieve Vrouwe Ziekenhuis in Amsterdam\, zal ons voorgaan in een vlog. Deze online dienst zal een net iets andere invulling krijgen dan normaal. Je mag het zeker niet missen. \nDeze online dienst begint om 11.30 uur en is te bekijken via CAI TV kanaal 707 of via de website www.pgharderwijk.nl/live-stream (klik op de foto van de Plantagekerk).\nVoel je welkom! \n 
URL:https://fonteinwerk.nl/agenda/fonteindienst-66/
LOCATION:Gelderland
END:VEVENT
BEGIN:VEVENT
DTSTART;TZID=Europe/Amsterdam:20210523T113000
DTEND;TZID=Europe/Amsterdam:20210523T123000
DTSTAMP:20260422T204031
CREATED:20210427T084406Z
LAST-MODIFIED:20210516T140302Z
UID:8648-1621769400-1621773000@fonteinwerk.nl
SUMMARY:Fonteindienst - Vol overgave
DESCRIPTION:De Fonteinviering van Pinksteren\, 23 mei om 11.30 uur\, wordt een bijzonder feestelijke dienst: Noor wordt gedoopt\, de dochter van Marijke en Marinke van Steinvoorn-Timmer. En op vrijdag 21 mei gaan Els Boekensteyn en Menno Beijer trouwen – zij hopen met Pinksteren in de dienst een zegen over hun huwelijk te krijgen. De dienst is voorbereid samen met de @homegroep van Marinke en Marijke. \nHet thema van deze dienst is: “Vol overgave”.\nDe beste manier om je kind te beschermen is om het los te laten en in handen van God te leggen. En wat heeft dit met Pinksteren te maken? Henk Jansen zal hierover met ons nadenken. \nDeze online dienst begint om 11.30 uur en is te bekijken via CAI TV kanaal 707 of via de website www.pgharderwijk.nl/live-stream (klik op de foto van de Plantagekerk). \n 
URL:https://fonteinwerk.nl/agenda/fonteindienst-67/
LOCATION:Gelderland
END:VEVENT
END:VCALENDAR