BEGIN:VCALENDAR
VERSION:2.0
PRODID:-//Fonteinwerk - ECPv6.6.4.2//NONSGML v1.0//EN
CALSCALE:GREGORIAN
METHOD:PUBLISH
X-ORIGINAL-URL:https://fonteinwerk.nl
X-WR-CALDESC:Evenementen voor Fonteinwerk
REFRESH-INTERVAL;VALUE=DURATION:PT1H
X-Robots-Tag:noindex
X-PUBLISHED-TTL:PT1H
BEGIN:VTIMEZONE
TZID:Europe/Amsterdam
BEGIN:DAYLIGHT
TZOFFSETFROM:+0100
TZOFFSETTO:+0200
TZNAME:CEST
DTSTART:20210328T010000
END:DAYLIGHT
BEGIN:STANDARD
TZOFFSETFROM:+0200
TZOFFSETTO:+0100
TZNAME:CET
DTSTART:20211031T010000
END:STANDARD
END:VTIMEZONE
BEGIN:VEVENT
DTSTART;TZID=Europe/Amsterdam:20210306T101500
DTEND;TZID=Europe/Amsterdam:20210306T150000
DTSTAMP:20260423T003020
CREATED:20210218T113356Z
LAST-MODIFIED:20210218T113429Z
UID:8450-1615025700-1615042800@fonteinwerk.nl
SUMMARY:New wine - Winterconferentie
DESCRIPTION:Zaterdag 6 maart 2021 van 10.00 uur tot 15.30 uur tot vindt de online Winterconferentie van New Wine plaats. Het wordt een uitzending vanuit de Westerkerk in Ermelo. \nIn samenwerking met de predikantengroep Ermelo-Harderwijk is er een mooi programma samengesteld. André Priem namens de Westerkerk en Henk Jansen namens Fonteinwerk werken hieraan mee. \nPhilip Troost en Agnes Huizenga zullen spreken over het thema vergeving en innerlijke genezing. \nDe focus is op ministry en de kracht van persoonlijke voorbede. Ook is er gelegenheid om zelf online met een ministryteam in contact te komen. Ook een aantal mensen uit het ministryteam van Fonteinwerk zal hieraan meewerken. Meer info vind je op de website van new-wine.  \nJe bent hartelijk uitgenodigd om de dag of een deel van de dag meemaken door deze link te gebruiken.  \n \nMeer info ook te krijgen bij Henk Jansen.
URL:https://fonteinwerk.nl/agenda/new-wine-winterconferentie/
LOCATION:Live Stream
ATTACH;FMTTYPE=image/jpeg:https://fonteinwerk.nl/wp-content/uploads/2021/02/2021-02-18-12_28_01-Window.jpg
END:VEVENT
BEGIN:VEVENT
DTSTART;TZID=Europe/Amsterdam:20210307T113000
DTEND;TZID=Europe/Amsterdam:20210307T123000
DTSTAMP:20260423T003020
CREATED:20210218T115009Z
LAST-MODIFIED:20210309T084535Z
UID:8461-1615116600-1615120200@fonteinwerk.nl
SUMMARY:Fonteindienst - Iedereen heeft een verhaal
DESCRIPTION:Online Fonteindienst 7 maart 2021 \nIn deze online-Fonteindienst op 7 maart wordt het Heilig Avondmaal gevierd. Je wordt uitgenodigd om thuis alvast brood en wijn of druivensap klaar te zetten om dit samen mee te vieren. \nSpreker: Frans van Velzen \nMuziek: I4U \n11.30 vanuit de Plantagekerk \nwww.pgharderwijk.nl/live-stream \nCAI kanaal 707
URL:https://fonteinwerk.nl/agenda/fonteindienst-7-maart-iedereen-heeft-een-verhaal/
LOCATION:Online Dienst
END:VEVENT
BEGIN:VEVENT
DTSTART;TZID=Europe/Amsterdam:20210310T200000
DTEND;TZID=Europe/Amsterdam:20210310T213000
DTSTAMP:20260423T003020
CREATED:20210204T071046Z
LAST-MODIFIED:20210218T115218Z
UID:8405-1615406400-1615411800@fonteinwerk.nl
SUMMARY:Workshop - Heel het leven
DESCRIPTION:
URL:https://fonteinwerk.nl/agenda/workshop-heel-het-leven/
LOCATION:Gelderland
END:VEVENT
BEGIN:VEVENT
DTSTART;TZID=Europe/Amsterdam:20210314T113000
DTEND;TZID=Europe/Amsterdam:20210314T123000
DTSTAMP:20260423T003020
CREATED:20210309T084456Z
LAST-MODIFIED:20210309T084456Z
UID:8517-1615721400-1615725000@fonteinwerk.nl
SUMMARY:Fonteindienst - Mijn wil\, Uw wil
DESCRIPTION:In deze online dienst gaan we het hebben over de kracht van het Gebed.\nWe bidden om belangrijke zaken die we graag willen. Maar kan je God wel een verlanglijstje voorleggen? Wiens wil zou geschiede? Jouw wil of Zijn Wil? \nHoe ga je daarmee om? Ds. Henk Jansen gaat hier dieper op in en de muziek is van CrossFade\, uit Dronten. \nDeze online Fonteindienst begint om 11.30 uur en is te bekijken via CAI TV kanaal 707 of via de website www.pgharderwijk.nl/live-stream (klik op de foto van de plantagekerk).
URL:https://fonteinwerk.nl/agenda/fonteindienst-mijn-wil-uw-wil/
LOCATION:Gelderland
END:VEVENT
BEGIN:VEVENT
DTSTART;TZID=Europe/Amsterdam:20210317T200000
DTEND;TZID=Europe/Amsterdam:20210317T213000
DTSTAMP:20260423T003020
CREATED:20210204T071256Z
LAST-MODIFIED:20210218T115417Z
UID:8409-1616011200-1616016600@fonteinwerk.nl
SUMMARY:Workshop - Heel het leven
DESCRIPTION:  \n \n 
URL:https://fonteinwerk.nl/agenda/workshop-heel-het-leven-2/
LOCATION:Gelderland
END:VEVENT
BEGIN:VEVENT
DTSTART;TZID=Europe/Amsterdam:20210321T113000
DTEND;TZID=Europe/Amsterdam:20210321T123000
DTSTAMP:20260423T003020
CREATED:20210311T154358Z
LAST-MODIFIED:20210311T154358Z
UID:8541-1616326200-1616329800@fonteinwerk.nl
SUMMARY:Fonteindienst - Heel de kerk
DESCRIPTION:Heel de kerk – zou dat niet mooi zijn? Wanneer we een geheelde kerk konden zijn? Er zijn in het verleden fouten gemaakt en misschien worden ze nog wel altijd gemaakt; ook binnen een christelijke gemeenschap.\nMaar wat zorgt ervoor dat jij daarna toch ook weer verder kunt? \nIeder mens draagt wel een bepaalde vorm van pijn met zich mee. Toch helpt het om te weten dat die pijn er ook mag zijn; bij elkaar en bij Jezus. \nDs. Marissa van Meijl gaat ons hier meer over vertellen. \nDeze online Fonteindienst begint om 11.30 uur en is te bekijken via CAI TV kanaal 707 of via de website www.pgharderwijk.nl/live-stream (klik op de foto van de plantagekerk). \nJe bent van harte welkom! \n 
URL:https://fonteinwerk.nl/agenda/fonteindienst-heel-de-kerk/
LOCATION:Gelderland
END:VEVENT
BEGIN:VEVENT
DTSTART;TZID=Europe/Amsterdam:20210331T200000
DTEND;TZID=Europe/Amsterdam:20210331T213000
DTSTAMP:20260423T003020
CREATED:20210204T071546Z
LAST-MODIFIED:20210218T115620Z
UID:8415-1617220800-1617226200@fonteinwerk.nl
SUMMARY:Workshop - Heel het leven
DESCRIPTION: 
URL:https://fonteinwerk.nl/agenda/workshop-heel-het-leven-5/
LOCATION:Gelderland
END:VEVENT
END:VCALENDAR