BEGIN:VCALENDAR
VERSION:2.0
PRODID:-//Fonteinwerk - ECPv6.6.4.2//NONSGML v1.0//EN
CALSCALE:GREGORIAN
METHOD:PUBLISH
X-WR-CALNAME:Fonteinwerk
X-ORIGINAL-URL:https://fonteinwerk.nl
X-WR-CALDESC:Evenementen voor Fonteinwerk
REFRESH-INTERVAL;VALUE=DURATION:PT1H
X-Robots-Tag:noindex
X-PUBLISHED-TTL:PT1H
BEGIN:VTIMEZONE
TZID:Europe/Amsterdam
BEGIN:DAYLIGHT
TZOFFSETFROM:+0100
TZOFFSETTO:+0200
TZNAME:CEST
DTSTART:20210328T010000
END:DAYLIGHT
BEGIN:STANDARD
TZOFFSETFROM:+0200
TZOFFSETTO:+0100
TZNAME:CET
DTSTART:20211031T010000
END:STANDARD
END:VTIMEZONE
BEGIN:VEVENT
DTSTART;TZID=Europe/Amsterdam:20210103T113000
DTEND;TZID=Europe/Amsterdam:20210103T123000
DTSTAMP:20260423T040926
CREATED:20201229T135215Z
LAST-MODIFIED:20201229T135409Z
UID:8300-1609673400-1609677000@fonteinwerk.nl
SUMMARY:Fonteindienst - Anno Domini
DESCRIPTION:We staan stil bij de dagen van het jaar\, en de vraag waarom alleen de zondag als dag van de Heer wordt beschouwd. Eigenlijk zou elke dag in het teken van de Heer moeten staan! \nSjaak Teuwissen gaat hier tijdens de dienst dieper op in. Het thema is Anno Domini. \nSchakel om 11.30 uur weer in via CAI TV kanaal 707 of via de website www.pgharderwijk.nl/live-stream (klik op de foto van de Plantagekerk). Graag tot dan!
URL:https://fonteinwerk.nl/agenda/fonteindienst-anno-domini/
LOCATION:Plantagekerk Harderwijk\, Stationslaan 136\, Harderwijk\, Gelderland\, 3841 DC\, Nederland
END:VEVENT
BEGIN:VEVENT
DTSTART;TZID=Europe/Amsterdam:20210110T113000
DTEND;TZID=Europe/Amsterdam:20210110T123000
DTSTAMP:20260423T040926
CREATED:20210104T093325Z
LAST-MODIFIED:20210104T093345Z
UID:8312-1610278200-1610281800@fonteinwerk.nl
SUMMARY:Fonteindienst - Met hart en handen
DESCRIPTION:Voel jij je geroepen om je talenten in te zetten\, of zie jij het als een morele plicht? Ieder heeft zijn eigen talent\, soms moet je getriggerd worden door een ander waardoor je ontdekt hoe mooi het is om je in te zetten voor de kerk\, voor God. \nHenk Jansen gaat hier deze dienst dieper op in. \nDeze dienst staat in het teken van de bevestiging Jolanda van Steinvoorn als ambtsdrager. We zijn dankbaar dat zij haar talenten wil inzetten als lid van de stuurgroep Fonteinwerk.\nOok nemen we afscheid van twee ambtsdragers. Cor Boon en Herman Hulleman leggen hun taak als ouderling neer. Jaren hebben zij deze taak op zich genomen\, waar wij hen voor willen danken. Ook Theo Wijnsma treedt terug als lid van de stuurgroep. Wekelijks voorzag hij ons van het Fonteinnieuws en deed hij de communicatie voor het Fonteinwerk. En hij stond aan de wieg van ‘Vrienden van Fonteinwerk’. Dank daarvoor. \nDe muzikale begeleiding is in handen van Praiseband Ivy. \nSchakel om 11.30 uur weer in via CAI TV kanaal 707 of via de website www.pgharderwijk.nl/live-stream (klik op de foto van de Plantagekerk). Graag tot dan! \n 
URL:https://fonteinwerk.nl/agenda/fonteindienst-met-hart-en-handen/
LOCATION:Plantagekerk Harderwijk\, Stationslaan 136\, Harderwijk\, Gelderland\, 3841 DC\, Nederland
END:VEVENT
BEGIN:VEVENT
DTSTART;TZID=Europe/Amsterdam:20210117T113000
DTEND;TZID=Europe/Amsterdam:20210117T123000
DTSTAMP:20260423T040926
CREATED:20210106T073721Z
LAST-MODIFIED:20210106T073721Z
UID:8317-1610883000-1610886600@fonteinwerk.nl
SUMMARY:Fonteindienst - Bezielde beschaving
DESCRIPTION:‘Diversiteit in de samenleving. Tegenwoordig is veelkleurigheid de norm. Maar is dat ook echt zo? Staan we open voor de meningen en gebruiken van vreemdelingen? Staan we open voor wie ze echt zijn en heten we ze welkom? Of stellen we beperkingen aan onze gastvrijheid en gaan we polderen over wat we bereid zijn te doen? Hebreeën 13:2 leert ons: ‘Vergeet niet om gastvrij te zijn. Want sommige mensen hebben engelen op bezoek gehad\, zonder dat ze het wisten.’\n\nSpreker Dave Ensberg is o.a. directeur-bestuurder bij stichting Jantje Beton en auteur van het boek ‘Bezielde beschaving’.\n\nDe muziek wordt verzorgd door Annelien & Band.\n\nSchakel om 11.30 uur weer in via CAI TV kanaal 707 of via de website www.pgharderwijk.nl/live-stream (klik op de foto van de Plantagekerk).\nGraag tot dan!
URL:https://fonteinwerk.nl/agenda/fonteindienst-bezielde-beschaving/
LOCATION:Plantagekerk Harderwijk\, Stationslaan 136\, Harderwijk\, Gelderland\, 3841 DC\, Nederland
END:VEVENT
BEGIN:VEVENT
DTSTART;TZID=Europe/Amsterdam:20210127T193000
DTEND;TZID=Europe/Amsterdam:20210127T210000
DTSTAMP:20260423T040926
CREATED:20210106T074153Z
LAST-MODIFIED:20210114T083230Z
UID:8320-1611775800-1611781200@fonteinwerk.nl
SUMMARY:Online community avond - Heeft Fonteinwerk toekomst?
DESCRIPTION:19.30 uur start\, 19.15 uur inloop Zoom! Deze avond is voor gasten\, bezoekers en vrijwilligers van Fonteindiensten en Fonteinevents. Jij bent van harte welkom en we hebben jou en elkaar nodig. Kom je ook? \nDe afgelopen 2 jaar hebben we op verschillende avonden aandacht besteed aan wat we met elkaar vinden in het Fonteinwerk en waar ons verlangen naar uitgaat voor de toekomst. Deze input is nu verder gebracht en tot een beleidsplan samengekomen voor de komende 4 jaar.\nNa verschillende brainstormavonden en veel gebed is een eerste idee geboren hoe we als Fonteinwerk in Harderwijk volgende stappen willen maken. In het verder opbouwen van de community\, in het volgen van Jezus en hoe we als missionaire wijkgemeente er voor elkaar en onze omgeving willen zijn in woorden en daden. De hoofdpunten van de ideeën willen we graag met jou delen en we hebben jouw hulp nodig om dit verder te brengen en af te ronden. \nLaat je even bij Henk Verschuuren weten of je komt? secretarisfonteinwerk@gmail.com. Zo houden we rekening met jouw komst!! \nInloggegevens mbt zoom e.d. volgen later. \nNamens Stuurgroep Fonteinwerk\, Martijn Stuiver
URL:https://fonteinwerk.nl/agenda/online-community-avond-heeft-fonteinwerk-toekomst/
LOCATION:Gelderland
END:VEVENT
END:VCALENDAR