BEGIN:VCALENDAR
VERSION:2.0
PRODID:-//Fonteinwerk - ECPv6.6.4.2//NONSGML v1.0//EN
CALSCALE:GREGORIAN
METHOD:PUBLISH
X-ORIGINAL-URL:https://fonteinwerk.nl
X-WR-CALDESC:Evenementen voor Fonteinwerk
REFRESH-INTERVAL;VALUE=DURATION:PT1H
X-Robots-Tag:noindex
X-PUBLISHED-TTL:PT1H
BEGIN:VTIMEZONE
TZID:Europe/Amsterdam
BEGIN:DAYLIGHT
TZOFFSETFROM:+0100
TZOFFSETTO:+0200
TZNAME:CEST
DTSTART:20200329T010000
END:DAYLIGHT
BEGIN:STANDARD
TZOFFSETFROM:+0200
TZOFFSETTO:+0100
TZNAME:CET
DTSTART:20201025T010000
END:STANDARD
END:VTIMEZONE
BEGIN:VEVENT
DTSTART;TZID=Europe/Amsterdam:20201202T200000
DTEND;TZID=Europe/Amsterdam:20201202T210000
DTSTAMP:20260423T061438
CREATED:20201106T100129Z
LAST-MODIFIED:20201117T132952Z
UID:7977-1606939200-1606942800@fonteinwerk.nl
SUMMARY:Extra Fonteindienst - Kamp Moria
DESCRIPTION:Kamp Moria op Lesbos was de afgelopen tijd veel in het nieuws. Als Fonteinwerk willen wij daar niet zomaar aan voorbij gaan. \nHet event gaat over het ontstaan van Moria\, de verschrikkelijke brand maar ook over de huidige situatie. Dominee Henk Jansen neemt ons mee in een overdenking. Marijn Fidder houdt een interactieve presentatie. Marijn is voor haar werk als fotografe twee keer op Moria geweest.\nEen band onder leiding van Jo-Anne Taylor verzorgt de muziek. \nDe collecte is voor GAiN\, een christelijke hulporganisatie die directe hulp verleent aan de mensen in het kamp. \nKortom\, een avond om niet te missen. Wil je live aanwezig zijn? Geef je dan snel op\, want het aantal bezoekers is beperkt tot maximaal dertig. Geef je op via de volgende link hieronder https://forms.gle/1KxAFY5fXvWgDGPC9 \nJe kunt ook meekijken op CAI TV kanaal 707 of via www.pgharderwijk.nl/live-stream (klik op de foto van de Plantagekerk). \nJe bent van harte welkom!
URL:https://fonteinwerk.nl/agenda/extra-fonteindienst-kamp-moria/
LOCATION:Gelderland
END:VEVENT
BEGIN:VEVENT
DTSTART;TZID=Europe/Amsterdam:20201203T193000
DTEND;TZID=Europe/Amsterdam:20201203T210000
DTSTAMP:20260423T061438
CREATED:20201117T184745Z
LAST-MODIFIED:20201117T184745Z
UID:8128-1607023800-1607029200@fonteinwerk.nl
SUMMARY:Gemeentebijeenkomst PGH
DESCRIPTION:Namen de Algemene Kerkenraad\, nodig ik u hierbij uit voor het bijwonen van de gemeentebijeenkomst donderdag op 3 december aanstaande.\nDe bijeenkomst begint om 19.30 uur in en vanuit de Plantagekerk. De bijeenkomst zal door Covid-19 anders zijn dan voorgaande jaren. \nWaarvoor nodigen wij u uit: \n\nom de begroting 2021 van de PGH te bespreken\, waarover u dan vragen kan stellen\nom de laatste stand van zaken te melden over de beoogde verbouwing van de Plantagekerk\n\nHoe gaan wij vergaderen; rekening houdend met de huidige regels rond Covid-19\, kunnen er maximaal 30 gemeenteleden aanwezig zijn in de Plantagekerk.\nOm aan de vergadering te kunnen deelnemen\, zijn er twee mogelijkheden\, namelijk: \n\ndoor aanwezig te zijn in de Plantagekerk\nvia “Kerkdienst gemist” door middel van een toegangscode\n\nOm aan de vergadering te kunnen deelnemen\, kunt u zich aanmelden via scriba.plantagekerk@pgharderwijk.nl \nGeef hierbij dan aan of u  aanwezig wilt zijn in de Plantagekerk of dat u wilt deelnemen via kerkdienst gemist. Als u heeft aangegeven te willen deelnemen door uw aanwezigheid in de Plantagekerk\, dan krijgt u hiervan bericht of dit kan\, gelet op het maximaal aantal aanwezigen. Als u heeft aangegeven dat u via kerkdienst gemist deelneemt\, dan krijgt u hiervoor een toegangscode gemaild. \nDe begroting 2021 zal tijdig worden gepubliceerd in Samen Geroepen en op de website. \nWij hopen op uw komst en deelname. \nNamens de Algemene Kerkenraad\,\nCoen van Woerkom Scriba
URL:https://fonteinwerk.nl/agenda/gemeentebijeenkomst-pgh/
LOCATION:Plantagekerk Harderwijk\, Stationslaan 136\, Harderwijk\, Gelderland\, 3841 DC\, Nederland
END:VEVENT
BEGIN:VEVENT
DTSTART;TZID=Europe/Amsterdam:20201206T113000
DTEND;TZID=Europe/Amsterdam:20201206T123000
DTSTAMP:20260423T061438
CREATED:20201117T133854Z
LAST-MODIFIED:20201203T080803Z
UID:8120-1607254200-1607257800@fonteinwerk.nl
SUMMARY:Fonteindienst - Hoop doet leven!
DESCRIPTION:Deze 2e advent gaat Gerrit de Haan voor. Het thema is: Hoop doet leven! \nIn de tijd van Jezus’ geboorte waren er\, net als nu\, grote heersers en machthebbers die met harde hand regeerden. En toen kwam Jezus als Hoop voor de wereld. Hij was het licht in donkere tijden.\nNu\, meer dan 2000 jaar later\, is die hoop ook nodig. Misschien wel meer dan ooit.\nHoe hou jij het vlammetje van de hoop brandend? Gerrrit zal ons meer vertellen over Jezus\, onze Hoop\, ook nu! \nDe muziek wordt verzorgd door Efron & Iris. Er is deze eerste dienst van december ook kinderdienst en oppas. \nJe bent welkom\, online of fysiek (wel aanmelden) om 11.30 uur in de Plantagekerk te Harderwijk \nIn verband met de huidige corona maatregelen is er beperkt plaats in de kerk om de dienst live te bezoeken. Wil je de dienst live bezoeken\, dan moet je je vooraf even aanmelden. Vul het online aanmeldformulier in voor elke persoon (ook binnen je gezin) die mee gaat naar de kerk. Dit scheelt veel handmatige administratie voor het team. Klik op de volgende link om je aan te melden: https://forms.gle/DnNjgSsyeo7svJoZ6 \nDe Fonteindienst is ook te volgen via de live-stream en de CAI televisie.\nSchakel om 11.30 uur weer in via CAI TV kanaal 707 of via de website www.pgharderwijk.nl/live-stream (klik op de foto van de Plantagekerk).\n\nJe bent van harte welkom!
URL:https://fonteinwerk.nl/agenda/fonteindienst-hoop-doet-leven/
LOCATION:Plantagekerk Harderwijk\, Stationslaan 136\, Harderwijk\, Gelderland\, 3841 DC\, Nederland
END:VEVENT
BEGIN:VEVENT
DTSTART;TZID=Europe/Amsterdam:20201213T113000
DTEND;TZID=Europe/Amsterdam:20201213T123000
DTSTAMP:20260423T061438
CREATED:20201117T134310Z
LAST-MODIFIED:20201210T081535Z
UID:8123-1607859000-1607862600@fonteinwerk.nl
SUMMARY:Fonteindienst - Jezus bevrijdt
DESCRIPTION:Deze 3e adventszondag\, waarin wij ook het Heilig Avondmaal vieren\, is het thema: Jezus bevrijdt. \nIn ‘Stille nacht’ zingen wij met elkaar “vreed en heil wordt gebracht\, aan een wereld verloren in schuld”. Jezus’ naam betekent ‘Hij zal Zijn volk bevrijden van hun zonden’. \nSchuld\, zonden\, vergeving\,… zeggen deze woorden ons nog iets? Zo ja\, gaat het dan over persoonlijke fouten of heeft de wereld om ons heen er ook mee te maken? Ds. Pieter Both zal ons meer vertellen over wat Jezus te maken heeft met schuld\, zonden en vergeving\, waarna wij met elkaar het feest van de genade mogen vieren. \nDe muziek wordt verzorgd door Praiseband Ivy. \nEr is deze tweede dienst van december geen kinderdienst en oppas. \nJe bent welkom\, online of fysiek (wel aanmelden) om 11.30 uur in de Plantagekerk te Harderwijk \nIn verband met de huidige corona maatregelen is er beperkt plaats in de kerk om de dienst live te bezoeken. Wil je de dienst live bezoeken\, dan moet je je vooraf even aanmelden. Vul het online aanmeldformulier in voor elke persoon (ook binnen je gezin) die mee gaat naar de kerk. Dit scheelt veel handmatige administratie voor het team. Klik op de volgende link om je aan te melden: https://forms.gle/fa7UfiBoERPkAYF97 \nDe Fonteindienst is ook te volgen via de live-stream en de CAI televisie.\nSchakel om 11.30 uur weer in via CAI TV kanaal 707 of via de website www.pgharderwijk.nl/live-stream (klik op de foto van de Plantagekerk).\n\nJe bent van harte welkom!
URL:https://fonteinwerk.nl/agenda/fonteindienst-jezus-bevrijdt/
LOCATION:Plantagekerk Harderwijk\, Stationslaan 136\, Harderwijk\, Gelderland\, 3841 DC\, Nederland
END:VEVENT
BEGIN:VEVENT
DTSTART;TZID=Europe/Amsterdam:20201220T113000
DTEND;TZID=Europe/Amsterdam:20201220T130000
DTSTAMP:20260423T061438
CREATED:20201130T090615Z
LAST-MODIFIED:20201210T080810Z
UID:8164-1608463800-1608469200@fonteinwerk.nl
SUMMARY:Fonteindienst - Overgave
DESCRIPTION:Zondag 20 december is de vierde adventszondag. Op deze dag gaat ds. Henk Jansen voor in een speciale doopdienst.\nJob Burger en Menno Kuiper zullen dan hun geloof belijden en gedoopt worden. \n“In Christus zijn we een nieuwe schepping. De ‘oude’ mens wordt begraven. We worden een  ‘nieuwe’ mens.\nWe leven niet slechts voor onszelf\, maar willen ons laten leiden door Christus” \nJe bent welkom\, online of fysiek (wel aanmelden) om 11.30 uur in de Plantagekerk te Harderwijk \nIn verband met de huidige corona maatregelen is er beperkt plaats in de kerk om de dienst live te bezoeken. Wil je de dienst live bezoeken\, dan moet je je vooraf even aanmelden. Vul het online aanmeldformulier in voor elke persoon (ook binnen je gezin) die mee gaat naar de kerk. Dit scheelt veel handmatige administratie voor het team. Klik op de volgende link om je aan te melden: https://forms.gle/hEEdQs8XQ1LnCWov6 \nDe Fonteindienst is ook te volgen via de live-stream en de CAI televisie.\nSchakel om 11.30 uur weer in via CAI TV kanaal 707 of via de website www.pgharderwijk.nl/live-stream (klik op de foto van de Plantagekerk).\n\nJe bent van harte welkom!
URL:https://fonteinwerk.nl/agenda/fonteindienst-63/
LOCATION:Plantagekerk Harderwijk\, Stationslaan 136\, Harderwijk\, Gelderland\, 3841 DC\, Nederland
END:VEVENT
BEGIN:VEVENT
DTSTART;TZID=Europe/Amsterdam:20201225T113000
DTEND;TZID=Europe/Amsterdam:20201225T123000
DTSTAMP:20260423T061438
CREATED:20201204T160422Z
LAST-MODIFIED:20201222T095741Z
UID:8194-1608895800-1608899400@fonteinwerk.nl
SUMMARY:KerstFonteindienst - Geef licht
DESCRIPTION:In deze donkere dagen vieren we het feest van de geboorte van Jezus. Hij kwam om licht te brengen in ons leven\, om ons als het ware aan te zetten\, zodat wij het licht door kunnen geven en voor anderen een licht mogen zijn. \nDoor te luisteren en mee te zingen met bekende kerstliederen gespeeld door Praiseband Ivy hopen we dat jij geïnspireerd wordt om licht te (blijven) geven.\nDs. Henk Jansen zorgt voor een overdenking die je stof tot nadenken zal geven zodat ook jij je licht aan gaat/blijft doen. \nIn verband met de huidige corona maatregelen kun je de dienst niet in de kerk bijwonen. \nJe bent van harte welkom om deze KerstFonteindienst online te volgen via de live-stream en de CAI televisie. \nSchakel om 11.30 uur weer in via CAI TV kanaal 707 of via de website www.pgharderwijk.nl/live-stream (klik op de foto van de Plantagekerk).\n\nEen gezegende Kerstdienst gewenst!
URL:https://fonteinwerk.nl/agenda/fonteindienst-eerste-kerstdag/
LOCATION:Plantagekerk Harderwijk\, Stationslaan 136\, Harderwijk\, Gelderland\, 3841 DC\, Nederland
END:VEVENT
END:VCALENDAR