BEGIN:VCALENDAR
VERSION:2.0
PRODID:-//Fonteinwerk - ECPv6.6.4.2//NONSGML v1.0//EN
CALSCALE:GREGORIAN
METHOD:PUBLISH
X-ORIGINAL-URL:https://fonteinwerk.nl
X-WR-CALDESC:Evenementen voor Fonteinwerk
REFRESH-INTERVAL;VALUE=DURATION:PT1H
X-Robots-Tag:noindex
X-PUBLISHED-TTL:PT1H
BEGIN:VTIMEZONE
TZID:Europe/Amsterdam
BEGIN:DAYLIGHT
TZOFFSETFROM:+0100
TZOFFSETTO:+0200
TZNAME:CEST
DTSTART:20200329T010000
END:DAYLIGHT
BEGIN:STANDARD
TZOFFSETFROM:+0200
TZOFFSETTO:+0100
TZNAME:CET
DTSTART:20201025T010000
END:STANDARD
END:VTIMEZONE
BEGIN:VEVENT
DTSTART;TZID=Europe/Amsterdam:20200705T113000
DTEND;TZID=Europe/Amsterdam:20200705T123000
DTSTAMP:20260423T170051
CREATED:20200604T085835Z
LAST-MODIFIED:20200621T142548Z
UID:7154-1593948600-1593952200@fonteinwerk.nl
SUMMARY:Fonteindienst - Bekijk via livestream
DESCRIPTION:Deze zondag gaat ds. Henk Jansen voor. Tijdens deze dienst zal Bente Groeneveld gedoopt worden. Het thema is Geef het door! \nNog steeds zitten we in de Corona tijd en is het samen zijn veelal nog op afstand\, maar ook op afstand zijn we één gemeente met God als onze Vader. Vanuit deze verbinding willen de doopouders hun dochter Bente laten dopen. Ze willen hun liefde voor God doorgeven aan hun kinderen. Lastig in deze tijd waarin ontwikkelingen zo snel gaan.\nHoe geven we ons geloof door aan onze kinderen in deze tijd? Wat wil jij doorgeven? Henk zal ons hier meer over vertellen. \nSchakel om 11.30 uur weer in via CAI TV kanaal 707 of via de website www.pgharderwijk.nl/live-stream (klik op de foto van de Plantagekerk).\n\nJe bent van harte welkom!
URL:https://fonteinwerk.nl/agenda/fonteindienst-bekijk-via-livestream-16/
LOCATION:Gelderland
END:VEVENT
BEGIN:VEVENT
DTSTART;TZID=Europe/Amsterdam:20200712T113000
DTEND;TZID=Europe/Amsterdam:20200712T123000
DTSTAMP:20260423T170051
CREATED:20200604T085911Z
LAST-MODIFIED:20200708T150642Z
UID:7156-1594553400-1594557000@fonteinwerk.nl
SUMMARY:Fonteindienst - Bekijk via livestream
DESCRIPTION:Deze dienst gaat ds. David Kroeze voor. Het thema is: “Nu ga ik het anders doen!” \nDe afgelopen periode hebben we veel noodgedwongen stil moeten staan. Agenda’s waren veelal leeg. Vliegtuigen stonden stil\, minder auto’s op de weg en dat ten tijde van het voorjaar. De vogels hoorden we luider dan ooit tevoren. De roep dat het anders moet in de toekomst hoor je steeds vaker maar toch zodra de regels versoepelden\, bleek dat mensen toch weer gingen vliegen of de auto pakten naar het buitenland.\nActie blijkt best lastig\, zeker als je iets moet inleveren. \nHoe verantwoordelijk voelen we ons voor Gods schepping? Hoe fijn zou het zijn als we God kunnen helpen om Zijn ideale wereld mee te helpen bouwen? Weet je hoe deze eruit zal zien? David zal ons meer vertellen over wat de Bijbel ons hierover vertelt. \nSchakel om 11.30 uur weer in via CAI TV kanaal 707 of via de website www.pgharderwijk.nl/live-stream (klik op de foto van de Plantagekerk).\n\nJe bent van harte welkom!\n 
URL:https://fonteinwerk.nl/agenda/fonteindienst-bekijk-via-livestream-17/
LOCATION:Gelderland
END:VEVENT
BEGIN:VEVENT
DTSTART;TZID=Europe/Amsterdam:20200719T113000
DTEND;TZID=Europe/Amsterdam:20200719T123000
DTSTAMP:20260423T170051
CREATED:20200702T151319Z
LAST-MODIFIED:20200702T151319Z
UID:7362-1595158200-1595161800@fonteinwerk.nl
SUMMARY:Fonteindienst - Bekijk via livestream
DESCRIPTION:Thema van vandaag is “Keep me burning!” \nHoe houd je je geloof brandend nu we onzeker wachten op de tijd dat elkaar ontmoeten niet meer gevaarlijk is?\nWe laten ons inspireren deze zondag om reserve te hebben op die momenten dat het er toe doet. Ook als we tijdens de vakantie (nog meer) afstand nemen. \nLeger des Heils pionier Martin Brand is onze voorganger. \nSchakel om 11.30 uur weer in via CAI TV kanaal 707 of via de website www.pgharderwijk.nl/live-stream (klik op de foto van de Plantagekerk).\n\nJe bent van harte welkom!\n 
URL:https://fonteinwerk.nl/agenda/fonteindienst-bekijk-via-livestream-18/
LOCATION:Gelderland
END:VEVENT
END:VCALENDAR