BEGIN:VCALENDAR
VERSION:2.0
PRODID:-//Fonteinwerk - ECPv6.6.4.2//NONSGML v1.0//EN
CALSCALE:GREGORIAN
METHOD:PUBLISH
X-ORIGINAL-URL:https://fonteinwerk.nl
X-WR-CALDESC:Evenementen voor Fonteinwerk
REFRESH-INTERVAL;VALUE=DURATION:PT1H
X-Robots-Tag:noindex
X-PUBLISHED-TTL:PT1H
BEGIN:VTIMEZONE
TZID:Europe/Amsterdam
BEGIN:DAYLIGHT
TZOFFSETFROM:+0100
TZOFFSETTO:+0200
TZNAME:CEST
DTSTART:20200329T010000
END:DAYLIGHT
BEGIN:STANDARD
TZOFFSETFROM:+0200
TZOFFSETTO:+0100
TZNAME:CET
DTSTART:20201025T010000
END:STANDARD
END:VTIMEZONE
BEGIN:VEVENT
DTSTART;TZID=Europe/Amsterdam:20200607T113000
DTEND;TZID=Europe/Amsterdam:20200607T123000
DTSTAMP:20260423T171900
CREATED:20200328T111644Z
LAST-MODIFIED:20200604T073128Z
UID:6854-1591529400-1591533000@fonteinwerk.nl
SUMMARY:Fonteindienst - Bekijk via livestream
DESCRIPTION:Thema: Wandelen met God op anderhalve meter? \nBen jij ook zo langzamerhand moe van de afstand die we moeten houden?  En van online op afstand vieren?  En heb je weer zin om samen te  zijn en samen te zingen?\nBen je je ervan bewust dat jij het bent die met God wandelt? Hoe krijg je God binnen die anderhalve meter? Hoe ga je dat aanpakken\, wat heb je daar bij nodig\, voor de viering maar ook in je leven van alle dag? \nOp deze vragen gaat Henk Jansen verder in bij de overdenking in zijn vlog. \nSchakel om 11.30 uur weer in via CAI TV kanaal 707 of via de website www.pgharderwijk.nl/live-stream (klik op de foto van de Plantagekerk).\n\nJe bent van harte welkom!
URL:https://fonteinwerk.nl/agenda/fonteindienst-bekijk-via-livestream-11/
LOCATION:Gelderland
END:VEVENT
BEGIN:VEVENT
DTSTART;TZID=Europe/Amsterdam:20200614T113000
DTEND;TZID=Europe/Amsterdam:20200614T123000
DTSTAMP:20260423T171900
CREATED:20200422T131706Z
LAST-MODIFIED:20200604T073723Z
UID:6952-1592134200-1592137800@fonteinwerk.nl
SUMMARY:Fonteindienst - Bekijk via livestream
DESCRIPTION:Thema: Wake up call \nWat is jouw wake up call in deze corona-crisis? Zijn we wakker geschud hierdoor of drukken we nog een keer op snooze? \nIn deze tijd is het goed om naar de stem van God te luisteren. Maar hoe doe je dat? Wat heb je daar voor nodig?\nWat heb je nodig om Gods stem te verstaan\, om luisterend te leven.\nIn zijn vlog gaat ds. Gerhard Heeringa hier verder op in \nSchakel om 11.30 uur weer in via CAI TV kanaal 707 of via de website www.pgharderwijk.nl/live-stream (klik op de foto van de Plantagekerk).\n\nJe bent van harte welkom!\n 
URL:https://fonteinwerk.nl/agenda/fonteindienst-bekijk-via-livestream-13/
LOCATION:Gelderland
END:VEVENT
BEGIN:VEVENT
DTSTART;TZID=Europe/Amsterdam:20200621T113000
DTEND;TZID=Europe/Amsterdam:20200621T123000
DTSTAMP:20260423T171900
CREATED:20200422T131746Z
LAST-MODIFIED:20200605T131816Z
UID:6954-1592739000-1592742600@fonteinwerk.nl
SUMMARY:Fonteindienst - Bekijk via livestream
DESCRIPTION:Thema: Er op uit! \nJezus stuurt zijn discipelen er op uit na Zijn Hemelvaart. Op Pinksteren ontvangen zij de Geest om hen hierbij te helpen. Maar wij trekken er ook elke zomer op uit. Op veel plekken waar we komen kennen ze Hem gelukkig al. Dit raakt ons jaarthema ‘ken je Mij?’. Maar hoe kennen ze Hem overal? De verschillen zitten dan voornamelijk in de gebruiken\, rituelen\, vorm van het gebouw maar ook in hoe Jezus eruit ziet. Ga je hierover in gesprek met de mensen die je ontmoet op je reis? Woon je een dienst bij en wat leer je daarvan? \nOnze voorganger is  Rikko Voorberg\, ds van de PopUpKerk in Amsterdam. \nSchakel om 11.30 uur weer in via CAI TV kanaal 707 of via de website www.pgharderwijk.nl/live-stream (klik op de foto van de Plantagekerk).\n\nJe bent van harte welkom!
URL:https://fonteinwerk.nl/agenda/fonteindienst-bekijk-via-livestream-14/
LOCATION:Gelderland
END:VEVENT
BEGIN:VEVENT
DTSTART;TZID=Europe/Amsterdam:20200628T113000
DTEND;TZID=Europe/Amsterdam:20200628T123000
DTSTAMP:20260423T171900
CREATED:20200604T085723Z
LAST-MODIFIED:20200618T174052Z
UID:7151-1593343800-1593347400@fonteinwerk.nl
SUMMARY:Fonteindienst - Bekijk via YouTube
DESCRIPTION:Thema: What’s in a name? \nSoms hoor je mensen heel luchtig doen over een naam: “Ach\, what’s in a name?”\, zegt iemand dan. Maar als je beter kijkt\, dan zit er veel meer in een naam dan je eerst zou denken.\nIn onze wereld\, maar ook in de Bijbel zijn namen belangrijk. Hoe zit het met de Naam van God en Jezus? – we zingen daar veel over –. De Bijbel vertelt ons: Zijn Naam laat zien wie en hoe God is. En hoe zit het met jouw naam? \nKlaas de Vries gaat ons meer vertellen over dit thema. \nKijk om 11.30 uur live via YouTube: https://youtu.be/huxBMhmhV2g \n 
URL:https://fonteinwerk.nl/agenda/fonteindienst-bekijk-via-livestream-15/
LOCATION:Gelderland
END:VEVENT
END:VCALENDAR