BEGIN:VCALENDAR
VERSION:2.0
PRODID:-//Fonteinwerk - ECPv6.6.4.2//NONSGML v1.0//EN
CALSCALE:GREGORIAN
METHOD:PUBLISH
X-ORIGINAL-URL:https://fonteinwerk.nl
X-WR-CALDESC:Evenementen voor Fonteinwerk
REFRESH-INTERVAL;VALUE=DURATION:PT1H
X-Robots-Tag:noindex
X-PUBLISHED-TTL:PT1H
BEGIN:VTIMEZONE
TZID:Europe/Amsterdam
BEGIN:DAYLIGHT
TZOFFSETFROM:+0100
TZOFFSETTO:+0200
TZNAME:CEST
DTSTART:20240331T010000
END:DAYLIGHT
BEGIN:STANDARD
TZOFFSETFROM:+0200
TZOFFSETTO:+0100
TZNAME:CET
DTSTART:20241027T010000
END:STANDARD
END:VTIMEZONE
BEGIN:VEVENT
DTSTART;TZID=Europe/Amsterdam:20241225T113000
DTEND;TZID=Europe/Amsterdam:20241225T123000
DTSTAMP:20260419T165011
CREATED:20241219T153302Z
LAST-MODIFIED:20241219T153302Z
UID:12631-1735126200-1735129800@fonteinwerk.nl
SUMMARY:Fontein Kerstdienst - Shine His Light\, Share His Love
DESCRIPTION:In deze Kerstdienst mogen we weer met elkaar de geboorte van onze Heer Jezus vieren. Uiteraard is Hijzelf de hoofdgast. Zijn Licht kwam uit de hemel om hier op Aarde te schijnen. Zijn oneindige Liefde pleitte ons uiteindelijk vrij van onze zonden. Dit Licht en deze Liefde mogen wij ook met elkaar delen.\nDs. Sjaak Biewenga zal ons meenemen in het prachtige verhaal van Kerst. Een speciaal voor deze dienst gecreëerde band heeft de toepasselijke naam ‘Together for Christmas” en zal ons muzikaal begeleiden. \nOmdat we Kerst een uitgesproken familie feestdag vinden\, hebben we ervoor gekozen de dienst en kinderdienst hierop aan te passen. We denken en hopen dat we de dienst zo hebben ingevuld dat hij geschikt is voor kinderen vanaf groep 5. Voor de kinderen van groep 1 t/m 4 hebben we wel een kinderdienst op ‘t Zoldertje georganiseerd. Maar ze mogen uiteraard ook in de zaal blijven zitten. Voor de allerkleinsten is er\, zoals gebruikelijk\, ook oppas. \nNa afloop is er tijd en ruimte om elkaar te ontmoeten met koffie\, thee\, limonade en wat lekkers. \nWe zien je graag op 25 december in de Plantagekerk\, Stationslaan 136 in Harderwijk. \nDe Fonteindienst begint om 11.30 uur en is te bekijken via CAI TV kanaal 707 of via de website www.pgharderwijk.nl/live-stream (klik op de foto van de Plantagekerk).
URL:https://fonteinwerk.nl/agenda/fontein-kerstdienst-shine-his-light-share-his-love/
LOCATION:Plantagekerk Harderwijk\, Stationslaan 136\, Harderwijk\, Gelderland\, 3841 DC\, Nederland
END:VEVENT
END:VCALENDAR