BEGIN:VCALENDAR
VERSION:2.0
PRODID:-//Fonteinwerk - ECPv6.6.4.2//NONSGML v1.0//EN
CALSCALE:GREGORIAN
METHOD:PUBLISH
X-WR-CALNAME:Fonteinwerk
X-ORIGINAL-URL:https://fonteinwerk.nl
X-WR-CALDESC:Evenementen voor Fonteinwerk
REFRESH-INTERVAL;VALUE=DURATION:PT1H
X-Robots-Tag:noindex
X-PUBLISHED-TTL:PT1H
BEGIN:VTIMEZONE
TZID:Europe/Amsterdam
BEGIN:DAYLIGHT
TZOFFSETFROM:+0100
TZOFFSETTO:+0200
TZNAME:CEST
DTSTART:20240331T010000
END:DAYLIGHT
BEGIN:STANDARD
TZOFFSETFROM:+0200
TZOFFSETTO:+0100
TZNAME:CET
DTSTART:20241027T010000
END:STANDARD
END:VTIMEZONE
BEGIN:VEVENT
DTSTART;TZID=Europe/Amsterdam:20241201T113000
DTEND;TZID=Europe/Amsterdam:20241201T123000
DTSTAMP:20260419T164656
CREATED:20241122T153051Z
LAST-MODIFIED:20241122T153051Z
UID:12562-1733052600-1733056200@fonteinwerk.nl
SUMMARY:Fonteindienst - See you!?
DESCRIPTION:Op 1 december gaat de dienst over het thema “Ik zie jou”. Word jij gezien door anderen\, door God\, en laat jij jezelf zien? Er kunnen goede redenen zijn om jezelf niet te laten zien. In deze individualistische tijd waarin we veel online contact hebben kan je ook heel makkelijk op jezelf zijn. \nEn kan jij bijvoorbeeld je gamende of tiktokkende puber zien of iemand die een groot verdriet heeft? Wat kost dit jou en mag dit jou wat kosten? Dominee Sjaak Biewenga zal ons meer vertellen over waarom het zo belangrijk is om gezien te worden\, om anderen te zien en hoe dit je leven kan veranderen.\nHij vertelt hierover aan de hand van het verhaal van Zacheüs. Jezus zag hem ondanks alles en ging met hem aan tafel. Zo zullen wij dit ook doen deze dienst en samen het Avondmaal vieren. \nWe starten om 11:30 uur\, de muzikale begeleiding wordt verzorgd door Embrace. Er is oppas en kinderdienst\, en na afloop is er gelegenheid elkaar te ontmoeten.\nDeze dienst is ook online te volgen via CAI TV kanaal 707 of via www.pgharderwijk.nl/live-stream (klik op foto Plantagekerk). \nZien we je dan?
URL:https://fonteinwerk.nl/agenda/fonteindienst-see-you/
LOCATION:Plantagekerk Harderwijk\, Stationslaan 136\, Harderwijk\, Gelderland\, 3841 DC\, Nederland
END:VEVENT
END:VCALENDAR