BEGIN:VCALENDAR
VERSION:2.0
PRODID:-//Fonteinwerk - ECPv6.6.4.2//NONSGML v1.0//EN
CALSCALE:GREGORIAN
METHOD:PUBLISH
X-ORIGINAL-URL:https://fonteinwerk.nl
X-WR-CALDESC:Evenementen voor Fonteinwerk
REFRESH-INTERVAL;VALUE=DURATION:PT1H
X-Robots-Tag:noindex
X-PUBLISHED-TTL:PT1H
BEGIN:VTIMEZONE
TZID:Europe/Amsterdam
BEGIN:DAYLIGHT
TZOFFSETFROM:+0100
TZOFFSETTO:+0200
TZNAME:CEST
DTSTART:20240331T010000
END:DAYLIGHT
BEGIN:STANDARD
TZOFFSETFROM:+0200
TZOFFSETTO:+0100
TZNAME:CET
DTSTART:20241027T010000
END:STANDARD
END:VTIMEZONE
BEGIN:VEVENT
DTSTART;TZID=Europe/Amsterdam:20241103T113000
DTEND;TZID=Europe/Amsterdam:20241103T123000
DTSTAMP:20260419T183213
CREATED:20241024T071201Z
LAST-MODIFIED:20241024T071201Z
UID:12467-1730633400-1730637000@fonteinwerk.nl
SUMMARY:Fonteindienst - Be (my) guest
DESCRIPTION:“Be (my) guest” is het thema van deze Fonteindienst. Gastvrijheid is begonnen bij God en aan ons de opdracht om ook gastvrij te zijn.\nOm gastvrij te kunnen zijn\, moet je eerst leren gast te zijn. Accepteren wat de ander je aanbiedt\, je afhankelijk opstellen.\nDs. Frans van Velzen gaat hier dieper op in en Embrace verzorgt de muzikale omlijsting.\nEr is oppas voor de allerkleinsten\, en er is kinderdienst. Na afloop is er gelegenheid elkaar te ontmoeten met koffie\, thee en limonade. \nDe Fonteindienst begint om 11.30 uur in de Plantagekerk en is ook te bekijken via CAI TV kanaal 707 of via de website www.pgharderwijk.nl/live-stream (klik op de foto van de Plantagekerk).
URL:https://fonteinwerk.nl/agenda/fonteindienst-be-my-guest/
LOCATION:Plantagekerk Harderwijk\, Stationslaan 136\, Harderwijk\, Gelderland\, 3841 DC\, Nederland
END:VEVENT
END:VCALENDAR