BEGIN:VCALENDAR
VERSION:2.0
PRODID:-//Fonteinwerk - ECPv6.6.4.2//NONSGML v1.0//EN
CALSCALE:GREGORIAN
METHOD:PUBLISH
X-ORIGINAL-URL:https://fonteinwerk.nl
X-WR-CALDESC:Evenementen voor Fonteinwerk
REFRESH-INTERVAL;VALUE=DURATION:PT1H
X-Robots-Tag:noindex
X-PUBLISHED-TTL:PT1H
BEGIN:VTIMEZONE
TZID:Europe/Amsterdam
BEGIN:DAYLIGHT
TZOFFSETFROM:+0100
TZOFFSETTO:+0200
TZNAME:CEST
DTSTART:20240331T010000
END:DAYLIGHT
BEGIN:STANDARD
TZOFFSETFROM:+0200
TZOFFSETTO:+0100
TZNAME:CET
DTSTART:20241027T010000
END:STANDARD
END:VTIMEZONE
BEGIN:VEVENT
DTSTART;TZID=Europe/Amsterdam:20241013T113000
DTEND;TZID=Europe/Amsterdam:20241013T123000
DTSTAMP:20260419T200839
CREATED:20240926T172127Z
LAST-MODIFIED:20241003T175722Z
UID:12376-1728819000-1728822600@fonteinwerk.nl
SUMMARY:Fonteindienst - Geld en God
DESCRIPTION:“Je geld of je leven!”. Een term uit de tijd van struikrovers uit een ver verleden. Toch geeft deze uitdrukking wel iets aan van hoe belangrijk geld wordt gevonden in ons leven en in onze samenleving. Geld is niet altijd een gemakkelijk gespreksonderwerp. Het is omgeven met schaamte en soms ook jaloezie. \nWat zegt de Bijbel over geld? In het Oude Testament staan veel regels over de omgang met geld; het geven van tienden en bijvoorbeeld het eens per zoveel jaar kwijtschelden van schulden. Maar wat als je geld tekort komt? Moet je dan nog steeds een tiende geven van je inkomen? Gelden deze regels nog in onze tijd? Kortom alle aanleiding om daar eens dieper in te duiken. In de dienst zal Sjaak Biewenga voorgaan en aan de hand van Psalm 10 het thema uitdiepen. De muziek wordt verzorgd door I4U. \nEr is oppas voor de allerkleinsten\, en er is kinderdienst. Na afloop is er gelegenheid elkaar te ontmoeten met koffie\, thee en limonade. \nDe Fonteindienst begint om 11.30 uur in de Plantagekerk en is ook te bekijken via CAI TV kanaal 707 of via de website www.pgharderwijk.nl/live-stream (klik op de foto van de Plantagekerk).
URL:https://fonteinwerk.nl/agenda/fonteindienst-geld-en-god/
LOCATION:Plantagekerk Harderwijk\, Stationslaan 136\, Harderwijk\, Gelderland\, 3841 DC\, Nederland
END:VEVENT
END:VCALENDAR