BEGIN:VCALENDAR
VERSION:2.0
PRODID:-//Fonteinwerk - ECPv6.6.4.2//NONSGML v1.0//EN
CALSCALE:GREGORIAN
METHOD:PUBLISH
X-WR-CALNAME:Fonteinwerk
X-ORIGINAL-URL:https://fonteinwerk.nl
X-WR-CALDESC:Evenementen voor Fonteinwerk
REFRESH-INTERVAL;VALUE=DURATION:PT1H
X-Robots-Tag:noindex
X-PUBLISHED-TTL:PT1H
BEGIN:VTIMEZONE
TZID:Europe/Amsterdam
BEGIN:DAYLIGHT
TZOFFSETFROM:+0100
TZOFFSETTO:+0200
TZNAME:CEST
DTSTART:20240331T010000
END:DAYLIGHT
BEGIN:STANDARD
TZOFFSETFROM:+0200
TZOFFSETTO:+0100
TZNAME:CET
DTSTART:20241027T010000
END:STANDARD
END:VTIMEZONE
BEGIN:VEVENT
DTSTART;TZID=Europe/Amsterdam:20241010T193000
DTEND;TZID=Europe/Amsterdam:20241010T220000
DTSTAMP:20260419T195500
CREATED:20240927T150504Z
LAST-MODIFIED:20240927T150504Z
UID:12400-1728588600-1728597600@fonteinwerk.nl
SUMMARY:Community-avond
DESCRIPTION:Het missionaire karakter van Fonteinwerk \nWe nodigen je van harte uit voor een speciale community-avond op 10 oktober a.s. waarin we samen het missionaire karakter van Fonteinwerk gaan verkennen. Hoe kunnen we als Fonteinwerk op een effectieve manier omgaan met onze missionaire roeping? En wat is die missionaire roeping eigenlijk? \nWe gaan ons verdiepen in de 6 cultuur-ingrediënten van Alpha\, een krachtig hulpmiddel dat ons helpt de missionaire cultuur te versterken en te begrijpen hoe we deze in onze gemeenschap kunnen integreren. Ook is er aandacht voor gebed\, met als doel gebedsondersteuning te bieden voor het missionaire werk dat we vanuit de gemeente doen. \nWil je meer weten over waarom we hiermee aan de slag gaan? Dan kun je dat <hier> lezen. \nKom\, denk en bid mee. Samen kunnen we bouwen aan een gemeenschap die missionair gericht is en zich door gebed laat leiden. \nDatum: Donderdag 10 oktober 2024\nStart: 19:30 uur\nLocatie: Plantagekerk \nWe hopen je te zien!
URL:https://fonteinwerk.nl/agenda/community-avond-2/
LOCATION:Plantagekerk Harderwijk\, Stationslaan 136\, Harderwijk\, Gelderland\, 3841 DC\, Nederland
END:VEVENT
END:VCALENDAR