BEGIN:VCALENDAR
VERSION:2.0
PRODID:-//Fonteinwerk - ECPv6.6.4.2//NONSGML v1.0//EN
CALSCALE:GREGORIAN
METHOD:PUBLISH
X-WR-CALNAME:Fonteinwerk
X-ORIGINAL-URL:https://fonteinwerk.nl
X-WR-CALDESC:Evenementen voor Fonteinwerk
REFRESH-INTERVAL;VALUE=DURATION:PT1H
X-Robots-Tag:noindex
X-PUBLISHED-TTL:PT1H
BEGIN:VTIMEZONE
TZID:Europe/Amsterdam
BEGIN:DAYLIGHT
TZOFFSETFROM:+0100
TZOFFSETTO:+0200
TZNAME:CEST
DTSTART:20240331T010000
END:DAYLIGHT
BEGIN:STANDARD
TZOFFSETFROM:+0200
TZOFFSETTO:+0100
TZNAME:CET
DTSTART:20241027T010000
END:STANDARD
END:VTIMEZONE
BEGIN:VEVENT
DTSTART;TZID=Europe/Amsterdam:20240915T113000
DTEND;TZID=Europe/Amsterdam:20240915T123000
DTSTAMP:20260419T220319
CREATED:20240910T151754Z
LAST-MODIFIED:20240912T184838Z
UID:12330-1726399800-1726403400@fonteinwerk.nl
SUMMARY:Fonteindienst - Geloof buiten de kerk zichtbaar... Hoe dan?
DESCRIPTION:Het nieuwe school- en werkjaar is weer begonnen én het nieuwe kerkelijk jaar is ook weer begonnen. Deze zondag gaan we nadenken hoe we geloof en school/werk beter bij elkaar kunnen houden.\nWilrik Selles neemt ons mee in dit onderwerp aan de hand van een gedeelte uit Johannes 4. We gaan lofprijzen en zingen over de Bron waaruit wij mogen leven met Loïs\, Floor en band. \nNa afloop is er koffie\, thee en limonade. Je bent van harte welkom! \nDe Fonteindienst begint om 11.30 uur in de Plantagekerk en is ook te bekijken via CAI TV kanaal 707 of via de website www.pgharderwijk.nl/live-stream (klik op de foto van de Plantagekerk).
URL:https://fonteinwerk.nl/agenda/fonteindienst-geloof-buiten-de-kerk-zichtbaar-hoe-dan/
LOCATION:Plantagekerk Harderwijk\, Stationslaan 136\, Harderwijk\, Gelderland\, 3841 DC\, Nederland
END:VEVENT
END:VCALENDAR