BEGIN:VCALENDAR
VERSION:2.0
PRODID:-//Fonteinwerk - ECPv6.6.4.2//NONSGML v1.0//EN
CALSCALE:GREGORIAN
METHOD:PUBLISH
X-WR-CALNAME:Fonteinwerk
X-ORIGINAL-URL:https://fonteinwerk.nl
X-WR-CALDESC:Evenementen voor Fonteinwerk
REFRESH-INTERVAL;VALUE=DURATION:PT1H
X-Robots-Tag:noindex
X-PUBLISHED-TTL:PT1H
BEGIN:VTIMEZONE
TZID:Europe/Amsterdam
BEGIN:DAYLIGHT
TZOFFSETFROM:+0100
TZOFFSETTO:+0200
TZNAME:CEST
DTSTART:20240331T010000
END:DAYLIGHT
BEGIN:STANDARD
TZOFFSETFROM:+0200
TZOFFSETTO:+0100
TZNAME:CET
DTSTART:20241027T010000
END:STANDARD
END:VTIMEZONE
BEGIN:VEVENT
DTSTART;TZID=Europe/Amsterdam:20240609T113000
DTEND;TZID=Europe/Amsterdam:20240609T123000
DTSTAMP:20260420T040711
CREATED:20240603T112923Z
LAST-MODIFIED:20240603T112923Z
UID:12121-1717932600-1717936200@fonteinwerk.nl
SUMMARY:Fonteindienst - Vrede van God
DESCRIPTION:Gerrit Lolkema gaat het met ons hebben over het dragen van elkaars lasten en de zorgen die we hebben over wat er speelt in de wereld en in ons persoonlijk leven. \nDraag elkaars lasten\, wanneer we daarin allemaal ons aandeel zouden nemen dan is die last te dragen. Helaas is dat niet altijd zo. \nHet belooft weer een mooie dienst te worden met de muzikale omlijsting van Embrace. Ook is er kinderdienst en oppas.\nNa afloop is er koffie\, thee en limonade. Je bent van harte welkom! \nDe Fonteindienst begint om 11.30 uur in de Plantagekerk en is ook te bekijken via CAI TV kanaal 707 of via de website www.pgharderwijk.nl/live-stream (klik op de foto van de Plantagekerk).
URL:https://fonteinwerk.nl/agenda/fonteindienst-vrede-van-god/
LOCATION:Plantagekerk Harderwijk\, Stationslaan 136\, Harderwijk\, Gelderland\, 3841 DC\, Nederland
END:VEVENT
END:VCALENDAR