BEGIN:VCALENDAR
VERSION:2.0
PRODID:-//Fonteinwerk - ECPv6.6.4.2//NONSGML v1.0//EN
CALSCALE:GREGORIAN
METHOD:PUBLISH
X-WR-CALNAME:Fonteinwerk
X-ORIGINAL-URL:https://fonteinwerk.nl
X-WR-CALDESC:Evenementen voor Fonteinwerk
REFRESH-INTERVAL;VALUE=DURATION:PT1H
X-Robots-Tag:noindex
X-PUBLISHED-TTL:PT1H
BEGIN:VTIMEZONE
TZID:Europe/Amsterdam
BEGIN:DAYLIGHT
TZOFFSETFROM:+0100
TZOFFSETTO:+0200
TZNAME:CEST
DTSTART:20240331T010000
END:DAYLIGHT
BEGIN:STANDARD
TZOFFSETFROM:+0200
TZOFFSETTO:+0100
TZNAME:CET
DTSTART:20241027T010000
END:STANDARD
END:VTIMEZONE
BEGIN:VEVENT
DTSTART;TZID=Europe/Amsterdam:20240512T113000
DTEND;TZID=Europe/Amsterdam:20240512T123000
DTSTAMP:20260420T060529
CREATED:20240418T212322Z
LAST-MODIFIED:20240418T212322Z
UID:12003-1715513400-1715517000@fonteinwerk.nl
SUMMARY:Fonteindienst - Hoe hoort het eigenlijk?
DESCRIPTION:Deze dienst gaat Lennart van der Vegt voor. Het thema is: “Hoe hoort het eigenlijk?”. Deze Moederdag staan we stil bij onze kinderlijke onbevangenheid. Kinderen worden in de Bijbel geregeld als voorbeeld genoemd\, en niet zonder reden. Lennart nodigt ons uit om op de knieën te gaan\, op kind-hoogte\, om zo te ontdekken hoe het nou eigenlijk hoort. De muziek is van I4U. \nOok is er kinderdienst en oppas. En na afloop is er koffie\, thee en limonade. Je bent van harte welkom! \nDe Fonteindienst begint om 11.30 uur in de Plantagekerk en is ook te bekijken via CAI TV kanaal 707 of via de website www.pgharderwijk.nl/live-stream (klik op de foto van de Plantagekerk).
URL:https://fonteinwerk.nl/agenda/fonteindienst-hoe-hoort-het-eigenlijk/
LOCATION:Plantagekerk Harderwijk\, Stationslaan 136\, Harderwijk\, Gelderland\, 3841 DC\, Nederland
END:VEVENT
END:VCALENDAR