BEGIN:VCALENDAR
VERSION:2.0
PRODID:-//Fonteinwerk - ECPv6.6.4.2//NONSGML v1.0//EN
CALSCALE:GREGORIAN
METHOD:PUBLISH
X-ORIGINAL-URL:https://fonteinwerk.nl
X-WR-CALDESC:Evenementen voor Fonteinwerk
REFRESH-INTERVAL;VALUE=DURATION:PT1H
X-Robots-Tag:noindex
X-PUBLISHED-TTL:PT1H
BEGIN:VTIMEZONE
TZID:Europe/Amsterdam
BEGIN:DAYLIGHT
TZOFFSETFROM:+0100
TZOFFSETTO:+0200
TZNAME:CEST
DTSTART:20240331T010000
END:DAYLIGHT
BEGIN:STANDARD
TZOFFSETFROM:+0200
TZOFFSETTO:+0100
TZNAME:CET
DTSTART:20241027T010000
END:STANDARD
END:VTIMEZONE
BEGIN:VEVENT
DTSTART;TZID=Europe/Amsterdam:20240505T113000
DTEND;TZID=Europe/Amsterdam:20240505T123000
DTSTAMP:20260420T055738
CREATED:20240418T211745Z
LAST-MODIFIED:20240418T211745Z
UID:11999-1714908600-1714912200@fonteinwerk.nl
SUMMARY:Fonteindienst - Verwachtingsvol
DESCRIPTION:Deze Bevrijdingsdag gaat Sjaak Biewenga voor. Het thema is: “Verwachtingsvol”. Vandaag willen we in de dienst aandacht vragen voor het project “Thy Kingdom Come”. Een oproep om tussen Hemelvaart en Pinksteren heel bewust te bidden voor 5 mensen uit je omgeving die Jezus (nog) niet kennen. Hoe mooi is het als wij hier binnen het Fonteinwerk mee aan de slag gaan. We kennen vast wel mensen uit onze omgeving die wij de liefde van Jezus gunnen. \nSjaak gaat aan de hand van Handelingen 1 ons hierin voor. Deze dienst is een opmaat voor de “Grande Finale” op 19 mei. \nMuzikale ondersteuning is er van Matthias Blokzijl en Band. Ook is er kinderdienst en oppas.\nNa afloop is er koffie\, thee en limonade. Je bent van harte welkom! \nDe Fonteindienst begint om 11.30 uur in de Plantagekerk en is ook te bekijken via CAI TV kanaal 707 of via de website www.pgharderwijk.nl/live-stream (klik op de foto van de Plantagekerk).
URL:https://fonteinwerk.nl/agenda/fonteindienst-verwachtingsvol/
LOCATION:Plantagekerk Harderwijk\, Stationslaan 136\, Harderwijk\, Gelderland\, 3841 DC\, Nederland
END:VEVENT
END:VCALENDAR