BEGIN:VCALENDAR
VERSION:2.0
PRODID:-//Fonteinwerk - ECPv6.6.4.2//NONSGML v1.0//EN
CALSCALE:GREGORIAN
METHOD:PUBLISH
X-ORIGINAL-URL:https://fonteinwerk.nl
X-WR-CALDESC:Evenementen voor Fonteinwerk
REFRESH-INTERVAL;VALUE=DURATION:PT1H
X-Robots-Tag:noindex
X-PUBLISHED-TTL:PT1H
BEGIN:VTIMEZONE
TZID:Europe/Amsterdam
BEGIN:DAYLIGHT
TZOFFSETFROM:+0100
TZOFFSETTO:+0200
TZNAME:CEST
DTSTART:20240331T010000
END:DAYLIGHT
BEGIN:STANDARD
TZOFFSETFROM:+0200
TZOFFSETTO:+0100
TZNAME:CET
DTSTART:20241027T010000
END:STANDARD
END:VTIMEZONE
BEGIN:VEVENT
DTSTART;TZID=Europe/Amsterdam:20240331T113000
DTEND;TZID=Europe/Amsterdam:20240331T123000
DTSTAMP:20260420T094255
CREATED:20240320T130137Z
LAST-MODIFIED:20240328T084954Z
UID:11889-1711884600-1711888200@fonteinwerk.nl
SUMMARY:Fonteindienst - Pasen
DESCRIPTION:Pasen. Hoogfeest van het Christendom; want de Heer is opgestaan uit de dood! Een verwarrende tijd moet dat geweest zijn voor Zijn volgelingen. De een bezocht het graf en hoorde als eerste het nieuws. De ander ging weg van Jeruzalem om alles te laten bezinken. Tijdens deze wandeling ontmoetten zij Jezus. Hoe zouden wij reageren\, en zijn we ons ervan bewust wanneer de Heer zelf met ons op pad gaat? \nOnze eigen voorganger Sjaak zal deze paasviering onze spreker zijn. \nIn deze viering zullen Loïs\, Floor en Band ons feestelijk en muzikaal begeleiden. Na de dienst is er gelegenheid om elkaar weer te ontmoeten onder het genot van koffie\, thee of limonade. \nWe kijken uit naar deze viering en hopen op jouw komst! \nDe Fonteindienst begint om 11.30 uur in de Plantagekerk en is ook te bekijken via CAI TV kanaal 707 of via de website www.pgharderwijk.nl/live-stream (klik op de foto van de Plantagekerk).
URL:https://fonteinwerk.nl/agenda/fonteindienst-pasen/
LOCATION:Plantagekerk Harderwijk\, Stationslaan 136\, Harderwijk\, Gelderland\, 3841 DC\, Nederland
END:VEVENT
END:VCALENDAR