BEGIN:VCALENDAR
VERSION:2.0
PRODID:-//Fonteinwerk - ECPv6.6.4.2//NONSGML v1.0//EN
CALSCALE:GREGORIAN
METHOD:PUBLISH
X-WR-CALNAME:Fonteinwerk
X-ORIGINAL-URL:https://fonteinwerk.nl
X-WR-CALDESC:Evenementen voor Fonteinwerk
REFRESH-INTERVAL;VALUE=DURATION:PT1H
X-Robots-Tag:noindex
X-PUBLISHED-TTL:PT1H
BEGIN:VTIMEZONE
TZID:Europe/Amsterdam
BEGIN:DAYLIGHT
TZOFFSETFROM:+0100
TZOFFSETTO:+0200
TZNAME:CEST
DTSTART:20240331T010000
END:DAYLIGHT
BEGIN:STANDARD
TZOFFSETFROM:+0200
TZOFFSETTO:+0100
TZNAME:CET
DTSTART:20241027T010000
END:STANDARD
END:VTIMEZONE
BEGIN:VEVENT
DTSTART;TZID=Europe/Amsterdam:20240310T113000
DTEND;TZID=Europe/Amsterdam:20240310T123000
DTSTAMP:20260420T094031
CREATED:20240220T154110Z
LAST-MODIFIED:20240220T154110Z
UID:11818-1710070200-1710073800@fonteinwerk.nl
SUMMARY:Fonteindienst - Met open handen
DESCRIPTION:Deze dienst gaat ds. Sjaak Biewenga voor\, onze kersverse Fonteinpredikant. Het thema is: “Met open handen”. Eén van de vele verhalen van Jezus staat in deze dienst centraal. Jezus die alles vaak net even anders doet dan men gewend is en bij wie regels niet leidend zijn.\nHij werd niet altijd met open handen ontvangen. Hoe doen wij dat in de kerk? Voel jij je gezien en zie jij anderen? Sjaak zal ons er meer over vertellen. \nDe muziek is van “Met Hem” uit Putten. Er is kinderdienst en oppas. En na afloop is er koffie\, thee en limonade. Je bent van harte welkom! \nDe Fonteindienst begint om 11.30 uur in de Plantagekerk en is ook te bekijken via CAI TV kanaal 707 of via de website www.pgharderwijk.nl/live-stream (klik op de foto van de Plantagekerk).
URL:https://fonteinwerk.nl/agenda/fonteindienst-met-open-handen/
LOCATION:Plantagekerk Harderwijk\, Stationslaan 136\, Harderwijk\, Gelderland\, 3841 DC\, Nederland
END:VEVENT
END:VCALENDAR