BEGIN:VCALENDAR
VERSION:2.0
PRODID:-//Fonteinwerk - ECPv6.6.4.2//NONSGML v1.0//EN
CALSCALE:GREGORIAN
METHOD:PUBLISH
X-WR-CALNAME:Fonteinwerk
X-ORIGINAL-URL:https://fonteinwerk.nl
X-WR-CALDESC:Evenementen voor Fonteinwerk
REFRESH-INTERVAL;VALUE=DURATION:PT1H
X-Robots-Tag:noindex
X-PUBLISHED-TTL:PT1H
BEGIN:VTIMEZONE
TZID:Europe/Amsterdam
BEGIN:DAYLIGHT
TZOFFSETFROM:+0100
TZOFFSETTO:+0200
TZNAME:CEST
DTSTART:20240331T010000
END:DAYLIGHT
BEGIN:STANDARD
TZOFFSETFROM:+0200
TZOFFSETTO:+0100
TZNAME:CET
DTSTART:20241027T010000
END:STANDARD
END:VTIMEZONE
BEGIN:VEVENT
DTSTART;TZID=Europe/Amsterdam:20240218T113000
DTEND;TZID=Europe/Amsterdam:20240218T123000
DTSTAMP:20260420T112443
CREATED:20240213T082049Z
LAST-MODIFIED:20240213T082049Z
UID:11774-1708255800-1708259400@fonteinwerk.nl
SUMMARY:Fonteindienst - Wie zie jij?
DESCRIPTION:Wie zie jij? Vaak hebben we ons oordeel al geveld zonder dat we ons echt verdiept hebben in een persoon of situatie. Hoe zou het zijn als we net als Jezus aandacht zouden hebben voor mensen aan de randen van onze samenleving? \nOnze spreekster Annelies van Til zal ons hierin meenemen. Vanuit haar eigen ervaring zal ze ons inspireren en aan het denken zetten over dit interessante en actuele onderwerp. \nIn deze viering zullen Jocelynn en Dennis zorgen voor de muzikale begeleiding van de liederen. Na de dienst is er gelegenheid om elkaar weer te ontmoeten onder het genot van koffie\, thee of limonade. \nWe zien er naar uit jullie weer te zien! \nDe Fonteindienst begint om 11.30 uur en is ook te bekijken via CAI TV kanaal 707 of via de website www.pgharderwijk.nl/live-stream (klik op de foto van de Plantagekerk).
URL:https://fonteinwerk.nl/agenda/fonteindienst-wie-zie-jij/
LOCATION:Plantagekerk Harderwijk\, Stationslaan 136\, Harderwijk\, Gelderland\, 3841 DC\, Nederland
END:VEVENT
END:VCALENDAR