BEGIN:VCALENDAR
VERSION:2.0
PRODID:-//Fonteinwerk - ECPv6.6.4.2//NONSGML v1.0//EN
CALSCALE:GREGORIAN
METHOD:PUBLISH
X-ORIGINAL-URL:https://fonteinwerk.nl
X-WR-CALDESC:Evenementen voor Fonteinwerk
REFRESH-INTERVAL;VALUE=DURATION:PT1H
X-Robots-Tag:noindex
X-PUBLISHED-TTL:PT1H
BEGIN:VTIMEZONE
TZID:Europe/Amsterdam
BEGIN:DAYLIGHT
TZOFFSETFROM:+0100
TZOFFSETTO:+0200
TZNAME:CEST
DTSTART:20230326T010000
END:DAYLIGHT
BEGIN:STANDARD
TZOFFSETFROM:+0200
TZOFFSETTO:+0100
TZNAME:CET
DTSTART:20231029T010000
END:STANDARD
END:VTIMEZONE
BEGIN:VEVENT
DTSTART;TZID=Europe/Amsterdam:20231119T113000
DTEND;TZID=Europe/Amsterdam:20231119T123000
DTSTAMP:20260420T162843
CREATED:20231110T162505Z
LAST-MODIFIED:20231110T162619Z
UID:11479-1700393400-1700397000@fonteinwerk.nl
SUMMARY:Fonteindienst – Vreemdeling in ons midden
DESCRIPTION:Vandaag gaan we nadenken over de rol van onze kerk als het gaat om vreemdelingen. Staan wij open voor de inbreng van nieuwe Nederlanders wanneer wij zeggen dat ze hier (in de kerk) welkom zijn? In hoeverre willen we ons aanpassen en kunnen we iedereen met open armen ontvangen zonder zelf te verveemden.\nOnze spreekster Annemarie Hubers zal ons hierin meenemen. Haar motto: “preach what you practice”. Vanuit die insteek zal ze ons inspireren en aan het denken zetten over dit interessante en actuele onderwerp. \nIn deze viering zal I4U Music zorgen voor de muzikale begeleiding van de liederen. Na de dienst is er gelegenheid om elkaar weer te ontmoeten onder het genot van koffie\, thee of limonade. \nWe zien er naar uit jullie weer te zien! \nDe Fonteindienst begint om 11.30 uur en is te bekijken via CAI TV kanaal 707 of via de website www.pgharderwijk.nl/live-stream (klik op de foto van de Plantagekerk).
URL:https://fonteinwerk.nl/agenda/fonteindienst-vreemdeling-in-ons-midden/
LOCATION:Plantagekerk Harderwijk\, Stationslaan 136\, Harderwijk\, Gelderland\, 3841 DC\, Nederland
END:VEVENT
END:VCALENDAR