BEGIN:VCALENDAR
VERSION:2.0
PRODID:-//Fonteinwerk - ECPv6.6.4.2//NONSGML v1.0//EN
CALSCALE:GREGORIAN
METHOD:PUBLISH
X-WR-CALNAME:Fonteinwerk
X-ORIGINAL-URL:https://fonteinwerk.nl
X-WR-CALDESC:Evenementen voor Fonteinwerk
REFRESH-INTERVAL;VALUE=DURATION:PT1H
X-Robots-Tag:noindex
X-PUBLISHED-TTL:PT1H
BEGIN:VTIMEZONE
TZID:Europe/Amsterdam
BEGIN:DAYLIGHT
TZOFFSETFROM:+0100
TZOFFSETTO:+0200
TZNAME:CEST
DTSTART:20230326T010000
END:DAYLIGHT
BEGIN:STANDARD
TZOFFSETFROM:+0200
TZOFFSETTO:+0100
TZNAME:CET
DTSTART:20231029T010000
END:STANDARD
END:VTIMEZONE
BEGIN:VEVENT
DTSTART;TZID=Europe/Amsterdam:20231112T113000
DTEND;TZID=Europe/Amsterdam:20231112T123000
DTSTAMP:20260420T162607
CREATED:20231019T074426Z
LAST-MODIFIED:20231019T074426Z
UID:11412-1699788600-1699792200@fonteinwerk.nl
SUMMARY:Fonteindienst - God speelt geen enkele rol!
DESCRIPTION:Gerrit de Haan gaat deze dienst voor waarin Anne Vahl wordt bevestigd als ouderling. Het thema is: God speelt geen enkele rol! Een bijzonder thema wellicht\, maar als we Haggai lezen\, valt het wel mee.\nGerrit neemt ons mee in het tweede deel van dit boek over volhouden\, focus en leiding. \nDe muziek is van Embrace. Voor de kinderen is er kinderdienst en oppas. En na afloop is er koffie\, thee en limonade. \nDe Fonteindienst begint om 11.30 uur en is te bekijken via CAI TV kanaal 707 of via de website www.pgharderwijk.nl/live-stream (klik op de foto van de Plantagekerk).
URL:https://fonteinwerk.nl/agenda/fonteindienst-god-speelt-geen-enkele-rol/
LOCATION:Plantagekerk Harderwijk\, Stationslaan 136\, Harderwijk\, Gelderland\, 3841 DC\, Nederland
END:VEVENT
END:VCALENDAR