BEGIN:VCALENDAR
VERSION:2.0
PRODID:-//Fonteinwerk - ECPv6.6.4.2//NONSGML v1.0//EN
CALSCALE:GREGORIAN
METHOD:PUBLISH
X-WR-CALNAME:Fonteinwerk
X-ORIGINAL-URL:https://fonteinwerk.nl
X-WR-CALDESC:Evenementen voor Fonteinwerk
REFRESH-INTERVAL;VALUE=DURATION:PT1H
X-Robots-Tag:noindex
X-PUBLISHED-TTL:PT1H
BEGIN:VTIMEZONE
TZID:Europe/Amsterdam
BEGIN:DAYLIGHT
TZOFFSETFROM:+0100
TZOFFSETTO:+0200
TZNAME:CEST
DTSTART:20230326T010000
END:DAYLIGHT
BEGIN:STANDARD
TZOFFSETFROM:+0200
TZOFFSETTO:+0100
TZNAME:CET
DTSTART:20231029T010000
END:STANDARD
END:VTIMEZONE
BEGIN:VEVENT
DTSTART;TZID=Europe/Amsterdam:20231105T113000
DTEND;TZID=Europe/Amsterdam:20231105T123000
DTSTAMP:20260420T162439
CREATED:20231019T074128Z
LAST-MODIFIED:20231019T074519Z
UID:11410-1699183800-1699187400@fonteinwerk.nl
SUMMARY:Fonteindienst - Less is more
DESCRIPTION:Deze zondag vieren we het Heilig Avondmaal waarin ds. Frans van Velzen voorgaat. Het thema is: Less is more!\nDeze maand lezen we het boek van de profeet Haggai. Ook al is het lang\, lang geleden geschreven\, het is een actuele boodschap- die hij predikt.\nKom en ontdekt het! \nDe muziek is van Lois\, Floor & band. \nVoor de kinderen is er kinderdienst en oppas. En na afloop is er koffie\, thee en limonade. \nDe Fonteindienst begint om 11.30 uur en is te bekijken via CAI TV kanaal 707 of via de website www.pgharderwijk.nl/live-stream (klik op de foto van de Plantagekerk).
URL:https://fonteinwerk.nl/agenda/fonteindienst-less-is-more/
LOCATION:Plantagekerk Harderwijk\, Stationslaan 136\, Harderwijk\, Gelderland\, 3841 DC\, Nederland
END:VEVENT
END:VCALENDAR