BEGIN:VCALENDAR
VERSION:2.0
PRODID:-//Fonteinwerk - ECPv6.6.4.2//NONSGML v1.0//EN
CALSCALE:GREGORIAN
METHOD:PUBLISH
X-ORIGINAL-URL:https://fonteinwerk.nl
X-WR-CALDESC:Evenementen voor Fonteinwerk
REFRESH-INTERVAL;VALUE=DURATION:PT1H
X-Robots-Tag:noindex
X-PUBLISHED-TTL:PT1H
BEGIN:VTIMEZONE
TZID:Europe/Amsterdam
BEGIN:DAYLIGHT
TZOFFSETFROM:+0100
TZOFFSETTO:+0200
TZNAME:CEST
DTSTART:20230326T010000
END:DAYLIGHT
BEGIN:STANDARD
TZOFFSETFROM:+0200
TZOFFSETTO:+0100
TZNAME:CET
DTSTART:20231029T010000
END:STANDARD
END:VTIMEZONE
BEGIN:VEVENT
DTSTART;TZID=Europe/Amsterdam:20231008T113000
DTEND;TZID=Europe/Amsterdam:20231008T123000
DTSTAMP:20260420T182257
CREATED:20230914T171910Z
LAST-MODIFIED:20230917T161603Z
UID:11305-1696764600-1696768200@fonteinwerk.nl
SUMMARY:Fonteindienst - Schitter\, Wees welkom\, Ik hoor erbij!
DESCRIPTION:Dit wordt een dienst anders dan anders. We mogen getuigen zijn van de doop van 5 kinderen. De dienst is in samenwerking met de doopouders voorbereid. Ds. David Kroeze gaat voor in deze dienst en de muziek wordt verzorgd door Embrace. \nWe maken gebruik van de drie thema’s die aangedragen zijn door de doopouders: Schitter\, Wees welkom\, Ik hoor erbij! Het belooft een mooie dienst te worden\, die misschien iets anders is dan anders en ook wat langer kan duren. Wees welkom in deze bijzondere dienst \nVoor de kinderen is er kinderdienst en oppas. En na afloop is er koffie\, thee en limonade. \nDe Fonteindienst begint om 11.30 uur en is te bekijken via CAI TV kanaal 707 of via de website www.pgharderwijk.nl/live-stream (klik op de foto van de Plantagekerk). \n 
URL:https://fonteinwerk.nl/agenda/fonteindienst-schitter-wees-welkom-ik-hoor-erbij/
LOCATION:Plantagekerk Harderwijk\, Stationslaan 136\, Harderwijk\, Gelderland\, 3841 DC\, Nederland
END:VEVENT
END:VCALENDAR