BEGIN:VCALENDAR
VERSION:2.0
PRODID:-//Fonteinwerk - ECPv6.6.4.2//NONSGML v1.0//EN
CALSCALE:GREGORIAN
METHOD:PUBLISH
X-WR-CALNAME:Fonteinwerk
X-ORIGINAL-URL:https://fonteinwerk.nl
X-WR-CALDESC:Evenementen voor Fonteinwerk
REFRESH-INTERVAL;VALUE=DURATION:PT1H
X-Robots-Tag:noindex
X-PUBLISHED-TTL:PT1H
BEGIN:VTIMEZONE
TZID:Europe/Amsterdam
BEGIN:DAYLIGHT
TZOFFSETFROM:+0100
TZOFFSETTO:+0200
TZNAME:CEST
DTSTART:20230326T010000
END:DAYLIGHT
BEGIN:STANDARD
TZOFFSETFROM:+0200
TZOFFSETTO:+0100
TZNAME:CET
DTSTART:20231029T010000
END:STANDARD
END:VTIMEZONE
BEGIN:VEVENT
DTSTART;TZID=Europe/Amsterdam:20230820T113000
DTEND;TZID=Europe/Amsterdam:20230820T123000
DTSTAMP:20260420T214905
CREATED:20230812T130430Z
LAST-MODIFIED:20230812T130430Z
UID:11076-1692531000-1692534600@fonteinwerk.nl
SUMMARY:Fonteindienst - Ken je Zacheüs?
DESCRIPTION:De eerste dienst van het nieuwe seizoen gaat over Zacheüs. Wie was deze man? Klein van stuk\, groots in zijn wereld. Berucht bij velen. En dan ineens die ommezwaai. Het volk mort. Hoe zouden we in onze tijd reageren? Durven wij wel ons leven om te gooien? Onze eigen Martijn Stuiver zal hier meer over vertellen en ons hierover aan het denken laten zetten. \nIn deze viering zullen Matthias Blokzijl & band ons op hun professionele wijze begeleiden met de liederen. Na de dienst is er uitgebreid gelegenheid om elkaar voor het eerst na de vakantie weer te ontmoeten onder het genot van koffie\, thee of limonade en een (Harderwijker) lekkernij. \nWe kijken er naar uit jullie weer te zien! \nDe Fonteindienst begint om 11.30 uur en is te bekijken via CAI TV kanaal 707 of via de website www.pgharderwijk.nl/live-stream (klik op de foto van de Plantagekerk).
URL:https://fonteinwerk.nl/agenda/fonteindienst-ken-je-zacheus/
LOCATION:Plantagekerk Harderwijk\, Stationslaan 136\, Harderwijk\, Gelderland\, 3841 DC\, Nederland
END:VEVENT
END:VCALENDAR