BEGIN:VCALENDAR
VERSION:2.0
PRODID:-//Fonteinwerk - ECPv6.6.4.2//NONSGML v1.0//EN
CALSCALE:GREGORIAN
METHOD:PUBLISH
X-ORIGINAL-URL:https://fonteinwerk.nl
X-WR-CALDESC:Evenementen voor Fonteinwerk
REFRESH-INTERVAL;VALUE=DURATION:PT1H
X-Robots-Tag:noindex
X-PUBLISHED-TTL:PT1H
BEGIN:VTIMEZONE
TZID:Europe/Amsterdam
BEGIN:DAYLIGHT
TZOFFSETFROM:+0100
TZOFFSETTO:+0200
TZNAME:CEST
DTSTART:20230326T010000
END:DAYLIGHT
BEGIN:STANDARD
TZOFFSETFROM:+0200
TZOFFSETTO:+0100
TZNAME:CET
DTSTART:20231029T010000
END:STANDARD
END:VTIMEZONE
BEGIN:VEVENT
DTSTART;TZID=Europe/Amsterdam:20230618T113000
DTEND;TZID=Europe/Amsterdam:20230618T123000
DTSTAMP:20260421T012722
CREATED:20230607T170859Z
LAST-MODIFIED:20230607T170859Z
UID:10962-1687087800-1687091400@fonteinwerk.nl
SUMMARY:Fonteindienst – Lighthouse
DESCRIPTION:En toen was er licht. Op de bijna langste (vader)dag van het jaar staan we stil bij God de Vader als zender van licht. Onze spreker Tim Thijs Ketting zal ons inspireren over dit thema en hoe wij mogen weten dat er zelfs in de duisternis altijd een baken van licht is waar we hoop uit mogen putten. \nIn deze viering zullen Christaan en Kate van den Bos zorgen voor de muzikale begeleiding van dit thema in huiskamersetting. Kom op tijd of blijf wat langer voor ontmoeting\, want voor- en achteraf is er koffie\, thee en limonade. \nP.S. Neem het lampje van je telefoon mee. Voor iedereen zonder telefoon zorgen wij voor een passend lichtje. \nDe Fonteindienst begint om 11.30 uur en is te bekijken via CAI TV kanaal 707 of via de website www.pgharderwijk.nl/live-stream (klik op de foto van de Plantagekerk).
URL:https://fonteinwerk.nl/agenda/fonteindienst-lighthouse/
LOCATION:Plantagekerk Harderwijk\, Stationslaan 136\, Harderwijk\, Gelderland\, 3841 DC\, Nederland
END:VEVENT
END:VCALENDAR