BEGIN:VCALENDAR
VERSION:2.0
PRODID:-//Fonteinwerk - ECPv6.6.4.2//NONSGML v1.0//EN
CALSCALE:GREGORIAN
METHOD:PUBLISH
X-ORIGINAL-URL:https://fonteinwerk.nl
X-WR-CALDESC:Evenementen voor Fonteinwerk
REFRESH-INTERVAL;VALUE=DURATION:PT1H
X-Robots-Tag:noindex
X-PUBLISHED-TTL:PT1H
BEGIN:VTIMEZONE
TZID:Europe/Amsterdam
BEGIN:DAYLIGHT
TZOFFSETFROM:+0100
TZOFFSETTO:+0200
TZNAME:CEST
DTSTART:20230326T010000
END:DAYLIGHT
BEGIN:STANDARD
TZOFFSETFROM:+0200
TZOFFSETTO:+0100
TZNAME:CET
DTSTART:20231029T010000
END:STANDARD
END:VTIMEZONE
BEGIN:VEVENT
DTSTART;TZID=Europe/Amsterdam:20230611T113000
DTEND;TZID=Europe/Amsterdam:20230611T123000
DTSTAMP:20260421T012850
CREATED:20230531T151604Z
LAST-MODIFIED:20230531T151604Z
UID:10913-1686483000-1686486600@fonteinwerk.nl
SUMMARY:Fonteindienst - Verlichtend
DESCRIPTION:Het thema van deze Fonteindienst is “Verlichtend”. Een woord wat je op meerdere manieren kunt uitleggen. Hoe? Dat houden we nog even geheim.\nAls basis voor de overdenking lezen we Efeziërs 5: 8-20. De voorganger vandaag is Judith Bouma. Zij is voor de eerste keer voorganger in een Fonteindienst en is werkzaam in het Gevangeniswezen. \nDe muziek wordt verzorgd door Embrace. Er is gekozen voor een iets andere opzet van de dienst; Kom en laat je Verrassen!\nEr is kinderdienst en oppas. \nDe Fonteindienst begint om 11.30 uur en is te bekijken via CAI TV kanaal 707 of via de website www.pgharderwijk.nl/live-stream (klik op de foto van de Plantagekerk).
URL:https://fonteinwerk.nl/agenda/fonteindienst-verlichtend/
LOCATION:Plantagekerk Harderwijk\, Stationslaan 136\, Harderwijk\, Gelderland\, 3841 DC\, Nederland
END:VEVENT
END:VCALENDAR