BEGIN:VCALENDAR
VERSION:2.0
PRODID:-//Fonteinwerk - ECPv6.6.4.2//NONSGML v1.0//EN
CALSCALE:GREGORIAN
METHOD:PUBLISH
X-WR-CALNAME:Fonteinwerk
X-ORIGINAL-URL:https://fonteinwerk.nl
X-WR-CALDESC:Evenementen voor Fonteinwerk
REFRESH-INTERVAL;VALUE=DURATION:PT1H
X-Robots-Tag:noindex
X-PUBLISHED-TTL:PT1H
BEGIN:VTIMEZONE
TZID:Europe/Amsterdam
BEGIN:DAYLIGHT
TZOFFSETFROM:+0100
TZOFFSETTO:+0200
TZNAME:CEST
DTSTART:20230326T010000
END:DAYLIGHT
BEGIN:STANDARD
TZOFFSETFROM:+0200
TZOFFSETTO:+0100
TZNAME:CET
DTSTART:20231029T010000
END:STANDARD
END:VTIMEZONE
BEGIN:VEVENT
DTSTART;TZID=Europe/Amsterdam:20230604T113000
DTEND;TZID=Europe/Amsterdam:20230604T160000
DTSTAMP:20260421T012357
CREATED:20230517T072656Z
LAST-MODIFIED:20230531T151713Z
UID:10879-1685878200-1685894400@fonteinwerk.nl
SUMMARY:Fonteindienst - Geen licht\, geen leven
DESCRIPTION:Vandaag 4 juni gaat ds. Jacques Helder voor en het thema is: Geen licht\, geen leven. Onze aarde en al wat er op leeft is er dankzij de zuurstof en het licht. Heb je je weleens afgevraagd wat er met je zou gebeuren als er geen zonlicht was? Ik zou er niet aan moeten denken\, want wat word ik altijd blij van de eerste zonnestralen.\nJezus zegt dat Hij het Licht van de wereld is. Wat bedoelde Hij hier eigenlijk mee en hoe komen wij aan en in Zijn licht?\nJacques zal deze en andere vragen met ons doornemen en hopelijk gaat er dan een lichtje bij je branden. \nDe muziek is van de band van Matthias Blokzijl. \nVoor de kinderen is er kinderdienst en oppas. En na afloop is er koffie\, thee en limonade en hebben we de Zomerpicknick. Je bent van harte welkom! \nDe Fonteindienst begint om 11.30 uur en is te bekijken via CAI TV kanaal 707 of via de website www.pgharderwijk.nl/live-stream (klik op de foto van de Plantagekerk).
URL:https://fonteinwerk.nl/agenda/fonteindienst-geen-licht-geen-leven/
LOCATION:Plantagekerk Harderwijk\, Stationslaan 136\, Harderwijk\, Gelderland\, 3841 DC\, Nederland
END:VEVENT
END:VCALENDAR