BEGIN:VCALENDAR
VERSION:2.0
PRODID:-//Fonteinwerk - ECPv6.6.4.2//NONSGML v1.0//EN
CALSCALE:GREGORIAN
METHOD:PUBLISH
X-ORIGINAL-URL:https://fonteinwerk.nl
X-WR-CALDESC:Evenementen voor Fonteinwerk
REFRESH-INTERVAL;VALUE=DURATION:PT1H
X-Robots-Tag:noindex
X-PUBLISHED-TTL:PT1H
BEGIN:VTIMEZONE
TZID:Europe/Amsterdam
BEGIN:DAYLIGHT
TZOFFSETFROM:+0100
TZOFFSETTO:+0200
TZNAME:CEST
DTSTART:20230326T010000
END:DAYLIGHT
BEGIN:STANDARD
TZOFFSETFROM:+0200
TZOFFSETTO:+0100
TZNAME:CET
DTSTART:20231029T010000
END:STANDARD
END:VTIMEZONE
BEGIN:VEVENT
DTSTART;TZID=Europe/Amsterdam:20230507T113000
DTEND;TZID=Europe/Amsterdam:20230507T123000
DTSTAMP:20260421T032108
CREATED:20230405T101123Z
LAST-MODIFIED:20230416T120923Z
UID:10743-1683459000-1683462600@fonteinwerk.nl
SUMMARY:Iedere christen een BBB'er?!
DESCRIPTION:In deze dienst gaat het erover om je talenten die je van God hebt ontvangen goed te gebruiken. Dat gaat niet vanzelf\, je moet er wel voor werken. Hierbij is je levenshouding erg belangrijk.\nSpreker is Gerhard Heeringa en de muziek wordt verzorgd door I4U Music. \nJe bent van harte welkom! Er is kinderdienst en oppas. \nNa afloop van de dienst gaan we samen lunchen. Neem iets mee om uit te delen en voor jezelf\, dan is er genoeg voor iedereen. \nDe Fonteindienst begint om 11.30 uur en is te bekijken via CAI TV kanaal 707 of via de website www.pgharderwijk.nl/live-stream (klik op de foto van de Plantagekerk).
URL:https://fonteinwerk.nl/agenda/iedere-christen-een-bbb-er/
LOCATION:Plantagekerk Harderwijk\, Stationslaan 136\, Harderwijk\, Gelderland\, 3841 DC\, Nederland
END:VEVENT
END:VCALENDAR