BEGIN:VCALENDAR
VERSION:2.0
PRODID:-//Fonteinwerk - ECPv6.6.4.2//NONSGML v1.0//EN
CALSCALE:GREGORIAN
METHOD:PUBLISH
X-ORIGINAL-URL:https://fonteinwerk.nl
X-WR-CALDESC:Evenementen voor Fonteinwerk
REFRESH-INTERVAL;VALUE=DURATION:PT1H
X-Robots-Tag:noindex
X-PUBLISHED-TTL:PT1H
BEGIN:VTIMEZONE
TZID:Europe/Amsterdam
BEGIN:DAYLIGHT
TZOFFSETFROM:+0100
TZOFFSETTO:+0200
TZNAME:CEST
DTSTART:20230326T010000
END:DAYLIGHT
BEGIN:STANDARD
TZOFFSETFROM:+0200
TZOFFSETTO:+0100
TZNAME:CET
DTSTART:20231029T010000
END:STANDARD
END:VTIMEZONE
BEGIN:VEVENT
DTSTART;TZID=Europe/Amsterdam:20230402T113000
DTEND;TZID=Europe/Amsterdam:20230402T123000
DTSTAMP:20260421T052332
CREATED:20230323T115225Z
LAST-MODIFIED:20230323T115225Z
UID:10701-1680435000-1680438600@fonteinwerk.nl
SUMMARY:Fonteindienst - Who am I?
DESCRIPTION:Deze zondag voorafgaand aan Pasen gaat Gerrit de Haan voor. Het thema is “Who am I?”.\nPalmpasen\, het verhaal van een man op een ezel die met palmtakken als koning wordt binnen gehaald. Wie is deze man toch? Deze Jezus\, de dienende koning? Wie zeggen jullie wie Hij is?\nGerrit zal ons meer vertellen over deze bijzondere Koning. \nDe muziek is van de Andreas youth band. \nJe bent van harte welkom! Er is kinderdienst en oppas. En na afloop van de dienst is er koffie\, thee en limonade. \nDe Fonteindienst begint om 11.30 uur en is te bekijken via CAI TV kanaal 707 of via de website www.pgharderwijk.nl/live-stream (klik op de foto van de Plantagekerk).
URL:https://fonteinwerk.nl/agenda/fonteindienst-who-am-i/
LOCATION:Plantagekerk Harderwijk\, Stationslaan 136\, Harderwijk\, Gelderland\, 3841 DC\, Nederland
END:VEVENT
END:VCALENDAR