BEGIN:VCALENDAR
VERSION:2.0
PRODID:-//Fonteinwerk - ECPv6.6.4.2//NONSGML v1.0//EN
CALSCALE:GREGORIAN
METHOD:PUBLISH
X-ORIGINAL-URL:https://fonteinwerk.nl
X-WR-CALDESC:Evenementen voor Fonteinwerk
REFRESH-INTERVAL;VALUE=DURATION:PT1H
X-Robots-Tag:noindex
X-PUBLISHED-TTL:PT1H
BEGIN:VTIMEZONE
TZID:Europe/Amsterdam
BEGIN:DAYLIGHT
TZOFFSETFROM:+0100
TZOFFSETTO:+0200
TZNAME:CEST
DTSTART:20230326T010000
END:DAYLIGHT
BEGIN:STANDARD
TZOFFSETFROM:+0200
TZOFFSETTO:+0100
TZNAME:CET
DTSTART:20231029T010000
END:STANDARD
END:VTIMEZONE
BEGIN:VEVENT
DTSTART;TZID=Europe/Amsterdam:20230318T193000
DTEND;TZID=Europe/Amsterdam:20230318T235900
DTSTAMP:20260421T071458
CREATED:20230218T165814Z
LAST-MODIFIED:20230309T133825Z
UID:10563-1679167800-1679183940@fonteinwerk.nl
SUMMARY:MannenEvent - Emotie
DESCRIPTION:
URL:https://fonteinwerk.nl/agenda/mannenevent-emotie/
LOCATION:Gelderland
END:VEVENT
END:VCALENDAR