BEGIN:VCALENDAR
VERSION:2.0
PRODID:-//Fonteinwerk - ECPv6.6.4.2//NONSGML v1.0//EN
CALSCALE:GREGORIAN
METHOD:PUBLISH
X-ORIGINAL-URL:https://fonteinwerk.nl
X-WR-CALDESC:Evenementen voor Fonteinwerk
REFRESH-INTERVAL;VALUE=DURATION:PT1H
X-Robots-Tag:noindex
X-PUBLISHED-TTL:PT1H
BEGIN:VTIMEZONE
TZID:Europe/Amsterdam
BEGIN:DAYLIGHT
TZOFFSETFROM:+0100
TZOFFSETTO:+0200
TZNAME:CEST
DTSTART:20230326T010000
END:DAYLIGHT
BEGIN:STANDARD
TZOFFSETFROM:+0200
TZOFFSETTO:+0100
TZNAME:CET
DTSTART:20231029T010000
END:STANDARD
END:VTIMEZONE
BEGIN:VEVENT
DTSTART;TZID=Europe/Amsterdam:20230305T113000
DTEND;TZID=Europe/Amsterdam:20230305T123000
DTSTAMP:20260421T071457
CREATED:20230211T113442Z
LAST-MODIFIED:20230211T113442Z
UID:10521-1678015800-1678019400@fonteinwerk.nl
SUMMARY:Fonteindienst - Nederigheid
DESCRIPTION:Nederigheid is jezelf klein maken en God centraal zetten in je leven. God grootmaken en Hem prijzen\, lof toezingen. Kortom; jezelf zo vullen met waarden van God dat het je leven gaat beheersen. \nMaar hoe doe je dat? Bart Visser gaat aan de hand van Mattheus 28:16-20 verder op in. De muziek wordt verzorgd door Joyce van Boven & band. Zij hebben nog niet eerder de muziek in de Fonteindienst verzorgd\, laten we hen warm verwelkomen. Het team heeft er alle vertrouwen in. \nJe bent van harte welkom! Er is kinderdienst en oppas. En na afloop van de dienst is er koffie\, thee en limonade. \nDe Fonteindienst begint om 11.30 uur en is te bekijken via CAI TV kanaal 707 of via de website www.pgharderwijk.nl/live-stream (klik op de foto van de Plantagekerk).
URL:https://fonteinwerk.nl/agenda/fonteindienst-nederigheid/
LOCATION:Plantagekerk Harderwijk\, Stationslaan 136\, Harderwijk\, Gelderland\, 3841 DC\, Nederland
END:VEVENT
END:VCALENDAR