BEGIN:VCALENDAR
VERSION:2.0
PRODID:-//Fonteinwerk - ECPv6.6.4.2//NONSGML v1.0//EN
CALSCALE:GREGORIAN
METHOD:PUBLISH
X-WR-CALNAME:Fonteinwerk
X-ORIGINAL-URL:https://fonteinwerk.nl
X-WR-CALDESC:Evenementen voor Fonteinwerk
REFRESH-INTERVAL;VALUE=DURATION:PT1H
X-Robots-Tag:noindex
X-PUBLISHED-TTL:PT1H
BEGIN:VTIMEZONE
TZID:Europe/Amsterdam
BEGIN:DAYLIGHT
TZOFFSETFROM:+0100
TZOFFSETTO:+0200
TZNAME:CEST
DTSTART:20230326T010000
END:DAYLIGHT
BEGIN:STANDARD
TZOFFSETFROM:+0200
TZOFFSETTO:+0100
TZNAME:CET
DTSTART:20231029T010000
END:STANDARD
END:VTIMEZONE
BEGIN:VEVENT
DTSTART;TZID=Europe/Amsterdam:20230219T113000
DTEND;TZID=Europe/Amsterdam:20230219T123000
DTSTAMP:20260421T085247
CREATED:20230211T100815Z
LAST-MODIFIED:20230211T100815Z
UID:10518-1676806200-1676809800@fonteinwerk.nl
SUMMARY:Fonteindienst – Growing Young
DESCRIPTION:Het thema van vandaag is Growing Young(er). Onze jeugdwerker Lisette Brandsma zal ons meenemen in de boeiende vraag hoe we kerk kunnen zijn voor iedereen. Dat gaat ook om keuzes maken. Durf je je als jongere echt je stem te laten horen\, en als oudere hen te laten weten dat dat welkom is en dat ze gezien worden? \nUiteraard staat deze dienst weer bol van aanbidding onder muzikale begeleiding van Mathilde en Jo-Anne. De dienst gaat over jonger en ouder\, maar is ook echt bedoeld voor iedereen. We hopen op jullie komst\, het belooft een mooie viering te worden. \nNa afloop is er koffie\, thee en limonade. \nDe Fonteindienst begint om 11.30 uur en is te bekijken via CAI TV kanaal 707 of via de website www.pgharderwijk.nl/live-stream (klik op de foto van de Plantagekerk).
URL:https://fonteinwerk.nl/agenda/fonteindienst-growing-young/
LOCATION:Plantagekerk Harderwijk\, Stationslaan 136\, Harderwijk\, Gelderland\, 3841 DC\, Nederland
END:VEVENT
END:VCALENDAR