BEGIN:VCALENDAR
VERSION:2.0
PRODID:-//Fonteinwerk - ECPv6.6.4.2//NONSGML v1.0//EN
CALSCALE:GREGORIAN
METHOD:PUBLISH
X-WR-CALNAME:Fonteinwerk
X-ORIGINAL-URL:https://fonteinwerk.nl
X-WR-CALDESC:Evenementen voor Fonteinwerk
REFRESH-INTERVAL;VALUE=DURATION:PT1H
X-Robots-Tag:noindex
X-PUBLISHED-TTL:PT1H
BEGIN:VTIMEZONE
TZID:Europe/Amsterdam
BEGIN:DAYLIGHT
TZOFFSETFROM:+0100
TZOFFSETTO:+0200
TZNAME:CEST
DTSTART:20230326T010000
END:DAYLIGHT
BEGIN:STANDARD
TZOFFSETFROM:+0200
TZOFFSETTO:+0100
TZNAME:CET
DTSTART:20231029T010000
END:STANDARD
END:VTIMEZONE
BEGIN:VEVENT
DTSTART;TZID=Europe/Amsterdam:20230108T113000
DTEND;TZID=Europe/Amsterdam:20230108T123000
DTSTAMP:20260421T104055
CREATED:20230104T084150Z
LAST-MODIFIED:20230104T084150Z
UID:10409-1673177400-1673181000@fonteinwerk.nl
SUMMARY:Fonteindienst - Ik ben Gods geliefde kind
DESCRIPTION:Welkom in deze dienst waar Rene Visser uit Amsterdam onze spreker is. Rene is voorganger in Amsterdam en het is de eerste keer dat hij spreekt in een Fonteindienst. \n\nHet thema voor deze dienst is: “Ik ben Gods geliefde kind”. We hebben allemaal onze eigen identiteit\, zijn wie we zijn. Maar allemaal zijn we Gods geliefde kind. Hij is onze Vader. God is liefde\, daar mogen we op vertrouwen! Elke dag en bij alles wat we doen!\nDe muziek wordt deze dienst verzorgd door I4U.Voor de kinderen is er kinderdienst en oppas. En na afloop is er koffie\, thee en limonade. Je bent van harte welkom!Deze dienst is ook online te volgen en is te bekijken via CAI TV kanaal 707 of via de website www.pgharderwijk.nl/live-stream(klik op de foto van de Plantagekerk).
URL:https://fonteinwerk.nl/agenda/fonteindienst-ik-ben-gods-geliefde-kind/
LOCATION:Plantagekerk Harderwijk\, Stationslaan 136\, Harderwijk\, Gelderland\, 3841 DC\, Nederland
END:VEVENT
END:VCALENDAR