BEGIN:VCALENDAR
VERSION:2.0
PRODID:-//Fonteinwerk - ECPv6.6.4.2//NONSGML v1.0//EN
CALSCALE:GREGORIAN
METHOD:PUBLISH
X-ORIGINAL-URL:https://fonteinwerk.nl
X-WR-CALDESC:Evenementen voor Fonteinwerk
REFRESH-INTERVAL;VALUE=DURATION:PT1H
X-Robots-Tag:noindex
X-PUBLISHED-TTL:PT1H
BEGIN:VTIMEZONE
TZID:Europe/Amsterdam
BEGIN:DAYLIGHT
TZOFFSETFROM:+0100
TZOFFSETTO:+0200
TZNAME:CEST
DTSTART:20220327T010000
END:DAYLIGHT
BEGIN:STANDARD
TZOFFSETFROM:+0200
TZOFFSETTO:+0100
TZNAME:CET
DTSTART:20221030T010000
END:STANDARD
END:VTIMEZONE
BEGIN:VEVENT
DTSTART;TZID=Europe/Amsterdam:20221211T113000
DTEND;TZID=Europe/Amsterdam:20221211T123000
DTSTAMP:20260421T122143
CREATED:20221124T092335Z
LAST-MODIFIED:20221125T082414Z
UID:10260-1670758200-1670761800@fonteinwerk.nl
SUMMARY:Fonteindienst - Schitteren(d)
DESCRIPTION:Het thema deze dienst is Schitterend(d). Gerard Kansen uit Amersfoort gaat deze dienst voor en het zal gaan over Filippenzen 2:1-5. Een Bijbelgedeelte met veel inhoud en mooie gezichtspunten. Lees het voor de dienst eens een paar keer door. We richten ons op vers 15 waarin de gemeente van Filippi de opdracht mee krijgt God gehoorzaam te blijven volgen ‘opdat u zuiver en smetteloos bent\, onberispelijke kinderen van God te midden van een verdorven en ontaarde generatie\, waartussen u schittert als sterren aan de hemel’.\nDat is nogal een uitspraak. Kunnen we als gemeente van God dit ooit waarmaken? Ziet de wereld ons ook als schitterende sterren? Vragen te over\, nu nog de antwoorden!\nDe muziek wordt verzorgd door Floor & Lois en band. \nJe bent van harte welkom! Er is kinderdienst en oppas\, en na afloop van de dienst is er koffiethee en limonade. \nDe Fonteindienst begint om 11.30 uur en is te bekijken via CAI TV kanaal 707 of via de website www.pgharderwijk.nl/live-stream (klik op de foto van de plantagekerk).
URL:https://fonteinwerk.nl/agenda/fonteindienst-schitterend/
LOCATION:Plantagekerk Harderwijk\, Stationslaan 136\, Harderwijk\, Gelderland\, 3841 DC\, Nederland
END:VEVENT
END:VCALENDAR