BEGIN:VCALENDAR
VERSION:2.0
PRODID:-//Fonteinwerk - ECPv6.6.4.2//NONSGML v1.0//EN
CALSCALE:GREGORIAN
METHOD:PUBLISH
X-WR-CALNAME:Fonteinwerk
X-ORIGINAL-URL:https://fonteinwerk.nl
X-WR-CALDESC:Evenementen voor Fonteinwerk
REFRESH-INTERVAL;VALUE=DURATION:PT1H
X-Robots-Tag:noindex
X-PUBLISHED-TTL:PT1H
BEGIN:VTIMEZONE
TZID:Europe/Amsterdam
BEGIN:DAYLIGHT
TZOFFSETFROM:+0100
TZOFFSETTO:+0200
TZNAME:CEST
DTSTART:20220327T010000
END:DAYLIGHT
BEGIN:STANDARD
TZOFFSETFROM:+0200
TZOFFSETTO:+0100
TZNAME:CET
DTSTART:20221030T010000
END:STANDARD
END:VTIMEZONE
BEGIN:VEVENT
DTSTART;TZID=Europe/Amsterdam:20221204T113000
DTEND;TZID=Europe/Amsterdam:20221204T123000
DTSTAMP:20260421T121537
CREATED:20221113T134901Z
LAST-MODIFIED:20221125T082520Z
UID:10224-1670153400-1670157000@fonteinwerk.nl
SUMMARY:Fonteindienst - Solar
DESCRIPTION:Durk Muurling zal deze dienst voorgaan met als thema Solar. Je hebt vast wel eens van die lampen of panelen gezien\, die zich opladen middels zonlicht. Ze kunnen ook dienend zijn in een preek als gelijkenis\, want aan de hand van het Bijbelboek Openbaringen zal Durk ons meer duidelijk maken over Gods karakter en hoe dat van invloed kan zijn op ons\, ook in de donkerte van het leven. Nieuwsgierig? Je bent van harte welkom! \n\nDe muziek wordt verzorgd door Embrace. \nDeze ene keer is er voor de kinderen geen kinderdienst en oppas. Na afloop van de dienst is er koffie\, thee en limonade. \nDe Fonteindienst begint om 11.30 uur en is te bekijken via CAI TV kanaal 707 of via de website www.pgharderwijk.nl/live-stream (klik op de foto van de plantagekerk).
URL:https://fonteinwerk.nl/agenda/fonteindienst-solar/
LOCATION:Gelderland
END:VEVENT
END:VCALENDAR